BEGIN:VCALENDAR
VERSION:2.0
PRODID:-//Comic Quest - ECPv6.15.20//NONSGML v1.0//EN
CALSCALE:GREGORIAN
METHOD:PUBLISH
X-WR-CALNAME:Comic Quest
X-ORIGINAL-URL:https://comicquest.org
X-WR-CALDESC:Events for Comic Quest
REFRESH-INTERVAL;VALUE=DURATION:PT1H
X-Robots-Tag:noindex
X-PUBLISHED-TTL:PT1H
BEGIN:VTIMEZONE
TZID:Asia/Shanghai
BEGIN:STANDARD
TZOFFSETFROM:+0800
TZOFFSETTO:+0800
TZNAME:CST
DTSTART:20250101T000000
END:STANDARD
END:VTIMEZONE
BEGIN:VTIMEZONE
TZID:America/Los_Angeles
BEGIN:DAYLIGHT
TZOFFSETFROM:-0800
TZOFFSETTO:-0700
TZNAME:PDT
DTSTART:20250309T100000
END:DAYLIGHT
BEGIN:STANDARD
TZOFFSETFROM:-0700
TZOFFSETTO:-0800
TZNAME:PST
DTSTART:20251102T090000
END:STANDARD
BEGIN:DAYLIGHT
TZOFFSETFROM:-0800
TZOFFSETTO:-0700
TZNAME:PDT
DTSTART:20260308T100000
END:DAYLIGHT
BEGIN:STANDARD
TZOFFSETFROM:-0700
TZOFFSETTO:-0800
TZNAME:PST
DTSTART:20261101T090000
END:STANDARD
BEGIN:DAYLIGHT
TZOFFSETFROM:-0800
TZOFFSETTO:-0700
TZNAME:PDT
DTSTART:20270314T100000
END:DAYLIGHT
BEGIN:STANDARD
TZOFFSETFROM:-0700
TZOFFSETTO:-0800
TZNAME:PST
DTSTART:20271107T090000
END:STANDARD
END:VTIMEZONE
BEGIN:VEVENT
DTSTART;VALUE=DATE:20260418
DTEND;VALUE=DATE:20260419
DTSTAMP:20260423T113119
CREATED:20260414T051430Z
LAST-MODIFIED:20260414T051523Z
UID:10003163-1776470400-1776556799@comicquest.org
SUMMARY:Superman Day
DESCRIPTION:Special Books to be offered on Superman Day\nSuperman Day will be celebrated at comic shops everywhere on April 18 \nFREE Comics: \nSUPERMAN DAY 2026 – DC FINEST PRESENTS SUPERMAN: TIME AND TIME AGAIN #1 \nSUPERMAN DAY 2026 – SUPERGIRL #1 \nSUPERMAN DAY 2026 – SUPERGIRL THE WORLD \nSUPERMAN DAY 2026 – SUPERGIRL WOMAN OF TOMORROW #1 CVR A GERALD PAREL \nSUPERMAN DAY 2026 – SUPERMAN #1 \nSUPERMAN DAY 2026 – SUPERGIRLS ZOO-PER HEROES KRYPTOS BIG BREAK #1 \n\n\n  \nSpecial Edition for puchasing: \nSUPERMAN DAY 2026 – SUPERGIRL WOMAN OF TOMORROW #1 CVR B GERALD PAREL FOIL VAR \nSUPERMAN DAY 2026 – SUPERGIRL WOMAN OF TOMORROW #1 CVR C BLANK CARD STOCK VAR \nSUPERMAN DAY 2026 – ACTION COMICS #1 FACSIMILE EDITION (2026) \nSUPERMAN DAY 2026 – ACTION COMICS #252 FACSIMILE EDITION \nSUPERMAN DAY 2026 – ALL STAR SUPERMAN THE DELUXE EDITION HC VARIANT \nSUPERMAN DAY 2026 – SUPERGIRL WOMAN OF TOMORROW THE DELUXE EDITION HC VARIANT \n\n 
URL:https://comicquest.org/event/superman-day-2-2/
LOCATION:Comic Quest\, 23811 Bridger #111 CA 92630\, Lake Forest\, CA\, 92630\, United States
CATEGORIES:Event
ATTACH;FMTTYPE=image/png:https://comicquest.org/wp-content/uploads/2025/04/superman-day-2025-1.png
END:VEVENT
BEGIN:VEVENT
DTSTART;TZID=Asia/Shanghai:20260418T120000
DTEND;TZID=Asia/Shanghai:20260418T130000
DTSTAMP:20260423T113119
CREATED:20260323T035504Z
LAST-MODIFIED:20260327T183934Z
UID:10004300-1776513600-1776517200@comicquest.org
SUMMARY:Book Club - Assorted Crisis Events
DESCRIPTION:Each month we select a notable graphic novel for the book club.  It is 25% Off to everyone all month.  At the end of the month we meet to discuss. \nThis month’s selection is \nAssorted Crisis Events \nby Deniz Camp (Author)\, Eric Zawadzki (Illustrator) \nMeeting to discuss April 18  Noon. \nAn action-packed sci-fi anthology series following normal people navigating an alternate world where time is having a crisis\, and just stepping outside your door can send you on an unexpected adventure.\nTime is having a crisis.\nMingling in the red-light district\, you can find actual cavemen\, medieval knights\, and cyborg soldiers on leave from World War IV. Victorian debutantes amble their way into cell phone stores\, confused and bewildered (what is a data plan?). On their way to work\, bleary-eyed commuters get trapped in time-loops\, assaulted by alternate-reality versions of themselves\, and try to avoid post-apocalyptic wastelands. And LOOK: the 3:15 bus just took a wrong turn…into the neolithic era. \n\n\n\n\nPAST SELECTIONS: \n6/4/11 Morning Glories \n7/9/11 Irredeemable \n8/6/11 Chew \n9/10/11 Batwoman: Elegy \n10/8/11 Fables 1 Legends in Exile \n11/5/11 Marvel Zombies 1 \n12/3/11 Green Hornet: Sins of our Fathers 1 \n2/11/12 Sandman 1: Preludes & Nocturnes \n3/3/12  The New Teen Titans: Games \n4/12/12 Return of the Dapper Men \n6/2/12  Asterios Polyp \n8/22/12  Watchmen \n10/12/12 Locke & Key 1 \n12/12/12 Christmas Carole \n2/13/13 Invincible \n4/13/13 Building Stories \n6/18/13 Prophet \n8/3/13 Young Inhumans \n9/16/13 Midnight Nation \n10/13/13 Hawkeye: 1 My life as a weapon \n12/28/13  Blacksad \n2/12/14 Porcelain \n3/29/14 Saga 1 \n5/17/14 Fatale 1 \n6/25/14 The Property \n8/2/14 Good Dog \n9/3/14 Trillium \n10/1/14 Rat Queens \n11/8/14 WinterWorld \n12/5/14 Black Widow 1 \n1/10/15 Astro City: Life in the Big City \n2/28/15 Beautiful Darkness \n3/28/15 Seconds \n4/25/15 The Wake \n5/24/15 Here \n6/27/15 This One Summer \n7/25/15 Gigantic Beard That Was Evil \n9/5/15 The Wicked and the Divine \n10/3/15 Black Science: 1 \n11/7/15 Wytches \n12/5/15 Nimona \n1/30/16 Jessica Jones: AKA Alias \n3/5/16 Supermutant Magic Academy \n4/19/16 Private Eye \n5/14/16 Southern Bastard \n6/11/16 Lady Killer \n7/16/16 Long Walk to Valhalla \n8/13/16 Monstress \n9/10/16 Paper Girls \n10/15/16 Panther \n11/12/16 Afterlife with Archie \n12/10/16 Ruins \n1/7/17 Klaus \n2/17/17 Mooncop \n4/1/17 Sheriff of Babylon \n5/13/17 Vision: 1 \n6/27/17 Eartha \n7/29/17 Lennon \n8/26/17 Wonder Woman: A True Amazon \n9/30/17  Patience \n10/28/17 Halloween Tales \n11/25/17 My Favorite Things is Monsters \n1/6/18 Daytripper \n2/10/18 Snotgirl: Green Hair Don’t Care \n3/17/18 Black Panther \n4/7/18 Niourk \n5/12/18 Killing & Dying \n6/9/18 Infinity Gauntlet \n7/14/18 Black Hammer \n8/11/18 Boundless \n9/8/18 I Kill Giants \n10/20/18 Rome West \n12/1/18 Dark Nights Metal \n12/29/18 Skyward \n2/2/19 Roughneck \n3/2/19 Upgrade Soul \n4/6/19 WaterSnakes \n5/11/19 The Lie and How We Told It \n6/8/19 Mister Miracle \n7/13/19 Immortal Hulk \n8/10/19 Come Again \n9/14/19 My Heroes Have Always Been Junkies \n10/5/19 Batman White Knight \n11/2/19 Bone Parish 1 & 2 \n12/14/19 Exit Stage Left \n1/4/20 Heroes in Crisis \n2/1/20 Sabrina \n3/7/20 Green Lantern: Intergalactic Lawman \n4/18/20 Star Trek Next Generation Mirror Broken \n6/13/20 DIE \n7/11/20 Something is Killing the Children \n8/8/20 Once & Future \n9/12/20 Freedom Fighters \n10/10/20 Are you Listening? \n11/14/20 Uzamaki \n12/12/20 Cats of the Louvre \n1/4/21 4 Kids Walk Into a Bank \n2/13/21 The House \n3/13/21 Dracula MotherF**cker \n4/10/21 Superman’s Pal Jimmy Olsen \n5/8/21 Dead Day \n6/18/21 Rogue Planet \n7/10/21 We Only Find Them When They Are Dead \n8/7/21 Eight-Lane Runaways \n9/11/21 Resistance \n10/9/21 Pulp \n11/13/21 Basketful of Heads \n12/11/21 Department of Truth \n1/8/22 Last Stand of the Tin Can Sailors \n2/19/22 Stray Dogs \n3/12/22 Graveneye \n4/9/22 Oksi \n5/14/22 Carthago \n6/11/22 I want to eat your pancreas \n7/9/22 Bubble \n8/13/22 Ballad of Sophie \n9/10/22  In. \n10/8/22 Destroy All Monsters \n11/12/22 You Died an Anthology of the Afterlife \n12/10/22 Monsters \n1/14/23 Goblin Girl \n2/11/23 Fantastic Four Full Circle \n3/11/23 Ducks \n4/8/23 Radiant Black \n5/13/23 Nice House on the Lake \n6/10/23 TMNT – Last Ronin \n7/8/23 Catwoman Lonely City \n8/12/23 Rain \n9/9/23 Chivalry \n10/14 /23 Always Never \n11/11/23 Swamp Thing Green Hell \n12/16/23 Monica \n1/13/24 Eight Billion Genies \n2/10/24 Aquaman: Andromeda \n3/9/24 Do A Powerbomb \n4/13/24 Wonder Woman Historia \n5/11/24 Shubeik Lubeik \n6/8/24 Godzilla Here Be Dragons \n7/13/24 Ashes \n8/10/24 Eden II \n9/14/24 Supergirl Woman of Tomorrow \n10/12/24 Houses of the Unholy \n11/9/24 Beneath the Trees Where Nobody Sees \n12/14/24 Somna \n1/11/25 Batman – Santa Claus: Silent Knight \n2/8/25 Dawnrunner \n3/15/25 Power Fantasy \n4/12/25 One Hand Six Fingers \n5/10/25 Universal Monsters Frankenstein \n6/14/25 In Utero \n7/12/25 Sunday \n8/16/25 Helen of Wyndhorn \n9/13/25 Zatanna Bring Down The House \n10/18/25  Feeding Ghosts \n11/8/25 Paranoid Gardens \n12/6/25 Snow Angels \n1/10/26 Animal Pound \n2/14/26 Bug Wars \n3/21/26 Spectators \n4/18/26 Assorted Crisis Events
URL:https://comicquest.org/event/book-club-assorted-crisis-events/
LOCATION:Comic Quest\, 23811 Bridger #111 CA 92630\, Lake Forest\, CA\, 92630\, United States
CATEGORIES:Book Club,Event
ATTACH;FMTTYPE=image/jpeg:https://comicquest.org/wp-content/uploads/2023/03/bookclub.jpg
END:VEVENT
BEGIN:VEVENT
DTSTART;TZID=Asia/Shanghai:20260418T120000
DTEND;TZID=Asia/Shanghai:20260418T130000
DTSTAMP:20260423T113119
CREATED:20260419T160121Z
LAST-MODIFIED:20260419T160144Z
UID:10004309-1776513600-1776517200@comicquest.org
SUMMARY:Book Club - Mickey Mouse and the Amazing Lost Ocean
DESCRIPTION:Each month we select a notable graphic novel for the book club.  It is 25% Off to everyone all month.  At the end of the month we meet to discuss. \nThis month’s selection is \nMickey Mouse and the Amazing Lost Ocean \nby Denis-Pierre Filippi (Author)\, Silvio Camboni (Illustrator) \nMeeting to discuss May 16  Noon. \nIn a dystopian future located in a parallel reality\, scavengers rule the Earth: pals like Mickey and Goofy are salvaging rare fuel from the seafloor\, and rogues like Peg Leg Pete are fighting to get it first! One day the realm is rocked by the arrival of a strange stone cube with untold powers. Brilliant Dr. Einmug wants it\, but so does Pete’s genius cousin Portis. Can Mickey reach the cube before it makes the ocean itself fly to the sky… and takes control of our heroes’ world next? \nThe European writer/artist team of Denis-Pierre Filippi and Silvio Camboni present an incredible new Mickey Mouse graphic novel adventure ― at once reflecting the Golden Age of comics past\, and illustrating incredible steampunk sights like no Disney fan has seen before! \n\n\n\n\nPAST SELECTIONS: \n6/4/11 Morning Glories \n7/9/11 Irredeemable \n8/6/11 Chew \n9/10/11 Batwoman: Elegy \n10/8/11 Fables 1 Legends in Exile \n11/5/11 Marvel Zombies 1 \n12/3/11 Green Hornet: Sins of our Fathers 1 \n2/11/12 Sandman 1: Preludes & Nocturnes \n3/3/12  The New Teen Titans: Games \n4/12/12 Return of the Dapper Men \n6/2/12  Asterios Polyp \n8/22/12  Watchmen \n10/12/12 Locke & Key 1 \n12/12/12 Christmas Carole \n2/13/13 Invincible \n4/13/13 Building Stories \n6/18/13 Prophet \n8/3/13 Young Inhumans \n9/16/13 Midnight Nation \n10/13/13 Hawkeye: 1 My life as a weapon \n12/28/13  Blacksad \n2/12/14 Porcelain \n3/29/14 Saga 1 \n5/17/14 Fatale 1 \n6/25/14 The Property \n8/2/14 Good Dog \n9/3/14 Trillium \n10/1/14 Rat Queens \n11/8/14 WinterWorld \n12/5/14 Black Widow 1 \n1/10/15 Astro City: Life in the Big City \n2/28/15 Beautiful Darkness \n3/28/15 Seconds \n4/25/15 The Wake \n5/24/15 Here \n6/27/15 This One Summer \n7/25/15 Gigantic Beard That Was Evil \n9/5/15 The Wicked and the Divine \n10/3/15 Black Science: 1 \n11/7/15 Wytches \n12/5/15 Nimona \n1/30/16 Jessica Jones: AKA Alias \n3/5/16 Supermutant Magic Academy \n4/19/16 Private Eye \n5/14/16 Southern Bastard \n6/11/16 Lady Killer \n7/16/16 Long Walk to Valhalla \n8/13/16 Monstress \n9/10/16 Paper Girls \n10/15/16 Panther \n11/12/16 Afterlife with Archie \n12/10/16 Ruins \n1/7/17 Klaus \n2/17/17 Mooncop \n4/1/17 Sheriff of Babylon \n5/13/17 Vision: 1 \n6/27/17 Eartha \n7/29/17 Lennon \n8/26/17 Wonder Woman: A True Amazon \n9/30/17  Patience \n10/28/17 Halloween Tales \n11/25/17 My Favorite Things is Monsters \n1/6/18 Daytripper \n2/10/18 Snotgirl: Green Hair Don’t Care \n3/17/18 Black Panther \n4/7/18 Niourk \n5/12/18 Killing & Dying \n6/9/18 Infinity Gauntlet \n7/14/18 Black Hammer \n8/11/18 Boundless \n9/8/18 I Kill Giants \n10/20/18 Rome West \n12/1/18 Dark Nights Metal \n12/29/18 Skyward \n2/2/19 Roughneck \n3/2/19 Upgrade Soul \n4/6/19 WaterSnakes \n5/11/19 The Lie and How We Told It \n6/8/19 Mister Miracle \n7/13/19 Immortal Hulk \n8/10/19 Come Again \n9/14/19 My Heroes Have Always Been Junkies \n10/5/19 Batman White Knight \n11/2/19 Bone Parish 1 & 2 \n12/14/19 Exit Stage Left \n1/4/20 Heroes in Crisis \n2/1/20 Sabrina \n3/7/20 Green Lantern: Intergalactic Lawman \n4/18/20 Star Trek Next Generation Mirror Broken \n6/13/20 DIE \n7/11/20 Something is Killing the Children \n8/8/20 Once & Future \n9/12/20 Freedom Fighters \n10/10/20 Are you Listening? \n11/14/20 Uzamaki \n12/12/20 Cats of the Louvre \n1/4/21 4 Kids Walk Into a Bank \n2/13/21 The House \n3/13/21 Dracula MotherF**cker \n4/10/21 Superman’s Pal Jimmy Olsen \n5/8/21 Dead Day \n6/18/21 Rogue Planet \n7/10/21 We Only Find Them When They Are Dead \n8/7/21 Eight-Lane Runaways \n9/11/21 Resistance \n10/9/21 Pulp \n11/13/21 Basketful of Heads \n12/11/21 Department of Truth \n1/8/22 Last Stand of the Tin Can Sailors \n2/19/22 Stray Dogs \n3/12/22 Graveneye \n4/9/22 Oksi \n5/14/22 Carthago \n6/11/22 I want to eat your pancreas \n7/9/22 Bubble \n8/13/22 Ballad of Sophie \n9/10/22  In. \n10/8/22 Destroy All Monsters \n11/12/22 You Died an Anthology of the Afterlife \n12/10/22 Monsters \n1/14/23 Goblin Girl \n2/11/23 Fantastic Four Full Circle \n3/11/23 Ducks \n4/8/23 Radiant Black \n5/13/23 Nice House on the Lake \n6/10/23 TMNT – Last Ronin \n7/8/23 Catwoman Lonely City \n8/12/23 Rain \n9/9/23 Chivalry \n10/14 /23 Always Never \n11/11/23 Swamp Thing Green Hell \n12/16/23 Monica \n1/13/24 Eight Billion Genies \n2/10/24 Aquaman: Andromeda \n3/9/24 Do A Powerbomb \n4/13/24 Wonder Woman Historia \n5/11/24 Shubeik Lubeik \n6/8/24 Godzilla Here Be Dragons \n7/13/24 Ashes \n8/10/24 Eden II \n9/14/24 Supergirl Woman of Tomorrow \n10/12/24 Houses of the Unholy \n11/9/24 Beneath the Trees Where Nobody Sees \n12/14/24 Somna \n1/11/25 Batman – Santa Claus: Silent Knight \n2/8/25 Dawnrunner \n3/15/25 Power Fantasy \n4/12/25 One Hand Six Fingers \n5/10/25 Universal Monsters Frankenstein \n6/14/25 In Utero \n7/12/25 Sunday \n8/16/25 Helen of Wyndhorn \n9/13/25 Zatanna Bring Down The House \n10/18/25  Feeding Ghosts \n11/8/25 Paranoid Gardens \n12/6/25 Snow Angels \n1/10/26 Animal Pound \n2/14/26 Bug Wars \n3/21/26 Spectators \n4/18/26 Assorted Crisis Events \n5/16/26 Mickey Mouse and the Amazing Lost Ocean
URL:https://comicquest.org/event/book-club-mickey-mouse-and-the-amazing-lost-ocean/
LOCATION:Comic Quest\, 23811 Bridger #111 CA 92630\, Lake Forest\, CA\, 92630\, United States
CATEGORIES:Book Club,Event
ATTACH;FMTTYPE=image/jpeg:https://comicquest.org/wp-content/uploads/2023/03/bookclub.jpg
END:VEVENT
BEGIN:VEVENT
DTSTART;TZID=America/Los_Angeles:20260418T120000
DTEND;TZID=America/Los_Angeles:20260418T170000
DTSTAMP:20260423T113119
CREATED:20260211T035014Z
LAST-MODIFIED:20260414T153503Z
UID:10004240-1776513600-1776531600@comicquest.org
SUMMARY:Magic Prerelease - Secrets of Strixhaven
DESCRIPTION:Prerelease is your first opportunity to get your hands on the newest Magic: The Gathering release and explore what the set has to offer\, and Prerelease Packs are the perfect product to fuel the first events of this new set. \n\n\n\n\n\nMagic the Gathering:  Secrets of Strixhaven \nPreRelease Events April 17 Fri\, April 18 Sat & April 19 Sun.  Fri: 6:00pm. Sat/Sun 12:00pm. \nSign ups TBA \n\nFriday PreRelease Event = 2HG format (Two Headed Giant). Sign up & Play with a Partner!\nSat/Sun PreRelease Event= Regular Sealed event.\nAll events use the PreRelease Kit\n\nAll Product available starting at PreRelease.. \n$37.99 \nSecrets of Strixhaven returns to the elite Arcavios mage school\, focusing on continued studies\, deeper dangers\, and the five colleges. Following student journeys\, it features a Mystical Archive update and new mechanics like “Prepare\,” highlighting adventures\, research\, and conflicts beyond the campus walls.
URL:https://comicquest.org/event/magic-prerelease-secrets-of-strixhaven-2/
LOCATION:Comic Quest\, 23811 Bridger #111 CA 92630\, Lake Forest\, CA\, 92630\, United States
CATEGORIES:Event,Magic,Tournament
ATTACH;FMTTYPE=image/jpeg:https://comicquest.org/wp-content/uploads/2023/03/magic_prerelease.jpg
END:VEVENT
END:VCALENDAR