BEGIN:VCALENDAR
VERSION:2.0
PRODID:-//Comic Quest - ECPv6.15.20//NONSGML v1.0//EN
CALSCALE:GREGORIAN
METHOD:PUBLISH
X-ORIGINAL-URL:https://comicquest.org
X-WR-CALDESC:Events for Comic Quest
REFRESH-INTERVAL;VALUE=DURATION:PT1H
X-Robots-Tag:noindex
X-PUBLISHED-TTL:PT1H
BEGIN:VTIMEZONE
TZID:Asia/Shanghai
BEGIN:STANDARD
TZOFFSETFROM:+0800
TZOFFSETTO:+0800
TZNAME:CST
DTSTART:20250101T000000
END:STANDARD
END:VTIMEZONE
BEGIN:VEVENT
DTSTART;VALUE=DATE:20260509
DTEND;VALUE=DATE:20260510
DTSTAMP:20260423T124940
CREATED:20250808T000545Z
LAST-MODIFIED:20250808T000545Z
UID:10003194-1778284800-1778371199@comicquest.org
SUMMARY:Goku Day
DESCRIPTION:Japan Anniversary Association declared May 9 to be “Goku Day” because the numbers 5 and 9 can be pronounced as “go” and “ku\,
URL:https://comicquest.org/event/goku-day-4/2026-05-09/
LOCATION:Comic Quest\, 23811 Bridger #111 CA 92630\, Lake Forest\, CA\, 92630\, United States
CATEGORIES:Event
ATTACH;FMTTYPE=image/jpeg:https://comicquest.org/wp-content/uploads/2023/07/go_ku_day.jpeg
END:VEVENT
BEGIN:VEVENT
DTSTART;TZID=Asia/Shanghai:20260509T100000
DTEND;TZID=Asia/Shanghai:20260509T150000
DTSTAMP:20260423T124940
CREATED:20260328T214006Z
LAST-MODIFIED:20260419T235555Z
UID:10004301-1778320800-1778338800@comicquest.org
SUMMARY:Lorcana New Set 12 - PreRelease Event- Wilds Unknown Event #1
DESCRIPTION:WILDS UNKNOWN \nLorcana New Set 12 – PreRelease Event (Sealed Format) \n\nStarting with this set — PreRelease Events will now have a Prepackaged PreRelease Kit!!! Yahoo\n\nPreRelease event Saturday May 9. & Tuesday May 12 \nFLGS early release Friday May 8.\n\nEntry Fee = TBA\nPreRelease Kits!!!\nplus any applicable promos.\nAdditional pack prizing TBA & based on number of players\n* PreRelease Sign-ups TBA  in store.\n\nSaturday May 9 Schedule:\n10:00am check in.\n10:15am deck building.\n11:00am round 1.\n3 to 4 Rounds. Bo3\n\nTuesday May 12 Schedule:\n6:00pm check in\n6:15pm deck building\n7:00pm Round 1\n3 Rounds\, B03\n\n**Entry fee and more details TBA.\nPreRelease Event — PreRelease Kits!!!! \n40 card minimum deck. Must use cards received in PreRelease Kit. No color limit. No specific card limit.\n**Sign up in Store — PrePay signups required.
URL:https://comicquest.org/event/lorcana-new-set-12-prerelease-event-wilds-unknown/
LOCATION:Comic Quest\, 23811 Bridger #111 CA 92630\, Lake Forest\, CA\, 92630\, United States
CATEGORIES:Event
ATTACH;FMTTYPE=image/jpeg:https://comicquest.org/wp-content/uploads/2023/04/loracana.jpg
END:VEVENT
END:VCALENDAR