BEGIN:VCALENDAR
VERSION:2.0
PRODID:-//Comic Quest - ECPv6.15.20//NONSGML v1.0//EN
CALSCALE:GREGORIAN
METHOD:PUBLISH
X-WR-CALNAME:Comic Quest
X-ORIGINAL-URL:https://comicquest.org
X-WR-CALDESC:Events for Comic Quest
REFRESH-INTERVAL;VALUE=DURATION:PT1H
X-Robots-Tag:noindex
X-PUBLISHED-TTL:PT1H
BEGIN:VTIMEZONE
TZID:UTC
BEGIN:STANDARD
TZOFFSETFROM:+0000
TZOFFSETTO:+0000
TZNAME:UTC
DTSTART:20250101T000000
END:STANDARD
END:VTIMEZONE
BEGIN:VEVENT
DTSTART;TZID=UTC:20260524T093000
DTEND;TZID=UTC:20260524T183000
DTSTAMP:20260423T125440
CREATED:20260124T212101Z
LAST-MODIFIED:20260419T231621Z
UID:10004225-1779615000-1779647400@comicquest.org
SUMMARY:Star Wars Legion Tournament (Casual)
DESCRIPTION:Star Wars Legion Casual Tourney  \nSUNDAY May 24 \n3 rounds of Legion with traditional 1000 point armies. \n$10 Dollar Entry fee for prize support. \nSign-Up: Longshanks: \n**Questions and details refer to our CQ Discord or Facebook group Comic Quest Star Wars Legion (links below) \nSCHEDULE \nCheck In 9:30 am- 9:45 am (15 Minute) \nRound 1 9:50 am- 12:20 pm (2 Hour\, 30 Min) \nLunch 12:20pm- 1pm (40 Min) \nRound 2 1:05pm- 3:35pm (2 Hour\, 30 Min) \nRound 3 3:40pm- 6pm (2 Hour\, 30 Min) \nJoin our Discord server – scroll down to the Star Wars Legion category: https://discord.gg/rZ4UEjSn \n  \n  \n  \n 
URL:https://comicquest.org/event/star-wars-legion-tournament-casual-6/
LOCATION:Comic Quest\, 23811 Bridger #111 CA 92630\, Lake Forest\, CA\, 92630\, United States
CATEGORIES:Event,Star Wars Legion,Tournament
ATTACH;FMTTYPE=image/png:https://comicquest.org/wp-content/uploads/2023/03/star_wars_legion_image.png
END:VEVENT
END:VCALENDAR