BEGIN:VCALENDAR
VERSION:2.0
PRODID:-//Comic Quest - ECPv6.15.20//NONSGML v1.0//EN
CALSCALE:GREGORIAN
METHOD:PUBLISH
X-ORIGINAL-URL:https://comicquest.org
X-WR-CALDESC:Events for Comic Quest
REFRESH-INTERVAL;VALUE=DURATION:PT1H
X-Robots-Tag:noindex
X-PUBLISHED-TTL:PT1H
BEGIN:VTIMEZONE
TZID:Asia/Shanghai
BEGIN:STANDARD
TZOFFSETFROM:+0800
TZOFFSETTO:+0800
TZNAME:CST
DTSTART:20250101T000000
END:STANDARD
END:VTIMEZONE
BEGIN:VEVENT
DTSTART;VALUE=DATE:20260608
DTEND;VALUE=DATE:20260609
DTSTAMP:20260423T141905
CREATED:20250808T061704Z
LAST-MODIFIED:20250808T061704Z
UID:10003244-1780876800-1780963199@comicquest.org
SUMMARY:Ghostbusters Day
DESCRIPTION:The original “Ghostbusters” movie premiered on June 8\, 1984.  \n 
URL:https://comicquest.org/event/ghostbusters-day-4/2026-06-08/
LOCATION:Comic Quest\, 23811 Bridger #111 CA 92630\, Lake Forest\, CA\, 92630\, United States
CATEGORIES:Event
ATTACH;FMTTYPE=image/jpeg:https://comicquest.org/wp-content/uploads/2023/03/Ghostbusters-Day-Logo.jpg
END:VEVENT
BEGIN:VEVENT
DTSTART;TZID=Asia/Shanghai:20260608T180000
DTEND;TZID=Asia/Shanghai:20260608T210000
DTSTAMP:20260423T141905
CREATED:20251125T012317Z
LAST-MODIFIED:20251125T012318Z
UID:10001886-1780941600-1780952400@comicquest.org
SUMMARY:Card Game TCG Night (SWU & Gundam & Riftbound)
DESCRIPTION:Card Game TCG Night \n\nWEEKLY Card Game TCG at COMIC QUEST.\nMondays – 6pm to 9pm.\n\nConstructed – bring your own deck!\n\n\nStar Wars Unlimited\nGundam TCG – Best of 1\, 3 to 4 rounds\nRiftbound TCG – Best of 3\, 3 to 4 rounds\n\n\n\n\n*Join our Discord for updates \n\n\n  \n 
URL:https://comicquest.org/event/card-game-tcg-night-swu-gundam-3-2/2026-06-08/
LOCATION:Comic Quest\, 23811 Bridger #111 CA 92630\, Lake Forest\, CA\, 92630\, United States
CATEGORIES:Event,Lorcana
ATTACH;FMTTYPE=image/png:https://comicquest.org/wp-content/uploads/2025/07/monday-madness2.png
END:VEVENT
END:VCALENDAR