BEGIN:VCALENDAR
VERSION:2.0
PRODID:-//Comic Quest - ECPv6.15.20//NONSGML v1.0//EN
CALSCALE:GREGORIAN
METHOD:PUBLISH
X-WR-CALNAME:Comic Quest
X-ORIGINAL-URL:https://comicquest.org
X-WR-CALDESC:Events for Comic Quest
REFRESH-INTERVAL;VALUE=DURATION:PT1H
X-Robots-Tag:noindex
X-PUBLISHED-TTL:PT1H
BEGIN:VTIMEZONE
TZID:UTC
BEGIN:STANDARD
TZOFFSETFROM:+0000
TZOFFSETTO:+0000
TZNAME:UTC
DTSTART:20230101T000000
END:STANDARD
END:VTIMEZONE
BEGIN:VEVENT
DTSTART;VALUE=DATE:20240505
DTEND;VALUE=DATE:20240506
DTSTAMP:20260425T062042
CREATED:20240305T212941Z
LAST-MODIFIED:20240430T043629Z
UID:10000850-1714867200-1714953599@comicquest.org
SUMMARY:Conquest - Tournament
DESCRIPTION:Conquest Tournament \nSunday May 5th.  10:30 AM \n$10 Entry Fee \n2000 Points using 2.0 Ruleset \nNo Painting Requirement\, Official Released Models Only \nFormat: 3 Rounds\, Ranked\, Scenarios: Melee\, Maelstrom\, and Echelon \nPara Bellum Prize Support & Aghm Points! \nhttps://www.longshanks.org/event/14908/ \n.
URL:https://comicquest.org/event/conquest-tournament/
LOCATION:Comic Quest\, 23811 Bridger #111 CA 92630\, Lake Forest\, CA\, 92630\, United States
CATEGORIES:Conquest,Event,Tournament
ATTACH;FMTTYPE=image/webp:https://comicquest.org/wp-content/uploads/2024/03/conquest_logo.webp
END:VEVENT
END:VCALENDAR