BEGIN:VCALENDAR
VERSION:2.0
PRODID:-//Comic Quest - ECPv6.15.20//NONSGML v1.0//EN
CALSCALE:GREGORIAN
METHOD:PUBLISH
X-ORIGINAL-URL:https://comicquest.org
X-WR-CALDESC:Events for Comic Quest
REFRESH-INTERVAL;VALUE=DURATION:PT1H
X-Robots-Tag:noindex
X-PUBLISHED-TTL:PT1H
BEGIN:VTIMEZONE
TZID:UTC
BEGIN:STANDARD
TZOFFSETFROM:+0000
TZOFFSETTO:+0000
TZNAME:UTC
DTSTART:20230101T000000
END:STANDARD
END:VTIMEZONE
BEGIN:VEVENT
DTSTART;VALUE=DATE:20241222
DTEND;VALUE=DATE:20241223
DTSTAMP:20260424T124232
CREATED:20241217T183227Z
LAST-MODIFIED:20241217T183423Z
UID:10001418-1734825600-1734911999@comicquest.org
SUMMARY:Board Game Day
DESCRIPTION:  \n \n \n  \nBoardgame meetup \nIn partnership with the meetup group: \nAll Aboard Games \nEvent sign up: \nhttps://www.meetup.com/all-aboard-games-oc/events/302713775/?recId=312c3ffd-e0ee-4dec-b5df-47e882e96710&recSource=keyword_search&searchId=434765c9-ee30-4243-b007-49f7e29fb0db&eventOrigin=find_page$all
URL:https://comicquest.org/event/board-game-day-2/
LOCATION:Comic Quest\, 23811 Bridger #111 CA 92630\, Lake Forest\, CA\, 92630\, United States
CATEGORIES:Board Games,Event
ATTACH;FMTTYPE=image/png:https://comicquest.org/wp-content/uploads/2024/01/board_games_logo.png
END:VEVENT
END:VCALENDAR