BEGIN:VCALENDAR
VERSION:2.0
PRODID:-//Comic Quest - ECPv6.15.20//NONSGML v1.0//EN
CALSCALE:GREGORIAN
METHOD:PUBLISH
X-ORIGINAL-URL:https://comicquest.org
X-WR-CALDESC:Events for Comic Quest
REFRESH-INTERVAL;VALUE=DURATION:PT1H
X-Robots-Tag:noindex
X-PUBLISHED-TTL:PT1H
BEGIN:VTIMEZONE
TZID:Asia/Shanghai
BEGIN:STANDARD
TZOFFSETFROM:+0800
TZOFFSETTO:+0800
TZNAME:CST
DTSTART:20240101T000000
END:STANDARD
END:VTIMEZONE
BEGIN:VTIMEZONE
TZID:UTC
BEGIN:STANDARD
TZOFFSETFROM:+0000
TZOFFSETTO:+0000
TZNAME:UTC
DTSTART:20240101T000000
END:STANDARD
END:VTIMEZONE
BEGIN:VEVENT
DTSTART;TZID=Asia/Shanghai:20250118T110000
DTEND;TZID=Asia/Shanghai:20250118T140000
DTSTAMP:20260424T083443
CREATED:20250115T030837Z
LAST-MODIFIED:20250115T030837Z
UID:10001455-1737198000-1737208800@comicquest.org
SUMMARY:Board Game Demo - Things In Rings
DESCRIPTION:FREE Board Game Demo: Things In Rings \nSaturday Jan 18 11am – 2pm \nComic Quest is providing FREE demos of a fun board game. Learn in a couple of minutes\, it might be your next favorite game. \nAlso\, a discount on the game! \nIn the center of the table\, place the Rings and form a triple Venn diagram. Designate one player to be “The Knower.” The Knower knows the different logic rules for each Ring and will facilitate the game. All other players start with a hand of five object cards. \nDepending on the Ring\, the logic rules will be related to different characteristics\, like spelling\, grammar\, physical properties\, cultural relevance\, or industry. \nOn your turn\, place an object card from your hand into the Venn diagram. If it fits that ring’s rules\, place another card. If it doesn’t fit the rules\, “The Knower” moves the card to the right area. The player then draws another card. \nThe point of the game is to get rid of all of your cards. Can you figure out the Rings’ logic before your opponents? Don’t forget\, you can play in the overlapping spots of the Venn diagram\, or even outside it completely!
URL:https://comicquest.org/event/board-game-demo-things-in-rings/
LOCATION:Comic Quest\, 23811 Bridger #111 CA 92630\, Lake Forest\, CA\, 92630\, United States
CATEGORIES:Demo,Event
ATTACH;FMTTYPE=image/png:https://comicquest.org/wp-content/uploads/2025/01/things-in-rings-banner.png
END:VEVENT
BEGIN:VEVENT
DTSTART;TZID=UTC:20250118T110000
DTEND;TZID=UTC:20250118T200000
DTSTAMP:20260424T083443
CREATED:20241220T013408Z
LAST-MODIFIED:20241228T182750Z
UID:10001426-1737198000-1737230400@comicquest.org
SUMMARY:D&D Learn to Play (and Other RPGS)
DESCRIPTION:Signups are now available!\n\n\n\nComic Quest’s next Learn-to-Play D&D and Roleplaying Games (RPGs) Day is on Saturday January 18th\nCome try out Dungeons and Dragons (D&D) or see what other roleplaying games  you can play.\nSign up on Discord.\n\n*Limited space available. Sign-ups recommended. Sign up via the Comic Quest D&D Discord. Use the link below. Once in\, scroll down to the “Learn to Play Jan 18” category. Each game has a time slot. Sign up in the specific channel for the game(s) and session(s) time you want.\nhttps://discord.gg/gp6ynfnHkC\n\n\n\nTHREE SESSION TIMES available (each game may have more than 1 session):\n\n11am to 1pm\n2pm to 4pm\n5pm to 7pm\n\nREAD about each game system and SIGNUP FOR GAMES in the specific signup channel for each game and time session you want.\n\nLIST of RPG GAMES: \n\nD&D 5e – The famous fantasy role playing game\nVampire: The Masquerade – A vampiric game of personal and political horror\nSavage Worlds – Welcome to something adjacent to Jurassic Park! Shipwrecked on Isla Sorna\, can you escape hungry dinosaurs…and your own agendas?\nStar Wars: Edge of the Empire – Escape from Mos Shuuta. Can you escape the clutches of Teemo the Hutt?\nCity of Mist – Detectives & thugs manifest mythic powers from literature – from Dracula to Gilgamesh
URL:https://comicquest.org/event/dd-learn-to-play-and-other-rpgs-3/
LOCATION:Comic Quest\, 23811 Bridger #111 CA 92630\, Lake Forest\, CA\, 92630\, United States
CATEGORIES:D&D,Event
ATTACH;FMTTYPE=image/jpeg:https://comicquest.org/wp-content/uploads/2023/03/DND_LEARN_TO_PLAY.jpg
END:VEVENT
END:VCALENDAR