BEGIN:VCALENDAR
VERSION:2.0
PRODID:-//Comic Quest - ECPv6.15.20//NONSGML v1.0//EN
CALSCALE:GREGORIAN
METHOD:PUBLISH
X-WR-CALNAME:Comic Quest
X-ORIGINAL-URL:https://comicquest.org
X-WR-CALDESC:Events for Comic Quest
REFRESH-INTERVAL;VALUE=DURATION:PT1H
X-Robots-Tag:noindex
X-PUBLISHED-TTL:PT1H
BEGIN:VTIMEZONE
TZID:UTC
BEGIN:STANDARD
TZOFFSETFROM:+0000
TZOFFSETTO:+0000
TZNAME:UTC
DTSTART:20240101T000000
END:STANDARD
END:VTIMEZONE
BEGIN:VEVENT
DTSTART;TZID=UTC:20250216T093000
DTEND;TZID=UTC:20250216T193000
DTSTAMP:20260424T055143
CREATED:20241220T014551Z
LAST-MODIFIED:20250209T221710Z
UID:10001429-1739698200-1739734200@comicquest.org
SUMMARY:Warhammer Old World RTT Tourney
DESCRIPTION:Warhammer Old World RTT Tourney\n\n\n\n\n\n\n\n\n\n\n\n\n\n\n\n\n\n\n\n\n\n\nSUNDAY FEBURARY  16th.  10am \n$20 Entry Fee. Comic Quest \nSetup – Begins at 9:30; Go time = 10:00am \n3 Round RTT Event \nRounds – 2H 45M (+ 30M for lunch) \nPrizes – For the top 3 Players. \nPremium Old World Terrain – Each table is unique! \n*February 16 – 1 day RTT at CQ* = Best Coast Pairings (BCP) \nPLAYER PACKET = https://docs.google.com/document/d/1KKwIEWgnWr1VHS8o1NJeeZK90DLmT1wSjuDN9hWQQIs/edit?tab=t.0 \n  \n\n\n\n\n\n\n\n\n\n\n\n\n\n\n\n\n\n\n\n\n\n\n\n\n\n\n\n\n\n\n\n\n\n\n\n\n\n\nWarhammer: The Old World! \n\nWhere – Comic Quest \nOld World Legends (OWL) RTT\nWarhammer: The Old World! \n\nWhere – Comic Quest \nSetup – Begins at 9:30 \n3 Round RTT Event \nRounds – 2H 45M (+ 30M for lunch) \nPrizes – For the top 3 Players \nPremium Old World Terrain – Each table is unique! \n\n\n\nArmy Size \n\n2\,000 points\n\n\n\nLegacy Armies \n\n100% allowed and encouraged!\n\n\n\nPainting \n\nThere is NO painting requirement for this event\n\n\n\n3rd Party Models \n\nIncluding 3D prints are ALLOWED\, just make sure they are clear representations.\n\n\n\nBase Sizes \n\nDON’T stress\, if you haven’t rebased your models yet or are using AOS bases just bring movement trays of the correct size. If you need help reach out to us.\n\n\n\nScoring \n\nEach round is a pitched battle (per Core Rulebook) where players earn points for killing the enemy army and by other means. Players need to score at least 100 more points than their opponent to be considered a win\, the event will use a scoring differential system of 0-20. A draw would be 10-10 for both players.\n\n\n\nByes/Odd Number of Players \n\nThe TO will take the bye if we have an uneven number of players\, or we will find a stand in opponent if we can.\n\n\n\nRefunds \n\nCan be processed no later than 7 days prior to the event.
URL:https://comicquest.org/event/warhammer-old-world-rtt-tourney-3/
LOCATION:Comic Quest\, 23811 Bridger #111 CA 92630\, Lake Forest\, CA\, 92630\, United States
CATEGORIES:Event,Tournament,Warhammer Old World
ATTACH;FMTTYPE=image/png:https://comicquest.org/wp-content/uploads/2024/01/warhammer_old_world_logo.png
END:VEVENT
END:VCALENDAR