BEGIN:VCALENDAR
VERSION:2.0
PRODID:-//Comic Quest - ECPv6.15.20//NONSGML v1.0//EN
CALSCALE:GREGORIAN
METHOD:PUBLISH
X-ORIGINAL-URL:https://comicquest.org
X-WR-CALDESC:Events for Comic Quest
REFRESH-INTERVAL;VALUE=DURATION:PT1H
X-Robots-Tag:noindex
X-PUBLISHED-TTL:PT1H
BEGIN:VTIMEZONE
TZID:America/Los_Angeles
BEGIN:DAYLIGHT
TZOFFSETFROM:-0800
TZOFFSETTO:-0700
TZNAME:PDT
DTSTART:20240310T100000
END:DAYLIGHT
BEGIN:STANDARD
TZOFFSETFROM:-0700
TZOFFSETTO:-0800
TZNAME:PST
DTSTART:20241103T090000
END:STANDARD
BEGIN:DAYLIGHT
TZOFFSETFROM:-0800
TZOFFSETTO:-0700
TZNAME:PDT
DTSTART:20250309T100000
END:DAYLIGHT
BEGIN:STANDARD
TZOFFSETFROM:-0700
TZOFFSETTO:-0800
TZNAME:PST
DTSTART:20251102T090000
END:STANDARD
BEGIN:DAYLIGHT
TZOFFSETFROM:-0800
TZOFFSETTO:-0700
TZNAME:PDT
DTSTART:20260308T100000
END:DAYLIGHT
BEGIN:STANDARD
TZOFFSETFROM:-0700
TZOFFSETTO:-0800
TZNAME:PST
DTSTART:20261101T090000
END:STANDARD
END:VTIMEZONE
BEGIN:VEVENT
DTSTART;TZID=America/Los_Angeles:20250309T013000
DTEND;TZID=America/Los_Angeles:20250309T040000
DTSTAMP:20260424T043927
CREATED:20250309T002416Z
LAST-MODIFIED:20250309T003506Z
UID:10001494-1741483800-1741492800@comicquest.org
SUMMARY:DAYLIGHT SAVINGS TIME starts at 2:00am - SPRING FORWARD
DESCRIPTION:DAYLIGHT SAVINGS TIME STARTS \nSpring Forward \nSet Your Clocks Ahead One Hour TO 3:00am on Sunday March 9\, 2025 at 2:00am.  \nAt 2:00am (or when you go to bed on Saturday night — move your clocks ahead One Hour) \n\n\n\n\n  \n  \n 
URL:https://comicquest.org/event/daylight-savings-time-starts-at-200am-spring-forward/
LOCATION:Comic Quest\, 23811 Bridger #111 CA 92630\, Lake Forest\, CA\, 92630\, United States
CATEGORIES:Event
ATTACH;FMTTYPE=image/jpeg:https://comicquest.org/wp-content/uploads/2025/03/daylight-savings_Spring-forward_cute-with-details_march.jpg
END:VEVENT
BEGIN:VEVENT
DTSTART;TZID=America/Los_Angeles:20250309T100000
DTEND;TZID=America/Los_Angeles:20250309T143000
DTSTAMP:20260424T043927
CREATED:20241229T231956Z
LAST-MODIFIED:20250306T023818Z
UID:10001441-1741514400-1741530600@comicquest.org
SUMMARY:Lorcana New Set- Archazia's Island -Sealed Deck Tournament
DESCRIPTION:Lorcana New Set – Archazia’s Island – SEALED Deck -Launch Event \n\nSaturday Sunday March 9\n\nCheck in: 10:00am\nGo time: 10:30am\nENTRY FEE = $41.99 + tax = 6packs/person.\nPrizes: 1 booster pack to all participations. Plus 1 pack per match win. Bo3\, 3 rounds.\n\n*Pre-paid SIGN UPS available now!\nSealed deck. Players will purchase 6 booster packs\, and create their deck from those. Minimum 40 card deck. No limit on deck colors or quantity of each card type.\n\n(Product for the set launches on Friday March 7).\n\nARCHAZIAS ISLAND Sealed Deck Launch Event. Signups available now 3 Rounds. 1 pack per match win + 1 pack participation.\n\n \n\n\n\n\n 
URL:https://comicquest.org/event/lorcana-new-set-archazias-island-sealed-deck-tournament/
LOCATION:Comic Quest\, 23811 Bridger #111 CA 92630\, Lake Forest\, CA\, 92630\, United States
CATEGORIES:Event
ATTACH;FMTTYPE=image/jpeg:https://comicquest.org/wp-content/uploads/2024/12/Archazias-Island_lorcana-new-set.jpg
END:VEVENT
END:VCALENDAR