BEGIN:VCALENDAR
VERSION:2.0
PRODID:-//Comic Quest - ECPv6.15.20//NONSGML v1.0//EN
CALSCALE:GREGORIAN
METHOD:PUBLISH
X-WR-CALNAME:Comic Quest
X-ORIGINAL-URL:https://comicquest.org
X-WR-CALDESC:Events for Comic Quest
REFRESH-INTERVAL;VALUE=DURATION:PT1H
X-Robots-Tag:noindex
X-PUBLISHED-TTL:PT1H
BEGIN:VTIMEZONE
TZID:Asia/Shanghai
BEGIN:STANDARD
TZOFFSETFROM:+0800
TZOFFSETTO:+0800
TZNAME:CST
DTSTART:20240101T000000
END:STANDARD
END:VTIMEZONE
BEGIN:VTIMEZONE
TZID:America/Los_Angeles
BEGIN:DAYLIGHT
TZOFFSETFROM:-0800
TZOFFSETTO:-0700
TZNAME:PDT
DTSTART:20240310T100000
END:DAYLIGHT
BEGIN:STANDARD
TZOFFSETFROM:-0700
TZOFFSETTO:-0800
TZNAME:PST
DTSTART:20241103T090000
END:STANDARD
BEGIN:DAYLIGHT
TZOFFSETFROM:-0800
TZOFFSETTO:-0700
TZNAME:PDT
DTSTART:20250309T100000
END:DAYLIGHT
BEGIN:STANDARD
TZOFFSETFROM:-0700
TZOFFSETTO:-0800
TZNAME:PST
DTSTART:20251102T090000
END:STANDARD
BEGIN:DAYLIGHT
TZOFFSETFROM:-0800
TZOFFSETTO:-0700
TZNAME:PDT
DTSTART:20260308T100000
END:DAYLIGHT
BEGIN:STANDARD
TZOFFSETFROM:-0700
TZOFFSETTO:-0800
TZNAME:PST
DTSTART:20261101T090000
END:STANDARD
END:VTIMEZONE
BEGIN:VEVENT
DTSTART;VALUE=DATE:20250418
DTEND;VALUE=DATE:20250419
DTSTAMP:20260424T031915
CREATED:20250408T004915Z
LAST-MODIFIED:20250408T005218Z
UID:10001509-1744934400-1745020799@comicquest.org
SUMMARY:Superman Day
DESCRIPTION:Special Books to be offered on Superman Day\nIn addition to the Action Comics #1 reprint\, a new Summer of Superman Special will be published as part of the event. The comic will feature stories written by Dan Slott\, Mark Waid\, and Joshua Williamson\, with art by Jorge Jiménez. The special will detail the wedding of Lana Lang and John Henry Irons\, and set the stage for the next age of the Man of Steel’s adventures. \nDC will also be publishing special editions of several classic Superman stories. Some are exclusive to participating booksellers and on-line retailers. Others are exclusive to participating comic book shops. \nThe bookseller and on-line exclusive titles include a hardcover edition of All-Star Superman. This graphic novel by Grant Morrison and Frank Quitely is reportedly a major inspiration for the upcoming movie. The new edition features a dust jacket with new art by Quitely. Similarly\, there is a new hardcover edition of Superman Unchained\, with a dust jacket featuring new art by Jim Lee. \nThe comic book shop exclusive titles include a reprint of All Star Superman #1. There is also a special edition of Superman For All Seasons: Book One\, by Jeph Loeb and Tim Sale. Finally\, for young adults\, there will be preview excerpts of Jimmy Olsen’s Supercyclopedia by Gabe Soria and Sandy Jarrell. \n\nSuperman Day will be celebrated at comic shops everywhere on April 18\, 2025. \n\nSUPERMAN DAY 2025 – ALL-STAR SUPERMAN #1 FREE\nSUPERMAN DAY 2025 – SUPERMAN FOR ALL SEASONS BOOK ONE FREE|\nSUPERMAN DAY 2025 – JIMMY OLSENS SUPERCYCLOPEDIA FREE\nSUPERMAN DAY 2025 – ALL-STAR SUPERMAN #1 CVR B FOIL $9.99\nSUPERMAN DAY 2025 – SUPERMAN FOR ALL SEASONS BOOK ONE CVR B FOIL $9.99\nSUPERMAN DAY 2025 – ACTION COMICS #1 GOLDEN AGE SIZED FACSIMILE EDITION $9.99\nSUPERMAN DAY 2025 – ACTION COMICS #1 GOLDEN AGE SIZED FACSIMILE EDITION CVR B DAN MORA HOMAGE $10.99\nSUPERMAN DAY 2025 – ACTION COMICS #1 GOLDEN AGE SIZED FACSIMILE EDITION CVR C JOE SHUSTER FOIL $14.99
URL:https://comicquest.org/event/superman-day/
LOCATION:Comic Quest\, 23811 Bridger #111 CA 92630\, Lake Forest\, CA\, 92630\, United States
CATEGORIES:Event
ATTACH;FMTTYPE=image/png:https://comicquest.org/wp-content/uploads/2025/04/superman-day-2025-1.png
END:VEVENT
BEGIN:VEVENT
DTSTART;TZID=America/Los_Angeles:20250418T180000
DTEND;TZID=America/Los_Angeles:20250418T220000
DTSTAMP:20260424T031915
CREATED:20240828T070403Z
LAST-MODIFIED:20250418T224452Z
UID:10001117-1744999200-1745013600@comicquest.org
SUMMARY:Friday Night Magic
DESCRIPTION:Friday Night Magic! Come Join the fun! \nModern and Commander and Standard Formats. On occasion sealed & draft around new set launches. \n\nFRIDAY NIGHT MAGIC – Come Join Us!\n\n\n**Every Friday\, 6pm **\nEvery Friday these formats:\n\n\n– Standard Showdown- Tarkir Dragonstorm Season =Cowboy Beebop Winner Promo “Snakeskin Veil”\n\n\n– Commander  (Commander Party’s Tarkir Season on Fri 4/18 & Fri 5/16)\n\n\n– Modern\n\n\n– Promos\, & Fun!\n\n\nCome Play With Us!\n\n\n*Commander Party** TARKIR – TONIGHT! Friday April 18\n– 6:00pm.\n– Get into pods with special mechanics and a party game card.\n– Special Promo “Dragonspeaker Shaman” for participating. (While Supplies Last)\nIf you have not played a Commander Party\, these are popular & you will have a blast. \n \n  \nPlease join our Facebook group. \nhttps://www.facebook.com/groups/426423864154241/
URL:https://comicquest.org/event/friday-night-magic-111/
LOCATION:Comic Quest\, 23811 Bridger #111 CA 92630\, Lake Forest\, CA\, 92630\, United States
CATEGORIES:Event,Magic,Tournament
ATTACH;FMTTYPE=image/jpeg:https://comicquest.org/wp-content/uploads/2023/01/Friday-Night-Magic.jpg
END:VEVENT
END:VCALENDAR