BEGIN:VCALENDAR
VERSION:2.0
PRODID:-//Comic Quest - ECPv6.15.20//NONSGML v1.0//EN
CALSCALE:GREGORIAN
METHOD:PUBLISH
X-WR-CALNAME:Comic Quest
X-ORIGINAL-URL:https://comicquest.org
X-WR-CALDESC:Events for Comic Quest
REFRESH-INTERVAL;VALUE=DURATION:PT1H
X-Robots-Tag:noindex
X-PUBLISHED-TTL:PT1H
BEGIN:VTIMEZONE
TZID:UTC
BEGIN:STANDARD
TZOFFSETFROM:+0000
TZOFFSETTO:+0000
TZNAME:UTC
DTSTART:20240101T000000
END:STANDARD
END:VTIMEZONE
BEGIN:VEVENT
DTSTART;TZID=UTC:20250419T093000
DTEND;TZID=UTC:20250419T193000
DTSTAMP:20260424T031914
CREATED:20241220T015011Z
LAST-MODIFIED:20250317T075027Z
UID:10001428-1745055000-1745091000@comicquest.org
SUMMARY:Warhammer Old World RTT Tourney
DESCRIPTION:Warhammer Old World RTT Tourney\n\n\n\n\n\n\n\n\n\n\n\n\n\n\n\n\n\n\n\n\n\n\nSaturday APRIL 19th.  10am \n$25 Entry Fee. Comic Quest \nSetup – Begins at 9:30; Go time = 10:00am \n3 Round RTT Event \nRounds – 2H 45M (+ 30M for lunch) \nPrizes – For the top 3 Players. \nPremium Old World Terrain – Each table is unique! \nSign up at BCP (Best Coast Pairings) = https://www.bestcoastpairings.com/event/exmsoShlzfmP \n\n\n\n\n\n\n\n\n\n\n\n\n\n\n\n\n\n\n\n\n\n\n\n\n\n\n\n\n\n\n\n\n\n\n\n\n\n\nSetup – Begins at 9:30 \n3 Round RTT Event \nRounds – 2H 45M (+ 30M for lunch) \nPrizes – For the top 3 Players \nPremium Old World Terrain – Each table is unique! \nMissions – Fun and simple winter themed missions that play mostly as pitched battle variations \nArmy Size = 2\,000 points\nLegacy Armies = 100% allowed and encouraged!\nNO Allies\n-Allies are not allowed\, but Mercenaries are encouraged! \nRule of 3\n-Rule of 6/3/3/3 will be used for army composition.\nPainting\n-There is NO painting requirement for this event
URL:https://comicquest.org/event/warhammer-old-world-rtt-tourney-4/
LOCATION:Comic Quest\, 23811 Bridger #111 CA 92630\, Lake Forest\, CA\, 92630\, United States
CATEGORIES:Event,Tournament,Warhammer Old World
ATTACH;FMTTYPE=image/png:https://comicquest.org/wp-content/uploads/2024/01/warhammer_old_world_logo.png
END:VEVENT
END:VCALENDAR