BEGIN:VCALENDAR
VERSION:2.0
PRODID:-//Comic Quest - ECPv6.15.20//NONSGML v1.0//EN
CALSCALE:GREGORIAN
METHOD:PUBLISH
X-WR-CALNAME:Comic Quest
X-ORIGINAL-URL:https://comicquest.org
X-WR-CALDESC:Events for Comic Quest
REFRESH-INTERVAL;VALUE=DURATION:PT1H
X-Robots-Tag:noindex
X-PUBLISHED-TTL:PT1H
BEGIN:VTIMEZONE
TZID:UTC
BEGIN:STANDARD
TZOFFSETFROM:+0000
TZOFFSETTO:+0000
TZNAME:UTC
DTSTART:20240101T000000
END:STANDARD
END:VTIMEZONE
BEGIN:VTIMEZONE
TZID:Asia/Shanghai
BEGIN:STANDARD
TZOFFSETFROM:+0800
TZOFFSETTO:+0800
TZNAME:CST
DTSTART:20240101T000000
END:STANDARD
END:VTIMEZONE
BEGIN:VEVENT
DTSTART;TZID=UTC:20250705T110000
DTEND;TZID=UTC:20250705T160000
DTSTAMP:20260424T003549
CREATED:20250616T042942Z
LAST-MODIFIED:20250620T193334Z
UID:10001552-1751713200-1751731200@comicquest.org
SUMMARY:Star Wars Unlimited - Legends of the Force - Prerelease Event
DESCRIPTION:Star Wars Unlimited-Legends of the Force \nPrerelease Event. \nSaturday July 5th.  11am to 4pm. \nSign-ups and Preorder details TBA soon! \n  \n \nGet your hands on the new cards before they are available to the general public the following week.  See the cards in action before anyone else.  See popular characters fight for your amusement. Great for new players to the game and folks who have been already been playing. Easy to jump in anytime. There are starter decks as well as boosters for easy entry. \n 
URL:https://comicquest.org/event/star-wars-unlimited-legends-of-the-force-prerelease-event/
LOCATION:Comic Quest\, 23811 Bridger #111 CA 92630\, Lake Forest\, CA\, 92630\, United States
CATEGORIES:Event,Star Wars Unlimited,Tournament
ATTACH;FMTTYPE=image/jpeg:https://comicquest.org/wp-content/uploads/2023/10/star-wars-unlimited.jpg
END:VEVENT
BEGIN:VEVENT
DTSTART;TZID=Asia/Shanghai:20250705T120000
DTEND;TZID=Asia/Shanghai:20250705T150000
DTSTAMP:20260424T003549
CREATED:20250701T013453Z
LAST-MODIFIED:20250701T013453Z
UID:10001565-1751716800-1751727600@comicquest.org
SUMMARY:Board Game Demo - Parachute Panda
DESCRIPTION:FREE Board Game Demo: Parachute Panda \nSaturday Jul 5 Noon  – 3pm \nComic Quest is providing FREE demos of a fun board game. Learn in a couple of minutes\, it might be your next favorite game. \nPlus\, a discount on the game all day! \n  \nParachute Panda is a fast tactical game of out-maneuvering your fellow pandas in a race to not get to the bottom first — because the “bottom” is the Earth thanks to all of you falling out of a plane! Use balloons\, leaf blowers\, falling pianos\, and more to keep your fluffy Panda aloft while sending you opponents crashing to their doom. \n\n 
URL:https://comicquest.org/event/board-game-demo-parachute-panda-2/
LOCATION:Comic Quest\, 23811 Bridger #111 CA 92630\, Lake Forest\, CA\, 92630\, United States
CATEGORIES:Demo,Event
ATTACH;FMTTYPE=image/png:https://comicquest.org/wp-content/uploads/2025/06/parachute-panda-july-2025-demo-banner.png
END:VEVENT
END:VCALENDAR