BEGIN:VCALENDAR
VERSION:2.0
PRODID:-//Comic Quest - ECPv6.15.20//NONSGML v1.0//EN
CALSCALE:GREGORIAN
METHOD:PUBLISH
X-ORIGINAL-URL:https://comicquest.org
X-WR-CALDESC:Events for Comic Quest
REFRESH-INTERVAL;VALUE=DURATION:PT1H
X-Robots-Tag:noindex
X-PUBLISHED-TTL:PT1H
BEGIN:VTIMEZONE
TZID:UTC
BEGIN:STANDARD
TZOFFSETFROM:+0000
TZOFFSETTO:+0000
TZNAME:UTC
DTSTART:20240101T000000
END:STANDARD
END:VTIMEZONE
BEGIN:VEVENT
DTSTART;TZID=UTC:20251130T093000
DTEND;TZID=UTC:20251130T193000
DTSTAMP:20260423T154350
CREATED:20250815T014015Z
LAST-MODIFIED:20251116T220921Z
UID:10003318-1764495000-1764531000@comicquest.org
SUMMARY:Warhammer Old World Narrative Event Tourney
DESCRIPTION:Warhammer Old World Narrative Event Tourney\n\n\n\n\n\n\n\n\n\n\n\n\n\n\n\n\n\n\n\n\n\n\nSUNDAY NOVEMBER 30th. \n$25 Entry Fee. Comic Quest \nSetup – Begins at 9:30; Go time = 10:00am \nSign up at BCP (Best Coast Pairings) = Link: https://www.bestcoastpairings.com/event/y0DlXL1JcPGi \nOld World Legends – Is running our first 1 day Narrative Event! \n18 Players | 2\,000 pts | 3 Rounds | 1 Day \n\n\n\n\n\n\n\n\n\n\n\n\n\n\n\n\n\n\n\n\n\n\n\nPlayer Packet: \nhttps://docs.google.com/document/d/1c30sMNl8qPJe4h890Z33Ek6L6AqQMg-JZWEAZXZNtaQ/edit?usp=sharing \nNarrative Event: \nWarhammer is a setting about creative expression and telling your own story with your army on the tabletop. A narrative event offers the opportunity for players to relax\, roll dice\, and focus on the lighter\, more creative sides of the hobby while playing games to create a story. \n\n\n\n\n\n\n\n\n\n\n\n\n\n\n\n\n 
URL:https://comicquest.org/event/warhammer-old-world-rtt-tourney-6/
LOCATION:Comic Quest\, 23811 Bridger #111 CA 92630\, Lake Forest\, CA\, 92630\, United States
CATEGORIES:Event,Tournament,Warhammer Old World
ATTACH;FMTTYPE=image/png:https://comicquest.org/wp-content/uploads/2024/01/warhammer_old_world_logo.png
END:VEVENT
END:VCALENDAR