BEGIN:VCALENDAR
VERSION:2.0
PRODID:-//Comic Quest - ECPv6.15.20//NONSGML v1.0//EN
CALSCALE:GREGORIAN
METHOD:PUBLISH
X-ORIGINAL-URL:https://comicquest.org
X-WR-CALDESC:Events for Comic Quest
REFRESH-INTERVAL;VALUE=DURATION:PT1H
X-Robots-Tag:noindex
X-PUBLISHED-TTL:PT1H
BEGIN:VTIMEZONE
TZID:America/Los_Angeles
BEGIN:DAYLIGHT
TZOFFSETFROM:-0800
TZOFFSETTO:-0700
TZNAME:PDT
DTSTART:20250309T100000
END:DAYLIGHT
BEGIN:STANDARD
TZOFFSETFROM:-0700
TZOFFSETTO:-0800
TZNAME:PST
DTSTART:20251102T090000
END:STANDARD
BEGIN:DAYLIGHT
TZOFFSETFROM:-0800
TZOFFSETTO:-0700
TZNAME:PDT
DTSTART:20260308T100000
END:DAYLIGHT
BEGIN:STANDARD
TZOFFSETFROM:-0700
TZOFFSETTO:-0800
TZNAME:PST
DTSTART:20261101T090000
END:STANDARD
BEGIN:DAYLIGHT
TZOFFSETFROM:-0800
TZOFFSETTO:-0700
TZNAME:PDT
DTSTART:20270314T100000
END:DAYLIGHT
BEGIN:STANDARD
TZOFFSETFROM:-0700
TZOFFSETTO:-0800
TZNAME:PST
DTSTART:20271107T090000
END:STANDARD
END:VTIMEZONE
BEGIN:VTIMEZONE
TZID:Asia/Shanghai
BEGIN:STANDARD
TZOFFSETFROM:+0800
TZOFFSETTO:+0800
TZNAME:CST
DTSTART:20250101T000000
END:STANDARD
END:VTIMEZONE
BEGIN:VEVENT
DTSTART;TZID=America/Los_Angeles:20260404T093000
DTEND;TZID=America/Los_Angeles:20260404T173000
DTSTAMP:20260423T085945
CREATED:20251204T213245Z
LAST-MODIFIED:20260330T040640Z
UID:10003787-1775295000-1775323800@comicquest.org
SUMMARY:Warhammer 40k RTT Tourney
DESCRIPTION:Comic Quest 40k RTT Tourney \nSaturday APRIL 4th \nWarhammer 40\,000 Gameplay! Come and join the fun! \nEntry Fee: $15.00 \nCheck-in/Set up: 9:30am \nRound 1 begins: 10:00am \n\n2 round event. GW Layout #1 – Missions TBD\n2\,000 points. All players will receive 10 points for being Battle Ready. (ie: no painting requirement)\n3 hour rounds. 30 minute lunch. Round 1 starts at 10AM. Chess clocks are recommended to keep games on track.\n\nSchedule: \n9:30 Setup \n10 – 1 Round 1 \n1 – 1:30 Lunch \n1:30 – 4:30 Round 2 \n4:30 – 4:45 Awards/Cleanup \nPrizes for the top 3… TBD based on attendance. \nDetails & Sign-ups will be on BCP (Best Coast Pairings). https://www.bestcoastpairings.com/event/FO8ZNWgib36a?active_tab=overview
URL:https://comicquest.org/event/warhammer-40k-rtt-tourney-11/
LOCATION:Comic Quest\, 23811 Bridger #111 CA 92630\, Lake Forest\, CA\, 92630\, United States
CATEGORIES:40K,Event,Tournament
ATTACH;FMTTYPE=image/jpeg:https://comicquest.org/wp-content/uploads/2023/01/40k-logo.jpg
END:VEVENT
BEGIN:VEVENT
DTSTART;TZID=Asia/Shanghai:20260404T120000
DTEND;TZID=Asia/Shanghai:20260404T150000
DTSTAMP:20260423T085945
CREATED:20260330T194329Z
LAST-MODIFIED:20260330T194329Z
UID:10004304-1775304000-1775314800@comicquest.org
SUMMARY:Board Game Demo - Heat Pedal to the Metal
DESCRIPTION:FREE Board Game Demo: Heat Pedal to the Metal \nSaturday April 4 Noon  – 3pm \nComic Quest is providing FREE demos of a fun board game. Learn in a couple of minutes\, it might be your next favorite game. \nPlus\, a discount on the game all day! \n  \nBased on simple and intuitive hand management\, Heat: Pedal to the Metal puts players in the driver’s seat of intense car races\, jockeying for position to cross the finish line first\, while managing their car’s speed if they don’t want to overheat. Selecting the right upgrades for their car will help them hug the curves and keep their engine cool enough to maintain top speeds. Ultimately\, their driving skills will be the key to victory! \nDrivers can compete in a single race or use the “Championship System” to play a whole season in one game night\, customizing their car before each race to claim the top spot of the podium. They have to be careful as the weather\, road conditions\, and events will change every race to spice up their championship. Players can also enjoy a solo mode with the Legends Module or add automated drivers as additional opponents in multiplayer games.
URL:https://comicquest.org/event/board-game-demo-heat-pedal-to-the-metal/
LOCATION:Comic Quest\, 23811 Bridger #111 CA 92630\, Lake Forest\, CA\, 92630\, United States
CATEGORIES:Demo,Event
ATTACH;FMTTYPE=image/png:https://comicquest.org/wp-content/uploads/2026/03/HEAT-APR-2026-BANNER.png
END:VEVENT
END:VCALENDAR