BEGIN:VCALENDAR
VERSION:2.0
PRODID:-//Comic Quest - ECPv6.15.20//NONSGML v1.0//EN
CALSCALE:GREGORIAN
METHOD:PUBLISH
X-ORIGINAL-URL:https://comicquest.org
X-WR-CALDESC:Events for Comic Quest
REFRESH-INTERVAL;VALUE=DURATION:PT1H
X-Robots-Tag:noindex
X-PUBLISHED-TTL:PT1H
BEGIN:VTIMEZONE
TZID:Asia/Shanghai
BEGIN:STANDARD
TZOFFSETFROM:+0800
TZOFFSETTO:+0800
TZNAME:CST
DTSTART:20250101T000000
END:STANDARD
END:VTIMEZONE
BEGIN:VTIMEZONE
TZID:America/Los_Angeles
BEGIN:DAYLIGHT
TZOFFSETFROM:-0800
TZOFFSETTO:-0700
TZNAME:PDT
DTSTART:20250309T100000
END:DAYLIGHT
BEGIN:STANDARD
TZOFFSETFROM:-0700
TZOFFSETTO:-0800
TZNAME:PST
DTSTART:20251102T090000
END:STANDARD
BEGIN:DAYLIGHT
TZOFFSETFROM:-0800
TZOFFSETTO:-0700
TZNAME:PDT
DTSTART:20260308T100000
END:DAYLIGHT
BEGIN:STANDARD
TZOFFSETFROM:-0700
TZOFFSETTO:-0800
TZNAME:PST
DTSTART:20261101T090000
END:STANDARD
BEGIN:DAYLIGHT
TZOFFSETFROM:-0800
TZOFFSETTO:-0700
TZNAME:PDT
DTSTART:20270314T100000
END:DAYLIGHT
BEGIN:STANDARD
TZOFFSETFROM:-0700
TZOFFSETTO:-0800
TZNAME:PST
DTSTART:20271107T090000
END:STANDARD
END:VTIMEZONE
BEGIN:VEVENT
DTSTART;VALUE=DATE:20260828
DTEND;VALUE=DATE:20260829
DTSTAMP:20260423T152104
CREATED:20260421T030913Z
LAST-MODIFIED:20260421T043441Z
UID:10004325-1787875200-1787961599@comicquest.org
SUMMARY:One Piece Release - One Piece (OP-17) – World’s Strongest Warriors
DESCRIPTION:  \n 
URL:https://comicquest.org/event/one-piece-release-one-piece-op-17-worlds-strongest-warriors/
LOCATION:Comic Quest\, 23811 Bridger #111 CA 92630\, Lake Forest\, CA\, 92630\, United States
CATEGORIES:Event,One Piece
ATTACH;FMTTYPE=image/png:https://comicquest.org/wp-content/uploads/2026/01/One-Piece-TCG-logo.png
END:VEVENT
BEGIN:VEVENT
DTSTART;VALUE=DATE:20260828
DTEND;VALUE=DATE:20260829
DTSTAMP:20260423T152104
CREATED:20250902T181904Z
LAST-MODIFIED:20250902T181904Z
UID:10003606-1787875200-1787961599@comicquest.org
SUMMARY:Jack Kirby's Birthday
DESCRIPTION:It’s Jack Kirby’s birthday! Born Aug. 28\, 1917\, Jack “King of Comics” Kirby is arguably the most prolific and most influential comic book artist in history \n 
URL:https://comicquest.org/event/jack-kirbys-birthday-4/2026-08-28/
LOCATION:Comic Quest\, 23811 Bridger #111 CA 92630\, Lake Forest\, CA\, 92630\, United States
CATEGORIES:Event
ATTACH;FMTTYPE=image/jpeg:https://comicquest.org/wp-content/uploads/2023/03/Jack_Kirby_logo.jpg
END:VEVENT
BEGIN:VEVENT
DTSTART;VALUE=DATE:20260828
DTEND;VALUE=DATE:20260829
DTSTAMP:20260423T152104
CREATED:20250902T181957Z
LAST-MODIFIED:20250902T181957Z
UID:10003612-1787875200-1787961599@comicquest.org
SUMMARY:Power Rangers Day
DESCRIPTION:  \n \nNational Power Rangers Day is celebrated annually on August 28 to commemorate the premiere of Mighty Morphin Power Rangers on that date in 1993. Hasbro created the day to celebrate the show’s 25th anniversary and to recognize the original “teenagers with attitude”. The show’s positive messages and characters have resonated with people around the world\, who can see themselves in these inspiring teenage heroes.
URL:https://comicquest.org/event/power-rangers-day-3/2026-08-28/
LOCATION:Comic Quest\, 23811 Bridger #111 CA 92630\, Lake Forest\, CA\, 92630\, United States
CATEGORIES:Event
ATTACH;FMTTYPE=image/jpeg:https://comicquest.org/wp-content/uploads/2024/07/Power-Rangers-Day2.jpg
END:VEVENT
BEGIN:VEVENT
DTSTART;TZID=America/Los_Angeles:20260828T180000
DTEND;TZID=America/Los_Angeles:20260828T220000
DTSTAMP:20260423T152104
CREATED:20241112T043240Z
LAST-MODIFIED:20250815T015729Z
UID:10003372-1787940000-1787954400@comicquest.org
SUMMARY:Friday Night Magic
DESCRIPTION:Friday Night Magic! Come Join the fun! \nStandard and Commander Formats. \nFree\, unless a draft or sealed event. \nOn Demand Drafts – just ask the TO. \nOn occasion sealed & draft around new set launches. \nPlease join our Facebook group & Discord. \nhttps://www.facebook.com/groups/426423864154241/
URL:https://comicquest.org/event/friday-night-magic-128/2026-08-28/
LOCATION:Comic Quest\, 23811 Bridger #111 CA 92630\, Lake Forest\, CA\, 92630\, United States
CATEGORIES:Event,Magic,Tournament
ATTACH;FMTTYPE=image/jpeg:https://comicquest.org/wp-content/uploads/2023/01/Friday-Night-Magic.jpg
END:VEVENT
END:VCALENDAR