BEGIN:VCALENDAR
VERSION:2.0
PRODID:-//Comic Quest - ECPv6.15.20//NONSGML v1.0//EN
CALSCALE:GREGORIAN
METHOD:PUBLISH
X-WR-CALNAME:Comic Quest
X-ORIGINAL-URL:https://comicquest.org
X-WR-CALDESC:Events for Comic Quest
REFRESH-INTERVAL;VALUE=DURATION:PT1H
X-Robots-Tag:noindex
X-PUBLISHED-TTL:PT1H
BEGIN:VTIMEZONE
TZID:Asia/Shanghai
BEGIN:STANDARD
TZOFFSETFROM:+0800
TZOFFSETTO:+0800
TZNAME:CST
DTSTART:20260101T000000
END:STANDARD
END:VTIMEZONE
BEGIN:VEVENT
DTSTART;VALUE=DATE:20270918
DTEND;VALUE=DATE:20270919
DTSTAMP:20260424T090951
CREATED:20251021T234052Z
LAST-MODIFIED:20251021T234052Z
UID:10003709-1821225600-1821311999@comicquest.org
SUMMARY:Batman Day
DESCRIPTION:  \n\n\n\n\nBatman Day\n\n\nCelebrate the awesomeness of Batman\n\n\n20% OFF all Batman Graphic Novels\n\n\n20% OFF all Batman Statues\, Miniatures\, and Games.
URL:https://comicquest.org/event/batman-day-4/2027-09-18/
LOCATION:Comic Quest\, 23811 Bridger #111 CA 92630\, Lake Forest\, CA\, 92630\, United States
CATEGORIES:Event
ATTACH;FMTTYPE=image/jpeg:https://comicquest.org/wp-content/uploads/2023/03/batman_day_all_years.jpg
END:VEVENT
END:VCALENDAR