BEGIN:VCALENDAR
VERSION:2.0
PRODID:-//Comic Quest - ECPv6.15.20//NONSGML v1.0//EN
CALSCALE:GREGORIAN
METHOD:PUBLISH
X-WR-CALNAME:Comic Quest
X-ORIGINAL-URL:https://comicquest.org
X-WR-CALDESC:Events for Comic Quest
REFRESH-INTERVAL;VALUE=DURATION:PT1H
X-Robots-Tag:noindex
X-PUBLISHED-TTL:PT1H
BEGIN:VTIMEZONE
TZID:Asia/Shanghai
BEGIN:STANDARD
TZOFFSETFROM:+0800
TZOFFSETTO:+0800
TZNAME:CST
DTSTART:20260101T000000
END:STANDARD
END:VTIMEZONE
BEGIN:VEVENT
DTSTART;VALUE=DATE:20270925
DTEND;VALUE=DATE:20270926
DTSTAMP:20260424T090948
CREATED:20251021T234246Z
LAST-MODIFIED:20251021T234246Z
UID:10003721-1821830400-1821916799@comicquest.org
SUMMARY:Local Comic Shop Day
DESCRIPTION:Local Comic Shop Day\n\n\n\n\n\nVISIT YOUR LOCAL COMIC SHOP THIS SATURDAY –– LOCAL COMIC SHOP DAY! \n\n\n\n\nLocal Comic Shop Day® is a day to celebrate all of the independently owned comic shops that have played (and continue to play) an important role in comic fandom. \n \nUnique variants available for purchase. \n\n\n\n\n 
URL:https://comicquest.org/event/local-comic-shop-day-3/2027-09-25/
LOCATION:Comic Quest\, 23811 Bridger #111 CA 92630\, Lake Forest\, CA\, 92630\, United States
CATEGORIES:Event
ATTACH;FMTTYPE=image/png:https://comicquest.org/wp-content/uploads/2024/09/local-comic-shop-day-logo.png
END:VEVENT
END:VCALENDAR