BEGIN:VCALENDAR
VERSION:2.0
PRODID:-//Comic Quest - ECPv6.15.20//NONSGML v1.0//EN
CALSCALE:GREGORIAN
METHOD:PUBLISH
X-ORIGINAL-URL:https://comicquest.org
X-WR-CALDESC:Events for Comic Quest
REFRESH-INTERVAL;VALUE=DURATION:PT1H
X-Robots-Tag:noindex
X-PUBLISHED-TTL:PT1H
BEGIN:VTIMEZONE
TZID:Asia/Shanghai
BEGIN:STANDARD
TZOFFSETFROM:+0800
TZOFFSETTO:+0800
TZNAME:CST
DTSTART:20260101T000000
END:STANDARD
END:VTIMEZONE
BEGIN:VEVENT
DTSTART;VALUE=DATE:20271118
DTEND;VALUE=DATE:20271119
DTSTAMP:20260424T165328
CREATED:20251231T184319Z
LAST-MODIFIED:20251231T184319Z
UID:10004161-1826496000-1826582399@comicquest.org
SUMMARY:Mickey Mouse Birthday
DESCRIPTION:Mickey and Minnie’s birthdays are celebrated on November 18th because this date marks their film debut in the Walt Disney classic short film Steamboat Willie. \n 
URL:https://comicquest.org/event/mickey-mouse-birthday-4/2027-11-18/
LOCATION:Comic Quest\, 23811 Bridger #111 CA 92630\, Lake Forest\, CA\, 92630\, United States
CATEGORIES:Event
ATTACH;FMTTYPE=image/jpeg:https://comicquest.org/wp-content/uploads/2023/03/mickey_mouse_bithday.jpg
END:VEVENT
BEGIN:VEVENT
DTSTART;TZID=Asia/Shanghai:20271118T180000
DTEND;TZID=Asia/Shanghai:20271118T220000
DTSTAMP:20260424T165328
CREATED:20250807T232709Z
LAST-MODIFIED:20250807T232709Z
UID:10002935-1826560800-1826575200@comicquest.org
SUMMARY:Tactical Thursday
DESCRIPTION:This event is for Tactical Thursday! Come and join the fun! \nAn evening dedicated to all popular miniature games. \n  \nSome Facebook Groups \nGames Workshop \nInfinity \nStar Wars Legion \nBattletech \nMiniature Club
URL:https://comicquest.org/event/tactical-thursday-149/2027-11-18/
LOCATION:Comic Quest\, 23811 Bridger #111 CA 92630\, Lake Forest\, CA\, 92630\, United States
CATEGORIES:Event
ATTACH;FMTTYPE=image/jpeg:https://comicquest.org/wp-content/uploads/2023/01/Tactical_thursday.jpg
END:VEVENT
END:VCALENDAR