BEGIN:VCALENDAR
VERSION:2.0
PRODID:-//Comic Quest - ECPv6.15.20//NONSGML v1.0//EN
CALSCALE:GREGORIAN
METHOD:PUBLISH
X-WR-CALNAME:Comic Quest
X-ORIGINAL-URL:https://comicquest.org
X-WR-CALDESC:Events for Comic Quest
REFRESH-INTERVAL;VALUE=DURATION:PT1H
X-Robots-Tag:noindex
X-PUBLISHED-TTL:PT1H
BEGIN:VTIMEZONE
TZID:Asia/Shanghai
BEGIN:STANDARD
TZOFFSETFROM:+0800
TZOFFSETTO:+0800
TZNAME:CST
DTSTART:20270101T000000
END:STANDARD
END:VTIMEZONE
BEGIN:VEVENT
DTSTART;VALUE=DATE:20280820
DTEND;VALUE=DATE:20280821
DTSTAMP:20260425T095117
CREATED:20250902T181725Z
LAST-MODIFIED:20250902T181725Z
UID:10003602-1850342400-1850428799@comicquest.org
SUMMARY:Cthulhu Day
DESCRIPTION:Cthulhu is associated with August due to H.P. Lovecraft\, the creator of the Cthulhu Mythos\, being born on August 20th\, 1890 \n 
URL:https://comicquest.org/event/cthulhu-day-4/2028-08-20/
LOCATION:Comic Quest\, 23811 Bridger #111 CA 92630\, Lake Forest\, CA\, 92630\, United States
CATEGORIES:Event
ATTACH;FMTTYPE=image/jpeg:https://comicquest.org/wp-content/uploads/2023/03/cthulhu_icon_by_akedos-d8gne7k.jpg
END:VEVENT
END:VCALENDAR