BEGIN:VCALENDAR
VERSION:2.0
PRODID:-//Comic Quest - ECPv6.15.20//NONSGML v1.0//EN
CALSCALE:GREGORIAN
METHOD:PUBLISH
X-ORIGINAL-URL:https://comicquest.org
X-WR-CALDESC:Events for Comic Quest
REFRESH-INTERVAL;VALUE=DURATION:PT1H
X-Robots-Tag:noindex
X-PUBLISHED-TTL:PT1H
BEGIN:VTIMEZONE
TZID:Asia/Shanghai
BEGIN:STANDARD
TZOFFSETFROM:+0800
TZOFFSETTO:+0800
TZNAME:CST
DTSTART:20270101T000000
END:STANDARD
END:VTIMEZONE
BEGIN:VEVENT
DTSTART;VALUE=DATE:20281021
DTEND;VALUE=DATE:20281022
DTSTAMP:20260425T140044
CREATED:20251021T192645Z
LAST-MODIFIED:20251021T192645Z
UID:10003680-1855699200-1855785599@comicquest.org
SUMMARY:Back to the Future Day
DESCRIPTION:Back to the Future day.  OCT 21. \n 
URL:https://comicquest.org/event/back-to-the-future-day-2/2028-10-21/
LOCATION:Comic Quest\, 23811 Bridger #111 CA 92630\, Lake Forest\, CA\, 92630\, United States
CATEGORIES:Event
ATTACH;FMTTYPE=image/png:https://comicquest.org/wp-content/uploads/2025/10/back-to-the-future-day-banner.png
END:VEVENT
BEGIN:VEVENT
DTSTART;VALUE=DATE:20281021
DTEND;VALUE=DATE:20281022
DTSTAMP:20260425T140044
CREATED:20251231T180222Z
LAST-MODIFIED:20251231T180222Z
UID:10004122-1855699200-1855785599@comicquest.org
SUMMARY:Back to the Future Day
DESCRIPTION:Back to the Future day.  OCT 21. \n 
URL:https://comicquest.org/event/back-to-the-future-day-3/2028-10-21/
LOCATION:Comic Quest\, 23811 Bridger #111 CA 92630\, Lake Forest\, CA\, 92630\, United States
CATEGORIES:Event
ATTACH;FMTTYPE=image/png:https://comicquest.org/wp-content/uploads/2025/10/back-to-the-future-day-banner.png
END:VEVENT
END:VCALENDAR