BEGIN:VCALENDAR
VERSION:2.0
PRODID:-//Comic Quest - ECPv6.15.20//NONSGML v1.0//EN
CALSCALE:GREGORIAN
METHOD:PUBLISH
X-WR-CALNAME:Comic Quest
X-ORIGINAL-URL:https://comicquest.org
X-WR-CALDESC:Events for Comic Quest
REFRESH-INTERVAL;VALUE=DURATION:PT1H
X-Robots-Tag:noindex
X-PUBLISHED-TTL:PT1H
BEGIN:VTIMEZONE
TZID:Asia/Shanghai
BEGIN:STANDARD
TZOFFSETFROM:+0800
TZOFFSETTO:+0800
TZNAME:CST
DTSTART:20270101T000000
END:STANDARD
END:VTIMEZONE
BEGIN:VEVENT
DTSTART;VALUE=DATE:20281111
DTEND;VALUE=DATE:20281112
DTSTAMP:20260425T152707
CREATED:20251231T184410Z
LAST-MODIFIED:20251231T184410Z
UID:10004168-1857513600-1857599999@comicquest.org
SUMMARY:Bad Dice Day
DESCRIPTION:Bad Dice Day\n\n\n\n\n\n \n\n\nBring your BAD dice in\, and make them pay for their traitorous roles. Some dice let you down when you need them most. Punish your bad dice and replace them.\n\n\n \n\n\nBad dice will be placed in the Chamber of Punishment:\n\n\nForced to Endure Nickelback all day.\n\n\n \n\n\nSale of New Replacement Dice.\n\n\n20% All Dice\n\n\n 
URL:https://comicquest.org/event/bad-dice-day-4/2028-11-11/
LOCATION:Comic Quest\, 23811 Bridger #111 CA 92630\, Lake Forest\, CA\, 92630\, United States
CATEGORIES:Event
ATTACH;FMTTYPE=image/jpeg:https://comicquest.org/wp-content/uploads/2023/03/bad_dice.jpg
END:VEVENT
END:VCALENDAR