BEGIN:VCALENDAR
VERSION:2.0
PRODID:-//Comic Quest - ECPv6.15.20//NONSGML v1.0//EN
CALSCALE:GREGORIAN
METHOD:PUBLISH
X-ORIGINAL-URL:https://comicquest.org
X-WR-CALDESC:Events for Comic Quest
REFRESH-INTERVAL;VALUE=DURATION:PT1H
X-Robots-Tag:noindex
X-PUBLISHED-TTL:PT1H
BEGIN:VTIMEZONE
TZID:Asia/Shanghai
BEGIN:STANDARD
TZOFFSETFROM:+0800
TZOFFSETTO:+0800
TZNAME:CST
DTSTART:20250101T000000
END:STANDARD
END:VTIMEZONE
BEGIN:VTIMEZONE
TZID:America/Los_Angeles
BEGIN:DAYLIGHT
TZOFFSETFROM:-0800
TZOFFSETTO:-0700
TZNAME:PDT
DTSTART:20250309T100000
END:DAYLIGHT
BEGIN:STANDARD
TZOFFSETFROM:-0700
TZOFFSETTO:-0800
TZNAME:PST
DTSTART:20251102T090000
END:STANDARD
BEGIN:DAYLIGHT
TZOFFSETFROM:-0800
TZOFFSETTO:-0700
TZNAME:PDT
DTSTART:20260308T100000
END:DAYLIGHT
BEGIN:STANDARD
TZOFFSETFROM:-0700
TZOFFSETTO:-0800
TZNAME:PST
DTSTART:20261101T090000
END:STANDARD
BEGIN:DAYLIGHT
TZOFFSETFROM:-0800
TZOFFSETTO:-0700
TZNAME:PDT
DTSTART:20270314T100000
END:DAYLIGHT
BEGIN:STANDARD
TZOFFSETFROM:-0700
TZOFFSETTO:-0800
TZNAME:PST
DTSTART:20271107T090000
END:STANDARD
END:VTIMEZONE
BEGIN:VTIMEZONE
TZID:UTC
BEGIN:STANDARD
TZOFFSETFROM:+0000
TZOFFSETTO:+0000
TZNAME:UTC
DTSTART:20250101T000000
END:STANDARD
END:VTIMEZONE
BEGIN:VEVENT
DTSTART;TZID=Asia/Shanghai:20260423T180000
DTEND;TZID=Asia/Shanghai:20260423T220000
DTSTAMP:20260423T113148
CREATED:20250807T232709Z
LAST-MODIFIED:20250807T232709Z
UID:10002853-1776967200-1776981600@comicquest.org
SUMMARY:Tactical Thursday
DESCRIPTION:This event is for Tactical Thursday! Come and join the fun! \nAn evening dedicated to all popular miniature games. \n  \nSome Facebook Groups \nGames Workshop \nInfinity \nStar Wars Legion \nBattletech \nMiniature Club
URL:https://comicquest.org/event/tactical-thursday-149/2026-04-23/
LOCATION:Comic Quest\, 23811 Bridger #111 CA 92630\, Lake Forest\, CA\, 92630\, United States
CATEGORIES:Event
ATTACH;FMTTYPE=image/jpeg:https://comicquest.org/wp-content/uploads/2023/01/Tactical_thursday.jpg
END:VEVENT
BEGIN:VEVENT
DTSTART;TZID=Asia/Shanghai:20260424T103000
DTEND;TZID=Asia/Shanghai:20260424T180000
DTSTAMP:20260423T113148
CREATED:20260419T205934Z
LAST-MODIFIED:20260421T004246Z
UID:10004314-1777026600-1777053600@comicquest.org
SUMMARY:Gundam Release - G004 - Phantom Aria
DESCRIPTION:G004 \nPhantom Aria Booster Box – Phantom Aria (GD04)\nProduct Details\nFeaturing characters and Mobile Suits from series making their GCG debut and developing decks for previously released cards!! Mobile Suit Victory Gundam and Turn A Gundam!\nPlenty of alternate-art cards of differing rarities for both players and collectors!\nNew gameplay strategies and skills for more exciting gameplay! Easy to learn\, difficult to master!\nCard Rarities\n• 50 Common\n• 36 Uncommon\n• 32 Rare\n• 12 Legend Rare\n• 5 Special\n• 6 Token\n• 10 Resource TOTAL:\n\n\n\nProduct Configuration:Each Booster Box contains 24 Booster Packs.
URL:https://comicquest.org/event/gundam-release-g0056/
LOCATION:Comic Quest\, 23811 Bridger #111 CA 92630\, Lake Forest\, CA\, 92630\, United States
CATEGORIES:Event,Gundam
ATTACH;FMTTYPE=image/png:https://comicquest.org/wp-content/uploads/2025/12/gunam-logo.png
END:VEVENT
BEGIN:VEVENT
DTSTART;TZID=America/Los_Angeles:20260424T180000
DTEND;TZID=America/Los_Angeles:20260424T220000
DTSTAMP:20260423T113148
CREATED:20241112T043240Z
LAST-MODIFIED:20250815T015729Z
UID:10003354-1777053600-1777068000@comicquest.org
SUMMARY:Friday Night Magic
DESCRIPTION:Friday Night Magic! Come Join the fun! \nStandard and Commander Formats. \nFree\, unless a draft or sealed event. \nOn Demand Drafts – just ask the TO. \nOn occasion sealed & draft around new set launches. \nPlease join our Facebook group & Discord. \nhttps://www.facebook.com/groups/426423864154241/
URL:https://comicquest.org/event/friday-night-magic-128/2026-04-24/
LOCATION:Comic Quest\, 23811 Bridger #111 CA 92630\, Lake Forest\, CA\, 92630\, United States
CATEGORIES:Event,Magic,Tournament
ATTACH;FMTTYPE=image/jpeg:https://comicquest.org/wp-content/uploads/2023/01/Friday-Night-Magic.jpg
END:VEVENT
BEGIN:VEVENT
DTSTART;VALUE=DATE:20260425
DTEND;VALUE=DATE:20260426
DTSTAMP:20260423T113148
CREATED:20260315T024119Z
LAST-MODIFIED:20260406T214628Z
UID:10004282-1777075200-1777161599@comicquest.org
SUMMARY:Mini Club Turn In - Degenerate Serpentfolk
DESCRIPTION:The new mini club is available. \nDegenerate Serpentfolk \nEvery two months we select a unique miniature\, and offer it for 25% Off for everyone.   Then at the end of the period\, painters turn their miniatures in for an exhibition. Everyone paints the same miniature\, but do in in unique ways.  Color choices\, techniques\, conversation\, etc. \nTurn in is Saturday April 25th
URL:https://comicquest.org/event/mini-club-turn-in-netikerti-nefsokar-mage-2/
LOCATION:Comic Quest\, 23811 Bridger #111 CA 92630\, Lake Forest\, CA\, 92630\, United States
CATEGORIES:Event,Mini Club
ATTACH;FMTTYPE=image/png:https://comicquest.org/wp-content/uploads/2026/03/Degerate-serpentfolk-with-top-banner-1.png
END:VEVENT
BEGIN:VEVENT
DTSTART;VALUE=DATE:20260425
DTEND;VALUE=DATE:20260426
DTSTAMP:20260423T113148
CREATED:20250808T000028Z
LAST-MODIFIED:20250808T000028Z
UID:10003176-1777075200-1777161599@comicquest.org
SUMMARY:Perfect Date
DESCRIPTION:  \n \nMay 25th \nFrom Miss Congeniality
URL:https://comicquest.org/event/perfect-date-4/2026-04-25/
LOCATION:Comic Quest\, 23811 Bridger #111 CA 92630\, Lake Forest\, CA\, 92630\, United States
CATEGORIES:Event
ATTACH;FMTTYPE=image/jpeg:https://comicquest.org/wp-content/uploads/2023/07/Perfect_date.jpg
END:VEVENT
BEGIN:VEVENT
DTSTART;TZID=UTC:20260425T100000
DTEND;TZID=UTC:20260425T180000
DTSTAMP:20260423T113148
CREATED:20260205T033747Z
LAST-MODIFIED:20260419T231819Z
UID:10004232-1777111200-1777140000@comicquest.org
SUMMARY:Star Wars Shatterpoint Tournament
DESCRIPTION:Star Wars Shatterpoint Tournament \n\n\n\n\n\n\nCome join us at Comic Quest in Lake Forest for a Star Wars Shatterpoint Tournament!\n\n\n\nSaturday\, April 25\n10:00 am = Registration\n10:30 am = Round 1\n\nDetails \n– $15 Entry Fee – All $$ goes to prize pool (CQ store credit) \n\nEvery participant will get NEW prize promo cards!\nSign up on Longshanks: https://shatterpoint.longshanks.org/event/34116/\n\n– If you have Terrain and a mat\, please bring it or check with TO: Eric Del Priore. \n– You may bring \n\n2 squads (a normal strike force) OR\n4 (a premiere list). If you opt to bring 4 squads\, you must follow the premiere format rules (each squad must be played once).\n\nPlease register on longshanks in advance. Link: https://shatterpoint.longshanks.org/event/34116/ \nJoin our CQ General Discord\, and scroll to the Star Wars Shatterpoint Channel section. https://discord.gg/U5D3r8Zg \nSome key notes:\n– the event is $15 and 100% goes to prizing (store credit)\n– registration is at 10am\, first round is at 10:30am – if we have an odd number we’ll bye from the people who arrived after 10:15\n– you do not need to be experienced – newer players are welcome\, think of this more like 3 paired rounds rather than min-maxing your refined list \nwe also have NEW prizes!!
URL:https://comicquest.org/event/star-wars-shatterpoint-tournament-10/
LOCATION:Comic Quest\, 23811 Bridger #111 CA 92630\, Lake Forest\, CA\, 92630\, United States
CATEGORIES:Event,Star Wars Shatterpoint,Tournament
ATTACH;FMTTYPE=image/png:https://comicquest.org/wp-content/uploads/2023/05/shatterpoint_logo.png
END:VEVENT
BEGIN:VEVENT
DTSTART;TZID=Asia/Shanghai:20260425T120000
DTEND;TZID=Asia/Shanghai:20260425T150000
DTSTAMP:20260423T113148
CREATED:20260420T005509Z
LAST-MODIFIED:20260420T005704Z
UID:10004317-1777118400-1777129200@comicquest.org
SUMMARY:Board Game Demo - Beacon Patrol
DESCRIPTION:FREE Board Game Demo: Beacon Patrol \nSaturday April 25 Noon  – 3pm \nComic Quest is providing FREE demos of a fun board game. Learn in a couple of minutes\, it might be your next favorite game. \nPlus\, a discount on the game all day! \n  \nYou and your friends are captains of the Coast Guard\, entrusted with ensuring the safety of the North Sea coast. Work together to explore the waters and inspect vital lighthouses and buoys. Act efficiently\, as time is short and you must explore as much of the sea as possible! \nMove your ship\, lay tiles\, and collaborate with your fellow captains to gain the highest honors and the admiration of all the residents along the coast. Once you start to get comfortable\, add in any of the included mini expansions to add a challenge!
URL:https://comicquest.org/event/board-game-demo-beacon-patrol/
LOCATION:Comic Quest\, 23811 Bridger #111 CA 92630\, Lake Forest\, CA\, 92630\, United States
CATEGORIES:Demo,Event
ATTACH;FMTTYPE=image/png:https://comicquest.org/wp-content/uploads/2026/04/beacon-patrol-banner.png
END:VEVENT
BEGIN:VEVENT
DTSTART;VALUE=DATE:20260426
DTEND;VALUE=DATE:20260427
DTSTAMP:20260423T113148
CREATED:20250808T000137Z
LAST-MODIFIED:20250808T000137Z
UID:10003182-1777161600-1777247999@comicquest.org
SUMMARY:Alien Day
DESCRIPTION:  \n 
URL:https://comicquest.org/event/alien-day-4/2026-04-26/
LOCATION:Comic Quest\, 23811 Bridger #111 CA 92630\, Lake Forest\, CA\, 92630\, United States
CATEGORIES:Event
ATTACH;FMTTYPE=image/png:https://comicquest.org/wp-content/uploads/2023/03/alien-day-logo.png
END:VEVENT
BEGIN:VEVENT
DTSTART;TZID=UTC:20260426T093000
DTEND;TZID=UTC:20260426T190000
DTSTAMP:20260423T113148
CREATED:20260116T235137Z
LAST-MODIFIED:20260419T232542Z
UID:10004215-1777195800-1777230000@comicquest.org
SUMMARY:Star Wars Legion Tournament (Casual)
DESCRIPTION:Star Wars Legion Casual Tourney  \nSUNDAY April 26 \n\n3 rounds of Legion with traditional 1000 point armies.\n$10 Dollar Entry fee for prize support.\nSign-Up: Longshanks: https://legion.longshanks.org/event/33728/\n\n**Questions and details refer to our CQ Discord or Facebook group Comic Quest Star Wars Legion (links below) \nSCHEDULE \nCheck In 9:30 am- 9:45 am (15 Minute) \nRound 1\, 9:50 am- 12:30 pm (2 Hour\, 40 Min) \nLunch 12:20pm- 1:20pm (50 Min) \nRound 2\, 1:25pm- 4:05pm (2 Hour\, 40 Min) \nRound 3\, 4:10pm- 6:50pm (2 Hour\, 40 Min) \nJoin our Discord server – scroll down to the Star Wars Legion category: https://discord.gg/rZ4UEjSn \n  \n  \n  \n 
URL:https://comicquest.org/event/star-wars-legion-tournament-casual-5/
LOCATION:Comic Quest\, 23811 Bridger #111 CA 92630\, Lake Forest\, CA\, 92630\, United States
CATEGORIES:Event,Star Wars Legion,Tournament
ATTACH;FMTTYPE=image/png:https://comicquest.org/wp-content/uploads/2023/03/star_wars_legion_image.png
END:VEVENT
BEGIN:VEVENT
DTSTART;TZID=Asia/Shanghai:20260427T180000
DTEND;TZID=Asia/Shanghai:20260427T210000
DTSTAMP:20260423T113148
CREATED:20251125T012317Z
LAST-MODIFIED:20251125T012318Z
UID:10001880-1777312800-1777323600@comicquest.org
SUMMARY:Card Game TCG Night (SWU & Gundam & Riftbound)
DESCRIPTION:Card Game TCG Night \n\nWEEKLY Card Game TCG at COMIC QUEST.\nMondays – 6pm to 9pm.\n\nConstructed – bring your own deck!\n\n\nStar Wars Unlimited\nGundam TCG – Best of 1\, 3 to 4 rounds\nRiftbound TCG – Best of 3\, 3 to 4 rounds\n\n\n\n\n*Join our Discord for updates \n\n\n  \n 
URL:https://comicquest.org/event/card-game-tcg-night-swu-gundam-3-2/2026-04-27/
LOCATION:Comic Quest\, 23811 Bridger #111 CA 92630\, Lake Forest\, CA\, 92630\, United States
CATEGORIES:Event,Lorcana
ATTACH;FMTTYPE=image/png:https://comicquest.org/wp-content/uploads/2025/07/monday-madness2.png
END:VEVENT
BEGIN:VEVENT
DTSTART;TZID=Asia/Shanghai:20260428T180000
DTEND;TZID=Asia/Shanghai:20260428T210000
DTSTAMP:20260423T113148
CREATED:20251230T022535Z
LAST-MODIFIED:20251230T022644Z
UID:10003832-1777399200-1777410000@comicquest.org
SUMMARY:Lorcana Night
DESCRIPTION:WEEKLY LORCANA at COMIC QUEST.\nTuesdays – 6pm to 9pm.\nCasual League play\, two game format\, 3 – 4 rounds. Casual/Manual pairings.\nConstructed – bring your own deck!\n\nEarn Points for Disney swag and promo cards.\nEXTRA POINTS: Earn points besides game wins/losses- in the following ways:\n• 1. Theme Deck  Each week we have a different deck theme. If you accomplish this during a match\, you get a point.\n• 2. Wear your Disney garb/merch. Wear something with Disney on it. Pins\, Hats\, Socks\, Shirts\, Shoes\, etc\n• 3. Bring a friend new to league\n• 4. Teach someone to play\n• 5. Come to league.\n• 6. Trade\n• 7. Play a group game!\nCome Play With Us!\n\n*Join our Discord and our Comic Quest Lorcana Facebook group for updates and the weekly deck theme. \n\n\n 
URL:https://comicquest.org/event/lorcana-night-83-2/2026-04-28/
LOCATION:Comic Quest\, 23811 Bridger #111 CA 92630\, Lake Forest\, CA\, 92630\, United States
CATEGORIES:Event,Lorcana
ATTACH;FMTTYPE=image/jpeg:https://comicquest.org/wp-content/uploads/2023/04/loracana.jpg
END:VEVENT
BEGIN:VEVENT
DTSTART;TZID=America/Los_Angeles:20260429T190000
DTEND;TZID=America/Los_Angeles:20260429T220000
DTSTAMP:20260423T113148
CREATED:20250807T232525Z
LAST-MODIFIED:20250807T232525Z
UID:10002612-1777489200-1777500000@comicquest.org
SUMMARY:Dungeons & Dragons
DESCRIPTION:When do we play? \n\nWednesdays\, 7-9pm\nat Comic Quest (http://comicquest.org/)\n\nHow does this work? \n  \nHello! We play D&D 5e on Wednesday nights\, 7-9 pm\, in-person at Comic Quest in Lake Forest. If you are looking to join one of CQ’s Wednesday night D&D 5e groups\, here’s what you need to know. \nFirst\, join our Discord Server\, which is the primary way that we organize and discuss regularly scheduled D&D groups and events.  ** Once there\, please look at Start Here for general information. Link to our Discord server: https://discord.gg/vj2xcfD \nNo experience with D&D is required\, but different tables and DMs may have preferences. If you are interested in learning how to play there are “learn to play” sessions approximately once a month. \nOur games are frequently full.  Whether there is room at any given table changes week to week\, so you have to post a message on the channel of any table you think you might be interested in to see if there are currently openings\, as priority goes to regularly attending players. Some tables have PINNED information about their campaigns (click on the push-pin looking icon on the top ribbon of each campaign).  Also\, we often run a 1-shot table which is open to new players. \nFacebook Group \nWhat do I need to play? \nPlease check in with the DM of the table/game you are joining for these details\, but some helpful items: \n\nA character sheet (either your own or the pre-generated)\nA writing utensil (Pencil\, Pen)\nAppropriate dice for your character\nAppropriate source material for your character (basic book\, Players Handbook\, ability cards\, whatever floats your boat)\nA miniature (optional\, but helpful)\n\nWe also have a Discord server: https://discord.gg/vj2xcfD](https://discord.gg/vj2xcfD?fbclid=IwAR3KLXW32PY__0KkFJjOwkw0HKpYYQMb-Cgr5HUSvDvXbl-SMZOmS0uaKXo)
URL:https://comicquest.org/event/dungeons-dragons-120/2026-04-29/
LOCATION:Comic Quest\, 23811 Bridger #111 CA 92630\, Lake Forest\, CA\, 92630\, United States
CATEGORIES:D&D,Event,Tournament
ATTACH;FMTTYPE=image/jpeg:https://comicquest.org/wp-content/uploads/2023/03/dungeons_and_dragons.jpg
END:VEVENT
BEGIN:VEVENT
DTSTART;TZID=Asia/Shanghai:20260430T180000
DTEND;TZID=Asia/Shanghai:20260430T220000
DTSTAMP:20260423T113148
CREATED:20250807T232709Z
LAST-MODIFIED:20250807T232709Z
UID:10002854-1777572000-1777586400@comicquest.org
SUMMARY:Tactical Thursday
DESCRIPTION:This event is for Tactical Thursday! Come and join the fun! \nAn evening dedicated to all popular miniature games. \n  \nSome Facebook Groups \nGames Workshop \nInfinity \nStar Wars Legion \nBattletech \nMiniature Club
URL:https://comicquest.org/event/tactical-thursday-149/2026-04-30/
LOCATION:Comic Quest\, 23811 Bridger #111 CA 92630\, Lake Forest\, CA\, 92630\, United States
CATEGORIES:Event
ATTACH;FMTTYPE=image/jpeg:https://comicquest.org/wp-content/uploads/2023/01/Tactical_thursday.jpg
END:VEVENT
END:VCALENDAR