BEGIN:VCALENDAR
VERSION:2.0
PRODID:-//Comic Quest - ECPv6.15.20//NONSGML v1.0//EN
CALSCALE:GREGORIAN
METHOD:PUBLISH
X-ORIGINAL-URL:https://comicquest.org
X-WR-CALDESC:Events for Comic Quest
REFRESH-INTERVAL;VALUE=DURATION:PT1H
X-Robots-Tag:noindex
X-PUBLISHED-TTL:PT1H
BEGIN:VTIMEZONE
TZID:UTC
BEGIN:STANDARD
TZOFFSETFROM:+0000
TZOFFSETTO:+0000
TZNAME:UTC
DTSTART:20230101T000000
END:STANDARD
END:VTIMEZONE
BEGIN:VEVENT
DTSTART;TZID=UTC:20241215T103000
DTEND;TZID=UTC:20241215T180000
DTSTAMP:20260425T075120
CREATED:20241114T193708Z
LAST-MODIFIED:20241211T231644Z
UID:10001337-1734258600-1734285600@comicquest.org
SUMMARY:Warhammer Age of Sigmar Tourney
DESCRIPTION:Warhammer Age of Sigmar Tourney. \nSunday December 15 \n\nAoS 1500pt casual RTT.\nNo painting requirements. Newbies welcome.\n$10 entry fee. Goes to prize support.\n10:30am check in.\n11:00am Round 1 starts.\n30 min lunch break after Round 1\n\nIt’s been a hot minute since we had an AoS event and we wanted to welcome in any and all new players and vets alike! There will be other events come the new year that will have 2K armies! For now just an end of the year get together! \nHope to see you there!!!! \nSign up on Longshanks: https://www.longshanks.org/event/21301/ \nWarhammer Age of Sigmar Gameplay! Come and join the fun!
URL:https://comicquest.org/event/warhammer-age-of-sigmar-tourney/
LOCATION:Comic Quest\, 23811 Bridger #111 CA 92630\, Lake Forest\, CA\, 92630\, United States
CATEGORIES:Event,Tournament,Warhammer Age of SIgmar
ATTACH;FMTTYPE=image/jpeg:https://comicquest.org/wp-content/uploads/2023/03/age_of_sigmar.jpg
END:VEVENT
END:VCALENDAR