BEGIN:VCALENDAR
VERSION:2.0
PRODID:-//Comic Quest - ECPv6.15.20//NONSGML v1.0//EN
CALSCALE:GREGORIAN
METHOD:PUBLISH
X-WR-CALNAME:Comic Quest
X-ORIGINAL-URL:https://comicquest.org
X-WR-CALDESC:Events for Comic Quest
REFRESH-INTERVAL;VALUE=DURATION:PT1H
X-Robots-Tag:noindex
X-PUBLISHED-TTL:PT1H
BEGIN:VTIMEZONE
TZID:UTC
BEGIN:STANDARD
TZOFFSETFROM:+0000
TZOFFSETTO:+0000
TZNAME:UTC
DTSTART:20220101T000000
END:STANDARD
END:VTIMEZONE
BEGIN:VEVENT
DTSTART;TZID=UTC:20260222T093000
DTEND;TZID=UTC:20260222T180000
DTSTAMP:20260423T154316
CREATED:20260117T002623Z
LAST-MODIFIED:20260215T233204Z
UID:10004217-1771752600-1771783200@comicquest.org
SUMMARY:Warmachine Tournament
DESCRIPTION:WARMACHINE TOURNAMENT! \nWhen: Sunday February 22\nRegistration – 9:30am\nRound 1 – 10:00am\nEntry Fee: $10.00 – go towards prize support\nFormat:  100pts single faction\, 2 lists; 3 Round SR 2025\n100 points 3 round Steamroller with lunch after the first round. $10.00 entry fee goes toward prize support. Polish off that one model you’ve been working on with some extra TLC for best painted. \nSign up on Longshanks: https://warmachine.longshanks.org/event/31722/ \nHope to see you there!!!! \nJoin our Discord = https://discord.gg/GKGFRbn3gx \nUpdated Schedule: \nRegistration: 930am \nRound 1: 10am-12:20pm \nLunch: 12:20pm-1:05pm \nRound 2: 1:05pm- 3: 25pm \nRound 3: 3:35pm- 5:55pm \n \n 
URL:https://comicquest.org/event/warmachine-tournament-4/
LOCATION:Comic Quest\, 23811 Bridger #111 CA 92630\, Lake Forest\, CA\, 92630\, United States
CATEGORIES:Event,Tournament,Warhammer Age of SIgmar
ATTACH;FMTTYPE=image/jpeg:https://comicquest.org/wp-content/uploads/2025/04/Warmachine-new-2025.jpg
END:VEVENT
BEGIN:VEVENT
DTSTART;TZID=UTC:20260111T103000
DTEND;TZID=UTC:20260111T173000
DTSTAMP:20260423T154317
CREATED:20251224T200734Z
LAST-MODIFIED:20260103T012516Z
UID:10003795-1768127400-1768152600@comicquest.org
SUMMARY:Warhammer Age of Sigmar SPEARHEAD
DESCRIPTION:Warhammer Age of Sigmar SPEARHEAD \nSUNDAY  JANUARY 11  \nSign up Link & Event Details: \n\nBCP link  = Sign up here: https://www.bestcoastpairings.com/event/PHsDiGithGxF\nDETAILS:\n\n10:30am\n3 Round Spearhead Tournament\nCost:$10\n90 min rounds\nPlease bring your copy of Spearhead Sand and Bone along with your cards\n\n\n\nHope to see you there!!!! \nJoin our Discord = https://discord.gg/GKGFRbn3gx \n  \n  \n 
URL:https://comicquest.org/event/warhammer-age-of-sigmar-spearhead/
LOCATION:Comic Quest\, 23811 Bridger #111 CA 92630\, Lake Forest\, CA\, 92630\, United States
CATEGORIES:Event,Tournament,Warhammer Age of SIgmar
ATTACH;FMTTYPE=image/jpeg:https://comicquest.org/wp-content/uploads/2025/12/WarHammer-Age-of-Sigmar-Spearhead.jpg
END:VEVENT
BEGIN:VEVENT
DTSTART;TZID=UTC:20251214T093000
DTEND;TZID=UTC:20251214T180000
DTSTAMP:20260423T154317
CREATED:20251015T215159Z
LAST-MODIFIED:20251015T221657Z
UID:10003665-1765704600-1765735200@comicquest.org
SUMMARY:Warmachine Tournament
DESCRIPTION:WARMACHINE TOURNAMENT! \nWhen: Sunday December 14\nRegistration – 9:30am\nRound 1 – 10:00am\nEntry Fee: $10.00 – go towards prize support\nFormat:  100pts single faction\, 2 lists; 3 Round SR 2025\n100 points 3 round Steamroller with lunch after the first round. $10.00 entry fee goes toward prize support. Polish off that one model you’ve been working on with some extra TLC for best painted. \nSign up on Longshanks: LINK HERE https://warmachine.longshanks.org/event/29367/ \nHope to see you there!!!! \nJoin our Discord = https://discord.gg/GKGFRbn3gx \nUpdated Schedule: \nRegistration: 930am \nRound 1: 10am-12:20pm \nLunch: 12:20pm-1:05pm \nRound 2: 1:05pm- 3: 25pm \nRound 3: 3:35pm- 5:55pm \n \n 
URL:https://comicquest.org/event/warmachine-tournament-3/
LOCATION:Comic Quest\, 23811 Bridger #111 CA 92630\, Lake Forest\, CA\, 92630\, United States
CATEGORIES:Event,Tournament,Warhammer Age of SIgmar
ATTACH;FMTTYPE=image/jpeg:https://comicquest.org/wp-content/uploads/2025/04/Warmachine-new-2025.jpg
END:VEVENT
BEGIN:VEVENT
DTSTART;TZID=UTC:20250914T093000
DTEND;TZID=UTC:20250914T183000
DTSTAMP:20260423T154317
CREATED:20250802T071149Z
LAST-MODIFIED:20250909T052118Z
UID:10002108-1757842200-1757874600@comicquest.org
SUMMARY:Warmachine Tournament
DESCRIPTION:WARMACHINE TOURNAMENT! \nClash at the Quest \nWhen: Sunday September 14\nRegistration – 9:30am *Updated time*\nRound 1 – 10:00am *Updated time*\nEntry Fee: $10.00 – go towards prize support\nFormat: 2 lists\, Prime 100pts.\n100 points 3 round Steamroller with lunch after the first round. $10.00 entry fee goes toward prize support. Polish off that one model you’ve been working on with some extra TLC for best painted. \nSign up on Longshanks: LINK HERE \nHope to see you there!!!! \nJoin our Discord = https://discord.gg/GKGFRbn3gx \nUpdated Schedule: \nRegistration moved to 9:30am round 1 starts 10:00am. \nThis gives us 140 min round times and 45 min lunch with the same finish time. \nRegistration: 930am \nRound 1: 10am-12:20pm \nLunch: 12:20pm-1:05pm \nRound 2: 1:05pm- 3: 25pm \nRound 3: 3:35pm- 5:55pm
URL:https://comicquest.org/event/warmachine-tournament-2/
LOCATION:Comic Quest\, 23811 Bridger #111 CA 92630\, Lake Forest\, CA\, 92630\, United States
CATEGORIES:Event,Tournament,Warhammer Age of SIgmar
ATTACH;FMTTYPE=image/jpeg:https://comicquest.org/wp-content/uploads/2025/04/Warmachine-new-2025.jpg
END:VEVENT
BEGIN:VEVENT
DTSTART;TZID=UTC:20250706T100000
DTEND;TZID=UTC:20250706T163000
DTSTAMP:20260423T154317
CREATED:20250610T233115Z
LAST-MODIFIED:20250620T190448Z
UID:10001546-1751796000-1751819400@comicquest.org
SUMMARY:Warmachine Tournament
DESCRIPTION:WARMACHINE TOURNAMENT! \nWhen: Sunday July 6\nRegistration – 10:00am\,\nRound 1 – 10:30am\nEntry Fee: $10.00 – go towards prize support\nFormat: 2 lists\, Prime 100pts.\nSign up on Longshanks links https://warmachine.longshanks.org/event/26533/ \nHope to see you there!!!! \nJoin our Discord = https://discord.gg/GKGFRbn3gx \n  \n \n 
URL:https://comicquest.org/event/warmachine-tournament/
LOCATION:Comic Quest\, 23811 Bridger #111 CA 92630\, Lake Forest\, CA\, 92630\, United States
CATEGORIES:Event,Tournament,Warhammer Age of SIgmar
ATTACH;FMTTYPE=image/jpeg:https://comicquest.org/wp-content/uploads/2025/04/Warmachine-new-2025.jpg
END:VEVENT
BEGIN:VEVENT
DTSTART;TZID=UTC:20250504T100000
DTEND;TZID=UTC:20250504T163000
DTSTAMP:20260423T154317
CREATED:20250407T232342Z
LAST-MODIFIED:20250429T005250Z
UID:10001507-1746352800-1746376200@comicquest.org
SUMMARY:Warmachine Tournament! Yep Warmachine is Back!
DESCRIPTION:WARMACHINE TOURNAMENT! \nWhen: Sunday May 4th\nRegistration – 10:00am\,\nRound 1 – 10:30am\nEntry Fee: $10.00 – go towards prize support\nFormat: 2 lists\, Prime 100pts.\nSign up on Longshanks Link; \nhttps://warmachine.longshanks.org/event/25344/\n  \nHope to see you there!!!! \nJoin our Discord = https://discord.gg/GKGFRbn3gx \n 
URL:https://comicquest.org/event/warhammer-age-of-sigmar-spearhead-tourney-paint-day/
LOCATION:Comic Quest\, 23811 Bridger #111 CA 92630\, Lake Forest\, CA\, 92630\, United States
CATEGORIES:Event,Tournament,Warhammer Age of SIgmar
ATTACH;FMTTYPE=image/jpeg:https://comicquest.org/wp-content/uploads/2025/04/Warmachine-new-2025.jpg
END:VEVENT
BEGIN:VEVENT
DTSTART;TZID=UTC:20250222T093000
DTEND;TZID=UTC:20250222T193000
DTSTAMP:20260423T154317
CREATED:20241222T233035Z
LAST-MODIFIED:20250218T010437Z
UID:10001431-1740216600-1740252600@comicquest.org
SUMMARY:Warhammer Age of Sigmar Tourney
DESCRIPTION:Warhammer Age of Sigmar Tourney. \nSATURDAY FEBRUARY 22nd \n\nAoS 2000pt casual RTT.\nAge of Sigmar 4.0 rules will be in use.\n2000 point list using the rules and restrictions provided in the latest Pitched Battle Profiles document and Army Composition rules.\nLists must be entered into BCP by Thursday February 20th\, and must be properly formatted with all units/points/enhancements/equipment/terrain/lores/etc noted.\nFirst round is at 9:30am. Please arrive by 09:15.\nENTRY FEE: $25. Pay at Door.\nPrizes = Best Painted and Store Credit.\n\nHope to see you there!!!! \nSign up Link & Event Details:\nhttps://www.bestcoastpairings.com/event/n2f04qBOvQEd \nJoin our Discord = https://discord.gg/GKGFRbn3gx \nWarhammer Age of Sigmar Gameplay! Come and join the fun! \n \n 
URL:https://comicquest.org/event/warhammer-age-of-sigmar-tourney-2/
LOCATION:Comic Quest\, 23811 Bridger #111 CA 92630\, Lake Forest\, CA\, 92630\, United States
CATEGORIES:Event,Tournament,Warhammer Age of SIgmar
ATTACH;FMTTYPE=image/jpeg:https://comicquest.org/wp-content/uploads/2023/03/age_of_sigmar.jpg
END:VEVENT
BEGIN:VEVENT
DTSTART;TZID=UTC:20241215T103000
DTEND;TZID=UTC:20241215T180000
DTSTAMP:20260423T154317
CREATED:20241114T193708Z
LAST-MODIFIED:20241211T231644Z
UID:10001337-1734258600-1734285600@comicquest.org
SUMMARY:Warhammer Age of Sigmar Tourney
DESCRIPTION:Warhammer Age of Sigmar Tourney. \nSunday December 15 \n\nAoS 1500pt casual RTT.\nNo painting requirements. Newbies welcome.\n$10 entry fee. Goes to prize support.\n10:30am check in.\n11:00am Round 1 starts.\n30 min lunch break after Round 1\n\nIt’s been a hot minute since we had an AoS event and we wanted to welcome in any and all new players and vets alike! There will be other events come the new year that will have 2K armies! For now just an end of the year get together! \nHope to see you there!!!! \nSign up on Longshanks: https://www.longshanks.org/event/21301/ \nWarhammer Age of Sigmar Gameplay! Come and join the fun!
URL:https://comicquest.org/event/warhammer-age-of-sigmar-tourney/
LOCATION:Comic Quest\, 23811 Bridger #111 CA 92630\, Lake Forest\, CA\, 92630\, United States
CATEGORIES:Event,Tournament,Warhammer Age of SIgmar
ATTACH;FMTTYPE=image/jpeg:https://comicquest.org/wp-content/uploads/2023/03/age_of_sigmar.jpg
END:VEVENT
BEGIN:VEVENT
DTSTART;TZID=UTC:20240929T130000
DTEND;TZID=UTC:20240929T193000
DTSTAMP:20260423T154317
CREATED:20240314T024204Z
LAST-MODIFIED:20240924T202920Z
UID:10000853-1727614800-1727638200@comicquest.org
SUMMARY:Comic Quest Warhammer Feast
DESCRIPTION:Comic Quest Warhammer Feast\nA Comic Quest party to enjoy Warhammer and feast on delicious gourmet cuisines from the Mortal Realms\nTickets are $60 per person. \nPlay Warhammer\, have a gourmet meal. \nSept 29\, 20024 \n1pm – 8pm \nSign up in store \n \n  \nCome and join the fun! \n \n  \n 
URL:https://comicquest.org/event/comicquestwarhammerfeast/
LOCATION:Comic Quest\, 23811 Bridger #111 CA 92630\, Lake Forest\, CA\, 92630\, United States
CATEGORIES:Event,Tournament,Warhammer Age of SIgmar
ATTACH;FMTTYPE=image/jpeg:https://comicquest.org/wp-content/uploads/2023/03/age_of_sigmar.jpg
END:VEVENT
BEGIN:VEVENT
DTSTART;VALUE=DATE:20240713
DTEND;VALUE=DATE:20240714
DTSTAMP:20260423T154317
CREATED:20240612T185210Z
LAST-MODIFIED:20240615T215800Z
UID:10000934-1720828800-1720915199@comicquest.org
SUMMARY:Warhammer Age of Sigmar - Skaventide - New Edition Launch Day
DESCRIPTION:  \nRelease of the new Edition of Age of Sigmar:  Skaventide
URL:https://comicquest.org/event/warhammer-age-of-sigmar-skaventide-new-edition/
LOCATION:Comic Quest\, 23811 Bridger #111 CA 92630\, Lake Forest\, CA\, 92630\, United States
CATEGORIES:Event,Tournament,Warhammer Age of SIgmar
ATTACH;FMTTYPE=image/jpeg:https://comicquest.org/wp-content/uploads/2023/03/age_of_sigmar.jpg
END:VEVENT
BEGIN:VEVENT
DTSTART;VALUE=DATE:20240330
DTEND;VALUE=DATE:20240331
DTSTAMP:20260423T154317
CREATED:20240225T030309Z
LAST-MODIFIED:20240326T215210Z
UID:10000831-1711756800-1711843199@comicquest.org
SUMMARY:Warhammer Age of Sigmar - Path to Glory
DESCRIPTION:Warhammer Age of Sigmar \nPath to Glory \nAoS Path to Glory escalation event game.  1\,500 Points.\n \nAge of Sigmar PATH TO GLORY escalation league – **Second Escalation Event.**\n\n\nSaturday\, March 30\, 11:00am.\n\n\n1500 points army\n\n\nSecond Escalation\, so points limit is 1500.\n\n\nThere will be a custom home-brewed battleplan.\n\n\nGreat for all levels of players.\n\n\nSign-ups preferred to guarantee your spot.\n\n\nSign up today – in store!!\n\n\nNo entry free.\n\n\n\nJoin the CQ AoS discord for more info. https://discord.gg/aPNxrKwM5u \n\n\n\n\nNot an actual RTT\, just that it will be 3 rounds like an RTT.\nThe smaller point size of starting armies will make the games much faster than a normal RTT\, and with smaller boards more games can be going. Also\, it will be using the path to glory rules rather than matched play / tournament pack rules (unless someone decides otherwise)
URL:https://comicquest.org/event/warhammer-age-of-sigmar-path-to-glory-5/
LOCATION:Comic Quest\, 23811 Bridger #111 CA 92630\, Lake Forest\, CA\, 92630\, United States
CATEGORIES:Event,Tournament,Warhammer Age of SIgmar
ATTACH;FMTTYPE=image/jpeg:https://comicquest.org/wp-content/uploads/2023/03/age_of_sigmar.jpg
END:VEVENT
BEGIN:VEVENT
DTSTART;TZID=UTC:20240310T093000
DTEND;TZID=UTC:20240310T190000
DTSTAMP:20260423T154317
CREATED:20240208T025831Z
LAST-MODIFIED:20240305T125402Z
UID:10000801-1710063000-1710097200@comicquest.org
SUMMARY:Warhammer Age of Sigmar - RTT
DESCRIPTION:  \n  \nAge Of Sigmar RTT \nSunday  9:45am \nEntry Fee $20 \nSign up on Best Coast Pairings \nhttps://www.bestcoastpairings.com/event/xhjwbja3 \nWarhammer Age of Sigmar Gameplay! Come and join the fun!
URL:https://comicquest.org/event/warhammer-age-of-sigmar-rtt-3/
LOCATION:Comic Quest\, 23811 Bridger #111 CA 92630\, Lake Forest\, CA\, 92630\, United States
CATEGORIES:Event,Tournament,Warhammer Age of SIgmar
ATTACH;FMTTYPE=image/jpeg:https://comicquest.org/wp-content/uploads/2023/03/age_of_sigmar.jpg
END:VEVENT
BEGIN:VEVENT
DTSTART;VALUE=DATE:20240224
DTEND;VALUE=DATE:20240225
DTSTAMP:20260423T154317
CREATED:20240127T043259Z
LAST-MODIFIED:20240127T043259Z
UID:10000737-1708732800-1708819199@comicquest.org
SUMMARY:Warhammer Age of Sigmar - Path to Glory
DESCRIPTION:Warhammer Age of Sigmar \nPath to Glory \nSaturday February 24th\, AoS Path to Glory 1000pt escalation event game
URL:https://comicquest.org/event/warhammer-age-of-sigmar-path-to-glory-4/
LOCATION:Comic Quest\, 23811 Bridger #111 CA 92630\, Lake Forest\, CA\, 92630\, United States
CATEGORIES:Event,Tournament,Warhammer Age of SIgmar
ATTACH;FMTTYPE=image/jpeg:https://comicquest.org/wp-content/uploads/2023/03/age_of_sigmar.jpg
END:VEVENT
BEGIN:VEVENT
DTSTART;VALUE=DATE:20240114
DTEND;VALUE=DATE:20240115
DTSTAMP:20260423T154317
CREATED:20231228T010511Z
LAST-MODIFIED:20240109T213409Z
UID:10000648-1705190400-1705276799@comicquest.org
SUMMARY:Warhammer Age of Sigmar - Path to Glory
DESCRIPTION:Warhammer Age of Sigmar \nPath to Glory \nAge of Sigmar PATH TO GLORY escalation league – launch event.\n\n\nSunday Jan 14\, 11:00am.\n\n\n700 points army to start.\n\n\nShort\, 3 rounds. Not an RTT. Using the Path to Glory rules. Mini RTT if you will. *See note below.\n\n\nMeet and greet for the league. Questions answered. Great for all levels of players.\n\n\nSign-ups preferred to guarantee your spot.\n\n\nSign up today – in store!!\n\n\nNo entry free.\n\n\nJoin the CQ AoS discord for more info. https://discord.gg/aPNxrKwM5u\n\n\nNot an actual RTT\, just that it will be 3 rounds like an RTT.\nThe smaller point size of starting armies will make the games much faster than a normal RTT\, and with smaller boards more games can be going. Also\, it will be using the path to glory rules rather than matched play / tournament pack rules (unless someone decides otherwise)
URL:https://comicquest.org/event/warhammer-age-of-sigmar-path-to-glory-3/
LOCATION:Comic Quest\, 23811 Bridger #111 CA 92630\, Lake Forest\, CA\, 92630\, United States
CATEGORIES:Event,Tournament,Warhammer Age of SIgmar
ATTACH;FMTTYPE=image/jpeg:https://comicquest.org/wp-content/uploads/2023/03/age_of_sigmar.jpg
END:VEVENT
BEGIN:VEVENT
DTSTART;TZID=UTC:20231203T093000
DTEND;TZID=UTC:20231203T190000
DTSTAMP:20260423T154317
CREATED:20231122T014210Z
LAST-MODIFIED:20231128T231805Z
UID:10000632-1701595800-1701630000@comicquest.org
SUMMARY:Warhammer Age of Sigmar - RTT
DESCRIPTION:  \n \nAge Of Sigmar RTT \nSunday Dec 3rd.  9:45am \nEntry Fee = $20 \nSign up at BCP — link below (Best Coast Pairings) \nhttps://www.bestcoastpairings.com/event/mvhjw35r \nWarhammer Age of Sigmar Gameplay! Come and join the fun!
URL:https://comicquest.org/event/warhammer-age-of-sigmar-rtt-2/
LOCATION:Comic Quest\, 23811 Bridger #111 CA 92630\, Lake Forest\, CA\, 92630\, United States
CATEGORIES:Event,Tournament,Warhammer Age of SIgmar
ATTACH;FMTTYPE=image/jpeg:https://comicquest.org/wp-content/uploads/2023/03/age_of_sigmar.jpg
END:VEVENT
BEGIN:VEVENT
DTSTART;VALUE=DATE:20231008
DTEND;VALUE=DATE:20231009
DTSTAMP:20260423T154317
CREATED:20231002T214625Z
LAST-MODIFIED:20231002T231358Z
UID:10000530-1696723200-1696809599@comicquest.org
SUMMARY:Warhammer Age of Sigmar - RTT - Ligma of Fury
DESCRIPTION:  \nComic Quest Age Of Sigmar RTT Ligma Of Fury \nSun Oct 8 \n$20 entry fee. 10:00am start. (9:45am setup) \nMissions: 1. Frigid zephyr 2. Fountains of Frost 3 Every Step is Forward \nhttps://www.bestcoastpairings.com/event/6jmqrm3q \nWarhammer Age of Sigmar Gameplay! Come and join the fun!
URL:https://comicquest.org/event/warhammer-age-of-sigmar-rtt-ligma-of-fury/
LOCATION:Comic Quest\, 23811 Bridger #111 CA 92630\, Lake Forest\, CA\, 92630\, United States
CATEGORIES:Event,Tournament,Warhammer Age of SIgmar
ATTACH;FMTTYPE=image/jpeg:https://comicquest.org/wp-content/uploads/2023/03/age_of_sigmar.jpg
END:VEVENT
BEGIN:VEVENT
DTSTART;TZID=UTC:20231001T113000
DTEND;TZID=UTC:20231001T180000
DTSTAMP:20260423T154317
CREATED:20230822T003526Z
LAST-MODIFIED:20230822T003526Z
UID:10000387-1696159800-1696183200@comicquest.org
SUMMARY:Warhammer Age of Sigmar - Path to Glory - 2 Day Apocalypse Battle
DESCRIPTION:Warhammer Age of Sigmar \nPath to Glory \n2 Day Apocalypse Battle \nSaturday Sept 30 and Sun Oct 1.
URL:https://comicquest.org/event/warhammer-age-of-sigmar-path-to-glory-2-day-apocalypse-battle-2/
LOCATION:Comic Quest\, 23811 Bridger #111 CA 92630\, Lake Forest\, CA\, 92630\, United States
CATEGORIES:Event,Tournament,Warhammer Age of SIgmar
ATTACH;FMTTYPE=image/jpeg:https://comicquest.org/wp-content/uploads/2023/03/age_of_sigmar.jpg
END:VEVENT
BEGIN:VEVENT
DTSTART;TZID=UTC:20230930T113000
DTEND;TZID=UTC:20230930T180000
DTSTAMP:20260423T154317
CREATED:20230822T003446Z
LAST-MODIFIED:20230822T003446Z
UID:10000386-1696073400-1696096800@comicquest.org
SUMMARY:Warhammer Age of Sigmar - Path to Glory - 2 Day Apocalypse Battle
DESCRIPTION:Warhammer Age of Sigmar \nPath to Glory \n2 Day Apocalypse Battle \nSaturday Sept 30 and Sun Oct 1.
URL:https://comicquest.org/event/warhammer-age-of-sigmar-path-to-glory-2-day-apocalypse-battle/
LOCATION:Comic Quest\, 23811 Bridger #111 CA 92630\, Lake Forest\, CA\, 92630\, United States
CATEGORIES:Event,Tournament,Warhammer Age of SIgmar
ATTACH;FMTTYPE=image/jpeg:https://comicquest.org/wp-content/uploads/2023/03/age_of_sigmar.jpg
END:VEVENT
BEGIN:VEVENT
DTSTART;VALUE=DATE:20230924
DTEND;VALUE=DATE:20230925
DTSTAMP:20260423T154317
CREATED:20230914T140228Z
LAST-MODIFIED:20230918T234148Z
UID:10000393-1695513600-1695599999@comicquest.org
SUMMARY:Warhammer Age of Sigmar - RTT
DESCRIPTION:Warhammer Age of Sigmar RTT \nWarhammer Age of Sigmar RTT: September Smackdown! \nSunday 9/24. 9:45 start \n$20 (Goes to Prizes) \nAoS RTT Missions are the following: \nRound 1 Limited Resources \nRound 2: Every Step is Forward \nRound 3: Fountains of Frost \n \nWarhammer Age of Sigmar Gameplay! Come and join the fun!
URL:https://comicquest.org/event/warhammer-age-of-sigmar-rtt/
LOCATION:Comic Quest\, 23811 Bridger #111 CA 92630\, Lake Forest\, CA\, 92630\, United States
CATEGORIES:Event,Tournament,Warhammer Age of SIgmar
ATTACH;FMTTYPE=image/jpeg:https://comicquest.org/wp-content/uploads/2023/03/age_of_sigmar.jpg
END:VEVENT
BEGIN:VEVENT
DTSTART;VALUE=DATE:20230730
DTEND;VALUE=DATE:20230731
DTSTAMP:20260423T154317
CREATED:20230619T001418Z
LAST-MODIFIED:20230622T140942Z
UID:10000331-1690675200-1690761599@comicquest.org
SUMMARY:Warhammer Age of Sigmar
DESCRIPTION:Warhammer Age of Sigmar \n  \n  \nWarhammer Age of Sigmar Gameplay! Come and join the fun!
URL:https://comicquest.org/event/warhammer-age-of-sigmar-edit-date-before-publish/
LOCATION:Comic Quest\, 23811 Bridger #111 CA 92630\, Lake Forest\, CA\, 92630\, United States
CATEGORIES:Event,Tournament,Warhammer Age of SIgmar
ATTACH;FMTTYPE=image/jpeg:https://comicquest.org/wp-content/uploads/2023/03/age_of_sigmar.jpg
END:VEVENT
BEGIN:VEVENT
DTSTART;TZID=UTC:20230709T113000
DTEND;TZID=UTC:20230709T180000
DTSTAMP:20260423T154317
CREATED:20230629T202322Z
LAST-MODIFIED:20230701T231051Z
UID:10000359-1688902200-1688925600@comicquest.org
SUMMARY:Warhammer Age of Sigmar - Path to Glory
DESCRIPTION:Warhammer Age of Sigmar \nPath to Glory \nStarts 11:30 AM
URL:https://comicquest.org/event/warhammer-age-of-sigmar-path-to-glory-2/
LOCATION:Comic Quest\, 23811 Bridger #111 CA 92630\, Lake Forest\, CA\, 92630\, United States
CATEGORIES:Event,Tournament,Warhammer Age of SIgmar
ATTACH;FMTTYPE=image/jpeg:https://comicquest.org/wp-content/uploads/2023/03/age_of_sigmar.jpg
END:VEVENT
BEGIN:VEVENT
DTSTART;VALUE=DATE:20230702
DTEND;VALUE=DATE:20230703
DTSTAMP:20260423T154317
CREATED:20230622T141117Z
LAST-MODIFIED:20230627T200308Z
UID:10000355-1688256000-1688342399@comicquest.org
SUMMARY:Warhammer Age of Sigmar
DESCRIPTION:Warhammer Age of Sigmar \nSunday July 2nd.  9:45 am \nEntry Fee: $20 \nSign up: \nhttps://www.bestcoastpairings.com/event/henh7ekh?fbclid=IwAR3vL3XJbj6yFR3nqP6fIlZFhjBR7MI4gH1XTBPlaUUSo-PgtCelb6FKM9U \n \n  \nWarhammer Age of Sigmar Gameplay! Come and join the fun!
URL:https://comicquest.org/event/warhammer-age-of-sigmar-2/
LOCATION:Comic Quest\, 23811 Bridger #111 CA 92630\, Lake Forest\, CA\, 92630\, United States
CATEGORIES:Event,Tournament,Warhammer Age of SIgmar
ATTACH;FMTTYPE=image/jpeg:https://comicquest.org/wp-content/uploads/2023/03/age_of_sigmar.jpg
END:VEVENT
BEGIN:VEVENT
DTSTART;TZID=UTC:20230603T110000
DTEND;TZID=UTC:20230603T140000
DTSTAMP:20260423T154317
CREATED:20230501T223707Z
LAST-MODIFIED:20230602T031104Z
UID:10000216-1685790000-1685800800@comicquest.org
SUMMARY:Warhammer Age of Sigmar - Path to Glory
DESCRIPTION:Warhammer Age of Sigmar \nPath to Glory \n \n  \nAGE OF SIGMAR *PATH TO GLORY CAMPAIGN\n\n\nThis Saturday 6/3 *Path To Glory game day\n\n\n11:30am start. to 4:00pm. (Players can stay longer if desire)\n\n\nNew Battle size limit is 1000 points!\n\n\nAn event to celebrate the first point escalation.\n\n\nEscalation league. We started at 600 points. The new battle size limit is 1000pts so this is a great opportunity for people to play their first 1000pt battles with the TOs and other players. Get tips & ideas. Learn.\nNew players welcome. You can join at anytime at the current point level.\nJoin our AoS Discord for details. Scroll to the Path to Glory category.\nhttps://discord.gg/7bETqy95
URL:https://comicquest.org/event/warhammer-age-of-sigmar-path-to-glory/
LOCATION:Comic Quest\, 23811 Bridger #111 CA 92630\, Lake Forest\, CA\, 92630\, United States
CATEGORIES:Event,Tournament,Warhammer Age of SIgmar
ATTACH;FMTTYPE=image/jpeg:https://comicquest.org/wp-content/uploads/2023/03/age_of_sigmar.jpg
END:VEVENT
BEGIN:VEVENT
DTSTART;VALUE=DATE:20230507
DTEND;VALUE=DATE:20230508
DTSTAMP:20260423T154317
CREATED:20230303T031406Z
LAST-MODIFIED:20230503T224122Z
UID:10000035-1683417600-1683503999@comicquest.org
SUMMARY:Warhammer Age of Sigmar
DESCRIPTION:Warhammer Age of Sigmar \nComic Quest RTT: The Ligmarian Smackdown. \nSun May 7 9:45 am Set up. \n10:00am Start. \nNew SBG and new OBR are allowed \nRegister for event: \nhttps://www.bestcoastpairings.com/event/3ndbaded \n \nWarhammer Age of Sigmar Gameplay! Come and join the fun!
URL:https://comicquest.org/event/warhammer-age-of-sigmar-3/
LOCATION:Comic Quest\, 23811 Bridger #111 CA 92630\, Lake Forest\, CA\, 92630\, United States
CATEGORIES:Event,Tournament,Warhammer Age of SIgmar
ATTACH;FMTTYPE=image/jpeg:https://comicquest.org/wp-content/uploads/2023/03/age_of_sigmar.jpg
END:VEVENT
BEGIN:VEVENT
DTSTART;VALUE=DATE:20230422
DTEND;VALUE=DATE:20230423
DTSTAMP:20260423T154317
CREATED:20230330T215005Z
LAST-MODIFIED:20230419T194004Z
UID:10000184-1682121600-1682207999@comicquest.org
SUMMARY:Warhammer Age of Sigmar - Path to Glory -  League Kick Off
DESCRIPTION:Warhammer Age of Sigmar \nPath to Glory \nKick off Event Saturday April 22.  11am \nCampaign starts Saturday April 22nd and runs until August 19th \nAll levels welcome.  Casual\, fun narrative campaign.
URL:https://comicquest.org/event/warhammer-age-of-sigmar-league-kick-off/
LOCATION:Comic Quest\, 23811 Bridger #111 CA 92630\, Lake Forest\, CA\, 92630\, United States
CATEGORIES:Event,Tournament,Warhammer Age of SIgmar
ATTACH;FMTTYPE=image/jpeg:https://comicquest.org/wp-content/uploads/2023/03/age_of_sigmar.jpg
END:VEVENT
BEGIN:VEVENT
DTSTART;VALUE=DATE:20230319
DTEND;VALUE=DATE:20230320
DTSTAMP:20260423T154317
CREATED:20230303T022427Z
LAST-MODIFIED:20230313T015405Z
UID:10000022-1679184000-1679270399@comicquest.org
SUMMARY:Warhammer Age of Sigmar
DESCRIPTION:AGE OF SIGMAR Tournament\n*Sunday\, March 19* 10:00 am.\n\n\nSign up on the Best Coast Pairings app (BCP). Link below\nCOME PLAY WITH US!!\n\n\nTournament Rules\nThe Best Coast Pairings App will be used for the tournament. Each player must have the app available.\n\nhttps://www.bestcoastpairings.com/event/7tj367x1 \n\n\n\n\n$25 Entry to prize pool.\n\n\nAge of Sigmar 3.0 rules will be in use.\n2000 point list using the rules and restrictions provided in the Pitched Battle section from the General’s Handbook 2022-2023 Season 2.\nAny kind of ability you can choose before the game must be chosen before the event and recorded on your army roster clearly. These choices are made for the entire tournament\, and cannot be changed during the event.\nThere are no paint requirements\, but models must be appropriately based.\nThere will be a painting prize.\nEach Player must adhere to the Player’s Code.\nChess clocks will be available. See Chess Clock rules.\nLists must be entered into BCP by Thursday March 17\, and must list all points/terrain/grand strategies/enhancements.\nDice must be standard cubes\, with symbols only allowed in place of a 6. Symbols on any other face are not allowed.\nFirst round is at 10:00. Please arrive by 09.30
URL:https://comicquest.org/event/warhammer-age-of-sigmar/
LOCATION:Comic Quest\, 23811 Bridger #111 CA 92630\, Lake Forest\, CA\, 92630\, United States
CATEGORIES:Event,Tournament,Warhammer Age of SIgmar
ATTACH;FMTTYPE=image/jpeg:https://comicquest.org/wp-content/uploads/2023/03/age_of_sigmar.jpg
END:VEVENT
END:VCALENDAR