BEGIN:VCALENDAR
VERSION:2.0
PRODID:-//Comic Quest - ECPv6.15.20//NONSGML v1.0//EN
CALSCALE:GREGORIAN
METHOD:PUBLISH
X-WR-CALNAME:Comic Quest
X-ORIGINAL-URL:https://comicquest.org
X-WR-CALDESC:Events for Comic Quest
REFRESH-INTERVAL;VALUE=DURATION:PT1H
X-Robots-Tag:noindex
X-PUBLISHED-TTL:PT1H
BEGIN:VTIMEZONE
TZID:Asia/Shanghai
BEGIN:STANDARD
TZOFFSETFROM:+0800
TZOFFSETTO:+0800
TZNAME:CST
DTSTART:20250101T000000
END:STANDARD
END:VTIMEZONE
BEGIN:VEVENT
DTSTART;VALUE=DATE:20260801
DTEND;VALUE=DATE:20260802
DTSTAMP:20260423T085939
CREATED:20250902T181506Z
LAST-MODIFIED:20250902T181506Z
UID:10003594-1785542400-1785628799@comicquest.org
SUMMARY:Spider-Man Day
DESCRIPTION:Spider-Man entered the comic-book universe in issue 15 of Marvel Comics’ “Amazing Fantasy” in August 1962 and has been a major player ever since. \nGet ready to celebrate the amazing Spider-Man on August 1st for Spider-Man Day! This day was first created in 2014 to honor the iconic character who has been a part of pop culture since his comic debut back in 1962.
URL:https://comicquest.org/event/spider-man-day-3/2026-08-01/
LOCATION:Comic Quest\, 23811 Bridger #111 CA 92630\, Lake Forest\, CA\, 92630\, United States
CATEGORIES:Event
ATTACH;FMTTYPE=image/jpeg:https://comicquest.org/wp-content/uploads/2024/07/spider-man-day2.jpg
END:VEVENT
BEGIN:VEVENT
DTSTART;VALUE=DATE:20270801
DTEND;VALUE=DATE:20270802
DTSTAMP:20260423T085939
CREATED:20250902T181506Z
LAST-MODIFIED:20250902T181506Z
UID:10003595-1817078400-1817164799@comicquest.org
SUMMARY:Spider-Man Day
DESCRIPTION:Spider-Man entered the comic-book universe in issue 15 of Marvel Comics’ “Amazing Fantasy” in August 1962 and has been a major player ever since. \nGet ready to celebrate the amazing Spider-Man on August 1st for Spider-Man Day! This day was first created in 2014 to honor the iconic character who has been a part of pop culture since his comic debut back in 1962.
URL:https://comicquest.org/event/spider-man-day-3/2027-08-01/
LOCATION:Comic Quest\, 23811 Bridger #111 CA 92630\, Lake Forest\, CA\, 92630\, United States
CATEGORIES:Event
ATTACH;FMTTYPE=image/jpeg:https://comicquest.org/wp-content/uploads/2024/07/spider-man-day2.jpg
END:VEVENT
BEGIN:VEVENT
DTSTART;VALUE=DATE:20280801
DTEND;VALUE=DATE:20280802
DTSTAMP:20260423T085939
CREATED:20250902T181506Z
LAST-MODIFIED:20250902T181506Z
UID:10003596-1848700800-1848787199@comicquest.org
SUMMARY:Spider-Man Day
DESCRIPTION:Spider-Man entered the comic-book universe in issue 15 of Marvel Comics’ “Amazing Fantasy” in August 1962 and has been a major player ever since. \nGet ready to celebrate the amazing Spider-Man on August 1st for Spider-Man Day! This day was first created in 2014 to honor the iconic character who has been a part of pop culture since his comic debut back in 1962.
URL:https://comicquest.org/event/spider-man-day-3/2028-08-01/
LOCATION:Comic Quest\, 23811 Bridger #111 CA 92630\, Lake Forest\, CA\, 92630\, United States
CATEGORIES:Event
ATTACH;FMTTYPE=image/jpeg:https://comicquest.org/wp-content/uploads/2024/07/spider-man-day2.jpg
END:VEVENT
BEGIN:VEVENT
DTSTART;VALUE=DATE:20290801
DTEND;VALUE=DATE:20290802
DTSTAMP:20260423T085939
CREATED:20250902T181506Z
LAST-MODIFIED:20250902T181506Z
UID:10003597-1880236800-1880323199@comicquest.org
SUMMARY:Spider-Man Day
DESCRIPTION:Spider-Man entered the comic-book universe in issue 15 of Marvel Comics’ “Amazing Fantasy” in August 1962 and has been a major player ever since. \nGet ready to celebrate the amazing Spider-Man on August 1st for Spider-Man Day! This day was first created in 2014 to honor the iconic character who has been a part of pop culture since his comic debut back in 1962.
URL:https://comicquest.org/event/spider-man-day-3/2029-08-01/
LOCATION:Comic Quest\, 23811 Bridger #111 CA 92630\, Lake Forest\, CA\, 92630\, United States
CATEGORIES:Event
ATTACH;FMTTYPE=image/jpeg:https://comicquest.org/wp-content/uploads/2024/07/spider-man-day2.jpg
END:VEVENT
BEGIN:VEVENT
DTSTART;VALUE=DATE:20300801
DTEND;VALUE=DATE:20300802
DTSTAMP:20260423T085939
CREATED:20250902T181506Z
LAST-MODIFIED:20250902T181506Z
UID:10003598-1911772800-1911859199@comicquest.org
SUMMARY:Spider-Man Day
DESCRIPTION:Spider-Man entered the comic-book universe in issue 15 of Marvel Comics’ “Amazing Fantasy” in August 1962 and has been a major player ever since. \nGet ready to celebrate the amazing Spider-Man on August 1st for Spider-Man Day! This day was first created in 2014 to honor the iconic character who has been a part of pop culture since his comic debut back in 1962.
URL:https://comicquest.org/event/spider-man-day-3/2030-08-01/
LOCATION:Comic Quest\, 23811 Bridger #111 CA 92630\, Lake Forest\, CA\, 92630\, United States
CATEGORIES:Event
ATTACH;FMTTYPE=image/jpeg:https://comicquest.org/wp-content/uploads/2024/07/spider-man-day2.jpg
END:VEVENT
END:VCALENDAR