BEGIN:VCALENDAR
VERSION:2.0
PRODID:-//Comic Quest - ECPv6.15.20//NONSGML v1.0//EN
CALSCALE:GREGORIAN
METHOD:PUBLISH
X-WR-CALNAME:Comic Quest
X-ORIGINAL-URL:https://comicquest.org
X-WR-CALDESC:Events for Comic Quest
REFRESH-INTERVAL;VALUE=DURATION:PT1H
X-Robots-Tag:noindex
X-PUBLISHED-TTL:PT1H
BEGIN:VTIMEZONE
TZID:Asia/Shanghai
BEGIN:STANDARD
TZOFFSETFROM:+0800
TZOFFSETTO:+0800
TZNAME:CST
DTSTART:20250101T000000
END:STANDARD
END:VTIMEZONE
BEGIN:VEVENT
DTSTART;VALUE=DATE:20260828
DTEND;VALUE=DATE:20260829
DTSTAMP:20260423T124846
CREATED:20250902T181904Z
LAST-MODIFIED:20250902T181904Z
UID:10003606-1787875200-1787961599@comicquest.org
SUMMARY:Jack Kirby's Birthday
DESCRIPTION:It’s Jack Kirby’s birthday! Born Aug. 28\, 1917\, Jack “King of Comics” Kirby is arguably the most prolific and most influential comic book artist in history \n 
URL:https://comicquest.org/event/jack-kirbys-birthday-4/2026-08-28/
LOCATION:Comic Quest\, 23811 Bridger #111 CA 92630\, Lake Forest\, CA\, 92630\, United States
CATEGORIES:Event
ATTACH;FMTTYPE=image/jpeg:https://comicquest.org/wp-content/uploads/2023/03/Jack_Kirby_logo.jpg
END:VEVENT
BEGIN:VEVENT
DTSTART;VALUE=DATE:20270828
DTEND;VALUE=DATE:20270829
DTSTAMP:20260423T124846
CREATED:20250902T181904Z
LAST-MODIFIED:20250902T181904Z
UID:10003607-1819411200-1819497599@comicquest.org
SUMMARY:Jack Kirby's Birthday
DESCRIPTION:It’s Jack Kirby’s birthday! Born Aug. 28\, 1917\, Jack “King of Comics” Kirby is arguably the most prolific and most influential comic book artist in history \n 
URL:https://comicquest.org/event/jack-kirbys-birthday-4/2027-08-28/
LOCATION:Comic Quest\, 23811 Bridger #111 CA 92630\, Lake Forest\, CA\, 92630\, United States
CATEGORIES:Event
ATTACH;FMTTYPE=image/jpeg:https://comicquest.org/wp-content/uploads/2023/03/Jack_Kirby_logo.jpg
END:VEVENT
BEGIN:VEVENT
DTSTART;VALUE=DATE:20280828
DTEND;VALUE=DATE:20280829
DTSTAMP:20260423T124846
CREATED:20250902T181904Z
LAST-MODIFIED:20250902T181904Z
UID:10003608-1851033600-1851119999@comicquest.org
SUMMARY:Jack Kirby's Birthday
DESCRIPTION:It’s Jack Kirby’s birthday! Born Aug. 28\, 1917\, Jack “King of Comics” Kirby is arguably the most prolific and most influential comic book artist in history \n 
URL:https://comicquest.org/event/jack-kirbys-birthday-4/2028-08-28/
LOCATION:Comic Quest\, 23811 Bridger #111 CA 92630\, Lake Forest\, CA\, 92630\, United States
CATEGORIES:Event
ATTACH;FMTTYPE=image/jpeg:https://comicquest.org/wp-content/uploads/2023/03/Jack_Kirby_logo.jpg
END:VEVENT
BEGIN:VEVENT
DTSTART;VALUE=DATE:20290828
DTEND;VALUE=DATE:20290829
DTSTAMP:20260423T124846
CREATED:20250902T181904Z
LAST-MODIFIED:20250902T181904Z
UID:10003609-1882569600-1882655999@comicquest.org
SUMMARY:Jack Kirby's Birthday
DESCRIPTION:It’s Jack Kirby’s birthday! Born Aug. 28\, 1917\, Jack “King of Comics” Kirby is arguably the most prolific and most influential comic book artist in history \n 
URL:https://comicquest.org/event/jack-kirbys-birthday-4/2029-08-28/
LOCATION:Comic Quest\, 23811 Bridger #111 CA 92630\, Lake Forest\, CA\, 92630\, United States
CATEGORIES:Event
ATTACH;FMTTYPE=image/jpeg:https://comicquest.org/wp-content/uploads/2023/03/Jack_Kirby_logo.jpg
END:VEVENT
BEGIN:VEVENT
DTSTART;VALUE=DATE:20300828
DTEND;VALUE=DATE:20300829
DTSTAMP:20260423T124846
CREATED:20250902T181904Z
LAST-MODIFIED:20250902T181904Z
UID:10003610-1914105600-1914191999@comicquest.org
SUMMARY:Jack Kirby's Birthday
DESCRIPTION:It’s Jack Kirby’s birthday! Born Aug. 28\, 1917\, Jack “King of Comics” Kirby is arguably the most prolific and most influential comic book artist in history \n 
URL:https://comicquest.org/event/jack-kirbys-birthday-4/2030-08-28/
LOCATION:Comic Quest\, 23811 Bridger #111 CA 92630\, Lake Forest\, CA\, 92630\, United States
CATEGORIES:Event
ATTACH;FMTTYPE=image/jpeg:https://comicquest.org/wp-content/uploads/2023/03/Jack_Kirby_logo.jpg
END:VEVENT
END:VCALENDAR