BEGIN:VCALENDAR
VERSION:2.0
PRODID:-//Comic Quest - ECPv6.15.20//NONSGML v1.0//EN
CALSCALE:GREGORIAN
METHOD:PUBLISH
X-WR-CALNAME:Comic Quest
X-ORIGINAL-URL:https://comicquest.org
X-WR-CALDESC:Events for Comic Quest
REFRESH-INTERVAL;VALUE=DURATION:PT1H
X-Robots-Tag:noindex
X-PUBLISHED-TTL:PT1H
BEGIN:VTIMEZONE
TZID:Asia/Shanghai
BEGIN:STANDARD
TZOFFSETFROM:+0800
TZOFFSETTO:+0800
TZNAME:CST
DTSTART:20250101T000000
END:STANDARD
END:VTIMEZONE
BEGIN:VEVENT
DTSTART;VALUE=DATE:20260828
DTEND;VALUE=DATE:20260829
DTSTAMP:20260423T113120
CREATED:20250902T181957Z
LAST-MODIFIED:20250902T181957Z
UID:10003612-1787875200-1787961599@comicquest.org
SUMMARY:Power Rangers Day
DESCRIPTION:  \n \nNational Power Rangers Day is celebrated annually on August 28 to commemorate the premiere of Mighty Morphin Power Rangers on that date in 1993. Hasbro created the day to celebrate the show’s 25th anniversary and to recognize the original “teenagers with attitude”. The show’s positive messages and characters have resonated with people around the world\, who can see themselves in these inspiring teenage heroes.
URL:https://comicquest.org/event/power-rangers-day-3/2026-08-28/
LOCATION:Comic Quest\, 23811 Bridger #111 CA 92630\, Lake Forest\, CA\, 92630\, United States
CATEGORIES:Event
ATTACH;FMTTYPE=image/jpeg:https://comicquest.org/wp-content/uploads/2024/07/Power-Rangers-Day2.jpg
END:VEVENT
BEGIN:VEVENT
DTSTART;VALUE=DATE:20270828
DTEND;VALUE=DATE:20270829
DTSTAMP:20260423T113120
CREATED:20250902T181957Z
LAST-MODIFIED:20250902T181957Z
UID:10003613-1819411200-1819497599@comicquest.org
SUMMARY:Power Rangers Day
DESCRIPTION:  \n \nNational Power Rangers Day is celebrated annually on August 28 to commemorate the premiere of Mighty Morphin Power Rangers on that date in 1993. Hasbro created the day to celebrate the show’s 25th anniversary and to recognize the original “teenagers with attitude”. The show’s positive messages and characters have resonated with people around the world\, who can see themselves in these inspiring teenage heroes.
URL:https://comicquest.org/event/power-rangers-day-3/2027-08-28/
LOCATION:Comic Quest\, 23811 Bridger #111 CA 92630\, Lake Forest\, CA\, 92630\, United States
CATEGORIES:Event
ATTACH;FMTTYPE=image/jpeg:https://comicquest.org/wp-content/uploads/2024/07/Power-Rangers-Day2.jpg
END:VEVENT
BEGIN:VEVENT
DTSTART;VALUE=DATE:20280828
DTEND;VALUE=DATE:20280829
DTSTAMP:20260423T113120
CREATED:20250902T181957Z
LAST-MODIFIED:20250902T181957Z
UID:10003614-1851033600-1851119999@comicquest.org
SUMMARY:Power Rangers Day
DESCRIPTION:  \n \nNational Power Rangers Day is celebrated annually on August 28 to commemorate the premiere of Mighty Morphin Power Rangers on that date in 1993. Hasbro created the day to celebrate the show’s 25th anniversary and to recognize the original “teenagers with attitude”. The show’s positive messages and characters have resonated with people around the world\, who can see themselves in these inspiring teenage heroes.
URL:https://comicquest.org/event/power-rangers-day-3/2028-08-28/
LOCATION:Comic Quest\, 23811 Bridger #111 CA 92630\, Lake Forest\, CA\, 92630\, United States
CATEGORIES:Event
ATTACH;FMTTYPE=image/jpeg:https://comicquest.org/wp-content/uploads/2024/07/Power-Rangers-Day2.jpg
END:VEVENT
BEGIN:VEVENT
DTSTART;VALUE=DATE:20290828
DTEND;VALUE=DATE:20290829
DTSTAMP:20260423T113120
CREATED:20250902T181957Z
LAST-MODIFIED:20250902T181957Z
UID:10003615-1882569600-1882655999@comicquest.org
SUMMARY:Power Rangers Day
DESCRIPTION:  \n \nNational Power Rangers Day is celebrated annually on August 28 to commemorate the premiere of Mighty Morphin Power Rangers on that date in 1993. Hasbro created the day to celebrate the show’s 25th anniversary and to recognize the original “teenagers with attitude”. The show’s positive messages and characters have resonated with people around the world\, who can see themselves in these inspiring teenage heroes.
URL:https://comicquest.org/event/power-rangers-day-3/2029-08-28/
LOCATION:Comic Quest\, 23811 Bridger #111 CA 92630\, Lake Forest\, CA\, 92630\, United States
CATEGORIES:Event
ATTACH;FMTTYPE=image/jpeg:https://comicquest.org/wp-content/uploads/2024/07/Power-Rangers-Day2.jpg
END:VEVENT
BEGIN:VEVENT
DTSTART;VALUE=DATE:20300828
DTEND;VALUE=DATE:20300829
DTSTAMP:20260423T113120
CREATED:20250902T181957Z
LAST-MODIFIED:20250902T181957Z
UID:10003616-1914105600-1914191999@comicquest.org
SUMMARY:Power Rangers Day
DESCRIPTION:  \n \nNational Power Rangers Day is celebrated annually on August 28 to commemorate the premiere of Mighty Morphin Power Rangers on that date in 1993. Hasbro created the day to celebrate the show’s 25th anniversary and to recognize the original “teenagers with attitude”. The show’s positive messages and characters have resonated with people around the world\, who can see themselves in these inspiring teenage heroes.
URL:https://comicquest.org/event/power-rangers-day-3/2030-08-28/
LOCATION:Comic Quest\, 23811 Bridger #111 CA 92630\, Lake Forest\, CA\, 92630\, United States
CATEGORIES:Event
ATTACH;FMTTYPE=image/jpeg:https://comicquest.org/wp-content/uploads/2024/07/Power-Rangers-Day2.jpg
END:VEVENT
END:VCALENDAR