BEGIN:VCALENDAR
VERSION:2.0
PRODID:-//Comic Quest - ECPv6.15.20//NONSGML v1.0//EN
CALSCALE:GREGORIAN
METHOD:PUBLISH
X-WR-CALNAME:Comic Quest
X-ORIGINAL-URL:https://comicquest.org
X-WR-CALDESC:Events for Comic Quest
REFRESH-INTERVAL;VALUE=DURATION:PT1H
X-Robots-Tag:noindex
X-PUBLISHED-TTL:PT1H
BEGIN:VTIMEZONE
TZID:Asia/Shanghai
BEGIN:STANDARD
TZOFFSETFROM:+0800
TZOFFSETTO:+0800
TZNAME:CST
DTSTART:20250101T000000
END:STANDARD
END:VTIMEZONE
BEGIN:VEVENT
DTSTART;VALUE=DATE:20260907
DTEND;VALUE=DATE:20260908
DTSTAMP:20260423T085932
CREATED:20251021T233659Z
LAST-MODIFIED:20251021T233659Z
UID:10003684-1788739200-1788825599@comicquest.org
SUMMARY:Labor Day
DESCRIPTION:COMIC QUEST is OPEN on LABOR DAY.  *11:00am to 9:00pm * \n  \n 
URL:https://comicquest.org/event/labor-day-2/2026-09-07/
LOCATION:Comic Quest\, 23811 Bridger #111 CA 92630\, Lake Forest\, CA\, 92630\, United States
CATEGORIES:Holiday
ATTACH;FMTTYPE=image/jpeg:https://comicquest.org/wp-content/uploads/2024/01/Labor-Day-Open-Regular-Hours-rev24-a.jpg
END:VEVENT
BEGIN:VEVENT
DTSTART;VALUE=DATE:20270906
DTEND;VALUE=DATE:20270907
DTSTAMP:20260423T085932
CREATED:20251021T233659Z
LAST-MODIFIED:20251021T233659Z
UID:10003685-1820188800-1820275199@comicquest.org
SUMMARY:Labor Day
DESCRIPTION:COMIC QUEST is OPEN on LABOR DAY.  *11:00am to 9:00pm * \n  \n 
URL:https://comicquest.org/event/labor-day-2/2027-09-06/
LOCATION:Comic Quest\, 23811 Bridger #111 CA 92630\, Lake Forest\, CA\, 92630\, United States
CATEGORIES:Holiday
ATTACH;FMTTYPE=image/jpeg:https://comicquest.org/wp-content/uploads/2024/01/Labor-Day-Open-Regular-Hours-rev24-a.jpg
END:VEVENT
BEGIN:VEVENT
DTSTART;VALUE=DATE:20280904
DTEND;VALUE=DATE:20280905
DTSTAMP:20260423T085932
CREATED:20251021T233659Z
LAST-MODIFIED:20251021T233659Z
UID:10003686-1851638400-1851724799@comicquest.org
SUMMARY:Labor Day
DESCRIPTION:COMIC QUEST is OPEN on LABOR DAY.  *11:00am to 9:00pm * \n  \n 
URL:https://comicquest.org/event/labor-day-2/2028-09-04/
LOCATION:Comic Quest\, 23811 Bridger #111 CA 92630\, Lake Forest\, CA\, 92630\, United States
CATEGORIES:Holiday
ATTACH;FMTTYPE=image/jpeg:https://comicquest.org/wp-content/uploads/2024/01/Labor-Day-Open-Regular-Hours-rev24-a.jpg
END:VEVENT
BEGIN:VEVENT
DTSTART;VALUE=DATE:20290903
DTEND;VALUE=DATE:20290904
DTSTAMP:20260423T085932
CREATED:20251021T233659Z
LAST-MODIFIED:20251021T233659Z
UID:10003687-1883088000-1883174399@comicquest.org
SUMMARY:Labor Day
DESCRIPTION:COMIC QUEST is OPEN on LABOR DAY.  *11:00am to 9:00pm * \n  \n 
URL:https://comicquest.org/event/labor-day-2/2029-09-03/
LOCATION:Comic Quest\, 23811 Bridger #111 CA 92630\, Lake Forest\, CA\, 92630\, United States
CATEGORIES:Holiday
ATTACH;FMTTYPE=image/jpeg:https://comicquest.org/wp-content/uploads/2024/01/Labor-Day-Open-Regular-Hours-rev24-a.jpg
END:VEVENT
BEGIN:VEVENT
DTSTART;VALUE=DATE:20300902
DTEND;VALUE=DATE:20300903
DTSTAMP:20260423T085932
CREATED:20251021T233659Z
LAST-MODIFIED:20251021T233659Z
UID:10003688-1914537600-1914623999@comicquest.org
SUMMARY:Labor Day
DESCRIPTION:COMIC QUEST is OPEN on LABOR DAY.  *11:00am to 9:00pm * \n  \n 
URL:https://comicquest.org/event/labor-day-2/2030-09-02/
LOCATION:Comic Quest\, 23811 Bridger #111 CA 92630\, Lake Forest\, CA\, 92630\, United States
CATEGORIES:Holiday
ATTACH;FMTTYPE=image/jpeg:https://comicquest.org/wp-content/uploads/2024/01/Labor-Day-Open-Regular-Hours-rev24-a.jpg
END:VEVENT
END:VCALENDAR