BEGIN:VCALENDAR
VERSION:2.0
PRODID:-//Comic Quest - ECPv6.15.20//NONSGML v1.0//EN
CALSCALE:GREGORIAN
METHOD:PUBLISH
X-WR-CALNAME:Comic Quest
X-ORIGINAL-URL:https://comicquest.org
X-WR-CALDESC:Events for Comic Quest
REFRESH-INTERVAL;VALUE=DURATION:PT1H
X-Robots-Tag:noindex
X-PUBLISHED-TTL:PT1H
BEGIN:VTIMEZONE
TZID:Asia/Shanghai
BEGIN:STANDARD
TZOFFSETFROM:+0800
TZOFFSETTO:+0800
TZNAME:CST
DTSTART:20250101T000000
END:STANDARD
END:VTIMEZONE
BEGIN:VEVENT
DTSTART;VALUE=DATE:20260908
DTEND;VALUE=DATE:20260909
DTSTAMP:20260423T113143
CREATED:20251021T233808Z
LAST-MODIFIED:20251021T233808Z
UID:10003690-1788825600-1788911999@comicquest.org
SUMMARY:Star Trek Day
DESCRIPTION:On September 8\, 1966\, the series premiered on U.S. television with “The Man Trap.”. \n 
URL:https://comicquest.org/event/star-trek-day-4/2026-09-08/
LOCATION:Comic Quest\, 23811 Bridger #111 CA 92630\, Lake Forest\, CA\, 92630\, United States
CATEGORIES:Event
ATTACH;FMTTYPE=image/jpeg:https://comicquest.org/wp-content/uploads/2023/03/star_trek_day_sept_8.jpg
END:VEVENT
BEGIN:VEVENT
DTSTART;VALUE=DATE:20270908
DTEND;VALUE=DATE:20270909
DTSTAMP:20260423T113143
CREATED:20251021T233808Z
LAST-MODIFIED:20251021T233808Z
UID:10003691-1820361600-1820447999@comicquest.org
SUMMARY:Star Trek Day
DESCRIPTION:On September 8\, 1966\, the series premiered on U.S. television with “The Man Trap.”. \n 
URL:https://comicquest.org/event/star-trek-day-4/2027-09-08/
LOCATION:Comic Quest\, 23811 Bridger #111 CA 92630\, Lake Forest\, CA\, 92630\, United States
CATEGORIES:Event
ATTACH;FMTTYPE=image/jpeg:https://comicquest.org/wp-content/uploads/2023/03/star_trek_day_sept_8.jpg
END:VEVENT
BEGIN:VEVENT
DTSTART;VALUE=DATE:20280908
DTEND;VALUE=DATE:20280909
DTSTAMP:20260423T113143
CREATED:20251021T233808Z
LAST-MODIFIED:20251021T233808Z
UID:10003692-1851984000-1852070399@comicquest.org
SUMMARY:Star Trek Day
DESCRIPTION:On September 8\, 1966\, the series premiered on U.S. television with “The Man Trap.”. \n 
URL:https://comicquest.org/event/star-trek-day-4/2028-09-08/
LOCATION:Comic Quest\, 23811 Bridger #111 CA 92630\, Lake Forest\, CA\, 92630\, United States
CATEGORIES:Event
ATTACH;FMTTYPE=image/jpeg:https://comicquest.org/wp-content/uploads/2023/03/star_trek_day_sept_8.jpg
END:VEVENT
BEGIN:VEVENT
DTSTART;VALUE=DATE:20290908
DTEND;VALUE=DATE:20290909
DTSTAMP:20260423T113143
CREATED:20251021T233808Z
LAST-MODIFIED:20251021T233808Z
UID:10003693-1883520000-1883606399@comicquest.org
SUMMARY:Star Trek Day
DESCRIPTION:On September 8\, 1966\, the series premiered on U.S. television with “The Man Trap.”. \n 
URL:https://comicquest.org/event/star-trek-day-4/2029-09-08/
LOCATION:Comic Quest\, 23811 Bridger #111 CA 92630\, Lake Forest\, CA\, 92630\, United States
CATEGORIES:Event
ATTACH;FMTTYPE=image/jpeg:https://comicquest.org/wp-content/uploads/2023/03/star_trek_day_sept_8.jpg
END:VEVENT
BEGIN:VEVENT
DTSTART;VALUE=DATE:20300908
DTEND;VALUE=DATE:20300909
DTSTAMP:20260423T113143
CREATED:20251021T233808Z
LAST-MODIFIED:20251021T233808Z
UID:10003694-1915056000-1915142399@comicquest.org
SUMMARY:Star Trek Day
DESCRIPTION:On September 8\, 1966\, the series premiered on U.S. television with “The Man Trap.”. \n 
URL:https://comicquest.org/event/star-trek-day-4/2030-09-08/
LOCATION:Comic Quest\, 23811 Bridger #111 CA 92630\, Lake Forest\, CA\, 92630\, United States
CATEGORIES:Event
ATTACH;FMTTYPE=image/jpeg:https://comicquest.org/wp-content/uploads/2023/03/star_trek_day_sept_8.jpg
END:VEVENT
END:VCALENDAR