BEGIN:VCALENDAR
VERSION:2.0
PRODID:-//Comic Quest - ECPv6.15.20//NONSGML v1.0//EN
CALSCALE:GREGORIAN
METHOD:PUBLISH
X-WR-CALNAME:Comic Quest
X-ORIGINAL-URL:https://comicquest.org
X-WR-CALDESC:Events for Comic Quest
REFRESH-INTERVAL;VALUE=DURATION:PT1H
X-Robots-Tag:noindex
X-PUBLISHED-TTL:PT1H
BEGIN:VTIMEZONE
TZID:Asia/Shanghai
BEGIN:STANDARD
TZOFFSETFROM:+0800
TZOFFSETTO:+0800
TZNAME:CST
DTSTART:20250101T000000
END:STANDARD
END:VTIMEZONE
BEGIN:VEVENT
DTSTART;VALUE=DATE:20260911
DTEND;VALUE=DATE:20260912
DTSTAMP:20260423T124844
CREATED:20251021T233858Z
LAST-MODIFIED:20251021T233858Z
UID:10003696-1789084800-1789171199@comicquest.org
SUMMARY:Patriots Day
DESCRIPTION:  \n 
URL:https://comicquest.org/event/patriots-day-4/2026-09-11/
LOCATION:Comic Quest\, 23811 Bridger #111 CA 92630\, Lake Forest\, CA\, 92630\, United States
CATEGORIES:Event
ATTACH;FMTTYPE=image/jpeg:https://comicquest.org/wp-content/uploads/2023/05/patriot_day_logo.jpg
END:VEVENT
BEGIN:VEVENT
DTSTART;VALUE=DATE:20270911
DTEND;VALUE=DATE:20270912
DTSTAMP:20260423T124844
CREATED:20251021T233858Z
LAST-MODIFIED:20251021T233858Z
UID:10003697-1820620800-1820707199@comicquest.org
SUMMARY:Patriots Day
DESCRIPTION:  \n 
URL:https://comicquest.org/event/patriots-day-4/2027-09-11/
LOCATION:Comic Quest\, 23811 Bridger #111 CA 92630\, Lake Forest\, CA\, 92630\, United States
CATEGORIES:Event
ATTACH;FMTTYPE=image/jpeg:https://comicquest.org/wp-content/uploads/2023/05/patriot_day_logo.jpg
END:VEVENT
BEGIN:VEVENT
DTSTART;VALUE=DATE:20280911
DTEND;VALUE=DATE:20280912
DTSTAMP:20260423T124844
CREATED:20251021T233858Z
LAST-MODIFIED:20251021T233858Z
UID:10003698-1852243200-1852329599@comicquest.org
SUMMARY:Patriots Day
DESCRIPTION:  \n 
URL:https://comicquest.org/event/patriots-day-4/2028-09-11/
LOCATION:Comic Quest\, 23811 Bridger #111 CA 92630\, Lake Forest\, CA\, 92630\, United States
CATEGORIES:Event
ATTACH;FMTTYPE=image/jpeg:https://comicquest.org/wp-content/uploads/2023/05/patriot_day_logo.jpg
END:VEVENT
BEGIN:VEVENT
DTSTART;VALUE=DATE:20290911
DTEND;VALUE=DATE:20290912
DTSTAMP:20260423T124844
CREATED:20251021T233858Z
LAST-MODIFIED:20251021T233858Z
UID:10003699-1883779200-1883865599@comicquest.org
SUMMARY:Patriots Day
DESCRIPTION:  \n 
URL:https://comicquest.org/event/patriots-day-4/2029-09-11/
LOCATION:Comic Quest\, 23811 Bridger #111 CA 92630\, Lake Forest\, CA\, 92630\, United States
CATEGORIES:Event
ATTACH;FMTTYPE=image/jpeg:https://comicquest.org/wp-content/uploads/2023/05/patriot_day_logo.jpg
END:VEVENT
BEGIN:VEVENT
DTSTART;VALUE=DATE:20300911
DTEND;VALUE=DATE:20300912
DTSTAMP:20260423T124844
CREATED:20251021T233858Z
LAST-MODIFIED:20251021T233858Z
UID:10003700-1915315200-1915401599@comicquest.org
SUMMARY:Patriots Day
DESCRIPTION:  \n 
URL:https://comicquest.org/event/patriots-day-4/2030-09-11/
LOCATION:Comic Quest\, 23811 Bridger #111 CA 92630\, Lake Forest\, CA\, 92630\, United States
CATEGORIES:Event
ATTACH;FMTTYPE=image/jpeg:https://comicquest.org/wp-content/uploads/2023/05/patriot_day_logo.jpg
END:VEVENT
END:VCALENDAR