BEGIN:VCALENDAR
VERSION:2.0
PRODID:-//Comic Quest - ECPv6.15.20//NONSGML v1.0//EN
CALSCALE:GREGORIAN
METHOD:PUBLISH
X-WR-CALNAME:Comic Quest
X-ORIGINAL-URL:https://comicquest.org
X-WR-CALDESC:Events for Comic Quest
REFRESH-INTERVAL;VALUE=DURATION:PT1H
X-Robots-Tag:noindex
X-PUBLISHED-TTL:PT1H
BEGIN:VTIMEZONE
TZID:Asia/Shanghai
BEGIN:STANDARD
TZOFFSETFROM:+0800
TZOFFSETTO:+0800
TZNAME:CST
DTSTART:20250101T000000
END:STANDARD
END:VTIMEZONE
BEGIN:VEVENT
DTSTART;VALUE=DATE:20260626
DTEND;VALUE=DATE:20260627
DTSTAMP:20260423T112559
CREATED:20251120T014835Z
LAST-MODIFIED:20251120T015200Z
UID:10003744-1782432000-1782518399@comicquest.org
SUMMARY:Anniversary of Wayne's Death
DESCRIPTION:Death of Thomas and Martha Wayne has been consistently established as occurring on June 26th. 10:47 PM.  After seeing Zoro.
URL:https://comicquest.org/event/anniversary-of-waynes-death-2/2026-06-26/
LOCATION:Comic Quest\, 23811 Bridger #111 CA 92630\, Lake Forest\, CA\, 92630\, United States
CATEGORIES:Event
ATTACH;FMTTYPE=image/png:https://comicquest.org/wp-content/uploads/2025/11/June-26.png
END:VEVENT
BEGIN:VEVENT
DTSTART;VALUE=DATE:20270626
DTEND;VALUE=DATE:20270627
DTSTAMP:20260423T112559
CREATED:20251120T014835Z
LAST-MODIFIED:20251120T015200Z
UID:10003745-1813968000-1814054399@comicquest.org
SUMMARY:Anniversary of Wayne's Death
DESCRIPTION:Death of Thomas and Martha Wayne has been consistently established as occurring on June 26th. 10:47 PM.  After seeing Zoro.
URL:https://comicquest.org/event/anniversary-of-waynes-death-2/2027-06-26/
LOCATION:Comic Quest\, 23811 Bridger #111 CA 92630\, Lake Forest\, CA\, 92630\, United States
CATEGORIES:Event
ATTACH;FMTTYPE=image/png:https://comicquest.org/wp-content/uploads/2025/11/June-26.png
END:VEVENT
BEGIN:VEVENT
DTSTART;VALUE=DATE:20280626
DTEND;VALUE=DATE:20280627
DTSTAMP:20260423T112559
CREATED:20251120T014835Z
LAST-MODIFIED:20251120T015200Z
UID:10003746-1845590400-1845676799@comicquest.org
SUMMARY:Anniversary of Wayne's Death
DESCRIPTION:Death of Thomas and Martha Wayne has been consistently established as occurring on June 26th. 10:47 PM.  After seeing Zoro.
URL:https://comicquest.org/event/anniversary-of-waynes-death-2/2028-06-26/
LOCATION:Comic Quest\, 23811 Bridger #111 CA 92630\, Lake Forest\, CA\, 92630\, United States
CATEGORIES:Event
ATTACH;FMTTYPE=image/png:https://comicquest.org/wp-content/uploads/2025/11/June-26.png
END:VEVENT
BEGIN:VEVENT
DTSTART;VALUE=DATE:20290626
DTEND;VALUE=DATE:20290627
DTSTAMP:20260423T112559
CREATED:20251120T014835Z
LAST-MODIFIED:20251120T015200Z
UID:10003747-1877126400-1877212799@comicquest.org
SUMMARY:Anniversary of Wayne's Death
DESCRIPTION:Death of Thomas and Martha Wayne has been consistently established as occurring on June 26th. 10:47 PM.  After seeing Zoro.
URL:https://comicquest.org/event/anniversary-of-waynes-death-2/2029-06-26/
LOCATION:Comic Quest\, 23811 Bridger #111 CA 92630\, Lake Forest\, CA\, 92630\, United States
CATEGORIES:Event
ATTACH;FMTTYPE=image/png:https://comicquest.org/wp-content/uploads/2025/11/June-26.png
END:VEVENT
BEGIN:VEVENT
DTSTART;VALUE=DATE:20300626
DTEND;VALUE=DATE:20300627
DTSTAMP:20260423T112559
CREATED:20251120T014835Z
LAST-MODIFIED:20251120T015200Z
UID:10003748-1908662400-1908748799@comicquest.org
SUMMARY:Anniversary of Wayne's Death
DESCRIPTION:Death of Thomas and Martha Wayne has been consistently established as occurring on June 26th. 10:47 PM.  After seeing Zoro.
URL:https://comicquest.org/event/anniversary-of-waynes-death-2/2030-06-26/
LOCATION:Comic Quest\, 23811 Bridger #111 CA 92630\, Lake Forest\, CA\, 92630\, United States
CATEGORIES:Event
ATTACH;FMTTYPE=image/png:https://comicquest.org/wp-content/uploads/2025/11/June-26.png
END:VEVENT
END:VCALENDAR