BEGIN:VCALENDAR
VERSION:2.0
PRODID:-//Comic Quest - ECPv6.15.20//NONSGML v1.0//EN
CALSCALE:GREGORIAN
METHOD:PUBLISH
X-WR-CALNAME:Comic Quest
X-ORIGINAL-URL:https://comicquest.org
X-WR-CALDESC:Events for Comic Quest
REFRESH-INTERVAL;VALUE=DURATION:PT1H
X-Robots-Tag:noindex
X-PUBLISHED-TTL:PT1H
BEGIN:VTIMEZONE
TZID:Asia/Shanghai
BEGIN:STANDARD
TZOFFSETFROM:+0800
TZOFFSETTO:+0800
TZNAME:CST
DTSTART:20250101T000000
END:STANDARD
END:VTIMEZONE
BEGIN:VEVENT
DTSTART;VALUE=DATE:20261231
DTEND;VALUE=DATE:20270101
DTSTAMP:20260423T123343
CREATED:20251230T223344Z
LAST-MODIFIED:20251230T223344Z
UID:10004078-1798675200-1798761599@comicquest.org
SUMMARY:New Years Eve
DESCRIPTION:  \n 
URL:https://comicquest.org/event/new-years-eve-2/2026-12-31/
LOCATION:Comic Quest\, 23811 Bridger #111 CA 92630\, Lake Forest\, CA\, 92630\, United States
CATEGORIES:Holiday
ATTACH;FMTTYPE=image/gif:https://comicquest.org/wp-content/uploads/2024/05/new-years-eve.gif
END:VEVENT
BEGIN:VEVENT
DTSTART;VALUE=DATE:20271231
DTEND;VALUE=DATE:20280101
DTSTAMP:20260423T123343
CREATED:20251230T223344Z
LAST-MODIFIED:20251230T223344Z
UID:10004079-1830211200-1830297599@comicquest.org
SUMMARY:New Years Eve
DESCRIPTION:  \n 
URL:https://comicquest.org/event/new-years-eve-2/2027-12-31/
LOCATION:Comic Quest\, 23811 Bridger #111 CA 92630\, Lake Forest\, CA\, 92630\, United States
CATEGORIES:Holiday
ATTACH;FMTTYPE=image/gif:https://comicquest.org/wp-content/uploads/2024/05/new-years-eve.gif
END:VEVENT
BEGIN:VEVENT
DTSTART;VALUE=DATE:20281231
DTEND;VALUE=DATE:20290101
DTSTAMP:20260423T123343
CREATED:20251230T223344Z
LAST-MODIFIED:20251230T223344Z
UID:10004080-1861833600-1861919999@comicquest.org
SUMMARY:New Years Eve
DESCRIPTION:  \n 
URL:https://comicquest.org/event/new-years-eve-2/2028-12-31/
LOCATION:Comic Quest\, 23811 Bridger #111 CA 92630\, Lake Forest\, CA\, 92630\, United States
CATEGORIES:Holiday
ATTACH;FMTTYPE=image/gif:https://comicquest.org/wp-content/uploads/2024/05/new-years-eve.gif
END:VEVENT
BEGIN:VEVENT
DTSTART;VALUE=DATE:20291231
DTEND;VALUE=DATE:20300101
DTSTAMP:20260423T123343
CREATED:20251230T223344Z
LAST-MODIFIED:20251230T223344Z
UID:10004081-1893369600-1893455999@comicquest.org
SUMMARY:New Years Eve
DESCRIPTION:  \n 
URL:https://comicquest.org/event/new-years-eve-2/2029-12-31/
LOCATION:Comic Quest\, 23811 Bridger #111 CA 92630\, Lake Forest\, CA\, 92630\, United States
CATEGORIES:Holiday
ATTACH;FMTTYPE=image/gif:https://comicquest.org/wp-content/uploads/2024/05/new-years-eve.gif
END:VEVENT
BEGIN:VEVENT
DTSTART;VALUE=DATE:20301231
DTEND;VALUE=DATE:20310101
DTSTAMP:20260423T123343
CREATED:20251230T223344Z
LAST-MODIFIED:20251230T223344Z
UID:10004082-1924905600-1924991999@comicquest.org
SUMMARY:New Years Eve
DESCRIPTION:  \n 
URL:https://comicquest.org/event/new-years-eve-2/2030-12-31/
LOCATION:Comic Quest\, 23811 Bridger #111 CA 92630\, Lake Forest\, CA\, 92630\, United States
CATEGORIES:Holiday
ATTACH;FMTTYPE=image/gif:https://comicquest.org/wp-content/uploads/2024/05/new-years-eve.gif
END:VEVENT
END:VCALENDAR