BEGIN:VCALENDAR
VERSION:2.0
PRODID:-//Comic Quest - ECPv6.15.20//NONSGML v1.0//EN
CALSCALE:GREGORIAN
METHOD:PUBLISH
X-WR-CALNAME:Comic Quest
X-ORIGINAL-URL:https://comicquest.org
X-WR-CALDESC:Events for Comic Quest
REFRESH-INTERVAL;VALUE=DURATION:PT1H
X-Robots-Tag:noindex
X-PUBLISHED-TTL:PT1H
BEGIN:VTIMEZONE
TZID:Asia/Shanghai
BEGIN:STANDARD
TZOFFSETFROM:+0800
TZOFFSETTO:+0800
TZNAME:CST
DTSTART:20250101T000000
END:STANDARD
END:VTIMEZONE
BEGIN:VEVENT
DTSTART;VALUE=DATE:20261005
DTEND;VALUE=DATE:20261006
DTSTAMP:20260423T141404
CREATED:20251231T175703Z
LAST-MODIFIED:20251231T175703Z
UID:10004091-1791158400-1791244799@comicquest.org
SUMMARY:James Bond Day
DESCRIPTION:James Bond Day is celebrated on October 5th each year to commemorate the world premiere of the first James Bond film\, Dr. No\, which took place on that date in 1962 \n 
URL:https://comicquest.org/event/james-bond-day-4/2026-10-05/
LOCATION:Comic Quest\, 23811 Bridger #111 CA 92630\, Lake Forest\, CA\, 92630\, United States
CATEGORIES:Event
ATTACH;FMTTYPE=image/jpeg:https://comicquest.org/wp-content/uploads/2023/03/Bond_Day.jpg
END:VEVENT
BEGIN:VEVENT
DTSTART;VALUE=DATE:20271005
DTEND;VALUE=DATE:20271006
DTSTAMP:20260423T141404
CREATED:20251231T175703Z
LAST-MODIFIED:20251231T175703Z
UID:10004092-1822694400-1822780799@comicquest.org
SUMMARY:James Bond Day
DESCRIPTION:James Bond Day is celebrated on October 5th each year to commemorate the world premiere of the first James Bond film\, Dr. No\, which took place on that date in 1962 \n 
URL:https://comicquest.org/event/james-bond-day-4/2027-10-05/
LOCATION:Comic Quest\, 23811 Bridger #111 CA 92630\, Lake Forest\, CA\, 92630\, United States
CATEGORIES:Event
ATTACH;FMTTYPE=image/jpeg:https://comicquest.org/wp-content/uploads/2023/03/Bond_Day.jpg
END:VEVENT
BEGIN:VEVENT
DTSTART;VALUE=DATE:20281005
DTEND;VALUE=DATE:20281006
DTSTAMP:20260423T141404
CREATED:20251231T175703Z
LAST-MODIFIED:20251231T175703Z
UID:10004093-1854316800-1854403199@comicquest.org
SUMMARY:James Bond Day
DESCRIPTION:James Bond Day is celebrated on October 5th each year to commemorate the world premiere of the first James Bond film\, Dr. No\, which took place on that date in 1962 \n 
URL:https://comicquest.org/event/james-bond-day-4/2028-10-05/
LOCATION:Comic Quest\, 23811 Bridger #111 CA 92630\, Lake Forest\, CA\, 92630\, United States
CATEGORIES:Event
ATTACH;FMTTYPE=image/jpeg:https://comicquest.org/wp-content/uploads/2023/03/Bond_Day.jpg
END:VEVENT
BEGIN:VEVENT
DTSTART;VALUE=DATE:20291005
DTEND;VALUE=DATE:20291006
DTSTAMP:20260423T141404
CREATED:20251231T175703Z
LAST-MODIFIED:20251231T175703Z
UID:10004094-1885852800-1885939199@comicquest.org
SUMMARY:James Bond Day
DESCRIPTION:James Bond Day is celebrated on October 5th each year to commemorate the world premiere of the first James Bond film\, Dr. No\, which took place on that date in 1962 \n 
URL:https://comicquest.org/event/james-bond-day-4/2029-10-05/
LOCATION:Comic Quest\, 23811 Bridger #111 CA 92630\, Lake Forest\, CA\, 92630\, United States
CATEGORIES:Event
ATTACH;FMTTYPE=image/jpeg:https://comicquest.org/wp-content/uploads/2023/03/Bond_Day.jpg
END:VEVENT
BEGIN:VEVENT
DTSTART;VALUE=DATE:20301005
DTEND;VALUE=DATE:20301006
DTSTAMP:20260423T141404
CREATED:20251231T175703Z
LAST-MODIFIED:20251231T175703Z
UID:10004095-1917388800-1917475199@comicquest.org
SUMMARY:James Bond Day
DESCRIPTION:James Bond Day is celebrated on October 5th each year to commemorate the world premiere of the first James Bond film\, Dr. No\, which took place on that date in 1962 \n 
URL:https://comicquest.org/event/james-bond-day-4/2030-10-05/
LOCATION:Comic Quest\, 23811 Bridger #111 CA 92630\, Lake Forest\, CA\, 92630\, United States
CATEGORIES:Event
ATTACH;FMTTYPE=image/jpeg:https://comicquest.org/wp-content/uploads/2023/03/Bond_Day.jpg
END:VEVENT
END:VCALENDAR