BEGIN:VCALENDAR
VERSION:2.0
PRODID:-//Comic Quest - ECPv6.15.20//NONSGML v1.0//EN
CALSCALE:GREGORIAN
METHOD:PUBLISH
X-WR-CALNAME:Comic Quest
X-ORIGINAL-URL:https://comicquest.org
X-WR-CALDESC:Events for Comic Quest
REFRESH-INTERVAL;VALUE=DURATION:PT1H
X-Robots-Tag:noindex
X-PUBLISHED-TTL:PT1H
BEGIN:VTIMEZONE
TZID:Asia/Shanghai
BEGIN:STANDARD
TZOFFSETFROM:+0800
TZOFFSETTO:+0800
TZNAME:CST
DTSTART:20250101T000000
END:STANDARD
END:VTIMEZONE
BEGIN:VEVENT
DTSTART;VALUE=DATE:20261019
DTEND;VALUE=DATE:20261020
DTSTAMP:20260423T150520
CREATED:20251231T180020Z
LAST-MODIFIED:20251231T180020Z
UID:10004109-1792368000-1792454399@comicquest.org
SUMMARY:Durin's Day
DESCRIPTION:In J.R.R. Tolkien’s Middle-earth\, Durin’s Day\, a significant event for Dwarves\, is the first day of their New Year\, which falls on the first day of the last moon of Autumn\, and is October 29th in the Shire calendar \n 
URL:https://comicquest.org/event/durins-day-4/2026-10-19/
LOCATION:Comic Quest\, 23811 Bridger #111 CA 92630\, Lake Forest\, CA\, 92630\, United States
CATEGORIES:Event
ATTACH;FMTTYPE=image/jpeg:https://comicquest.org/wp-content/uploads/2023/03/durins-day.jpg
END:VEVENT
BEGIN:VEVENT
DTSTART;VALUE=DATE:20271019
DTEND;VALUE=DATE:20271020
DTSTAMP:20260423T150520
CREATED:20251231T180020Z
LAST-MODIFIED:20251231T180020Z
UID:10004110-1823904000-1823990399@comicquest.org
SUMMARY:Durin's Day
DESCRIPTION:In J.R.R. Tolkien’s Middle-earth\, Durin’s Day\, a significant event for Dwarves\, is the first day of their New Year\, which falls on the first day of the last moon of Autumn\, and is October 29th in the Shire calendar \n 
URL:https://comicquest.org/event/durins-day-4/2027-10-19/
LOCATION:Comic Quest\, 23811 Bridger #111 CA 92630\, Lake Forest\, CA\, 92630\, United States
CATEGORIES:Event
ATTACH;FMTTYPE=image/jpeg:https://comicquest.org/wp-content/uploads/2023/03/durins-day.jpg
END:VEVENT
BEGIN:VEVENT
DTSTART;VALUE=DATE:20281019
DTEND;VALUE=DATE:20281020
DTSTAMP:20260423T150520
CREATED:20251231T180020Z
LAST-MODIFIED:20251231T180020Z
UID:10004111-1855526400-1855612799@comicquest.org
SUMMARY:Durin's Day
DESCRIPTION:In J.R.R. Tolkien’s Middle-earth\, Durin’s Day\, a significant event for Dwarves\, is the first day of their New Year\, which falls on the first day of the last moon of Autumn\, and is October 29th in the Shire calendar \n 
URL:https://comicquest.org/event/durins-day-4/2028-10-19/
LOCATION:Comic Quest\, 23811 Bridger #111 CA 92630\, Lake Forest\, CA\, 92630\, United States
CATEGORIES:Event
ATTACH;FMTTYPE=image/jpeg:https://comicquest.org/wp-content/uploads/2023/03/durins-day.jpg
END:VEVENT
BEGIN:VEVENT
DTSTART;VALUE=DATE:20291019
DTEND;VALUE=DATE:20291020
DTSTAMP:20260423T150520
CREATED:20251231T180020Z
LAST-MODIFIED:20251231T180020Z
UID:10004112-1887062400-1887148799@comicquest.org
SUMMARY:Durin's Day
DESCRIPTION:In J.R.R. Tolkien’s Middle-earth\, Durin’s Day\, a significant event for Dwarves\, is the first day of their New Year\, which falls on the first day of the last moon of Autumn\, and is October 29th in the Shire calendar \n 
URL:https://comicquest.org/event/durins-day-4/2029-10-19/
LOCATION:Comic Quest\, 23811 Bridger #111 CA 92630\, Lake Forest\, CA\, 92630\, United States
CATEGORIES:Event
ATTACH;FMTTYPE=image/jpeg:https://comicquest.org/wp-content/uploads/2023/03/durins-day.jpg
END:VEVENT
BEGIN:VEVENT
DTSTART;VALUE=DATE:20301019
DTEND;VALUE=DATE:20301020
DTSTAMP:20260423T150520
CREATED:20251231T180020Z
LAST-MODIFIED:20251231T180020Z
UID:10004113-1918598400-1918684799@comicquest.org
SUMMARY:Durin's Day
DESCRIPTION:In J.R.R. Tolkien’s Middle-earth\, Durin’s Day\, a significant event for Dwarves\, is the first day of their New Year\, which falls on the first day of the last moon of Autumn\, and is October 29th in the Shire calendar \n 
URL:https://comicquest.org/event/durins-day-4/2030-10-19/
LOCATION:Comic Quest\, 23811 Bridger #111 CA 92630\, Lake Forest\, CA\, 92630\, United States
CATEGORIES:Event
ATTACH;FMTTYPE=image/jpeg:https://comicquest.org/wp-content/uploads/2023/03/durins-day.jpg
END:VEVENT
END:VCALENDAR