BEGIN:VCALENDAR
VERSION:2.0
PRODID:-//Comic Quest - ECPv6.15.20//NONSGML v1.0//EN
CALSCALE:GREGORIAN
METHOD:PUBLISH
X-WR-CALNAME:Comic Quest
X-ORIGINAL-URL:https://comicquest.org
X-WR-CALDESC:Events for Comic Quest
REFRESH-INTERVAL;VALUE=DURATION:PT1H
X-Robots-Tag:noindex
X-PUBLISHED-TTL:PT1H
BEGIN:VTIMEZONE
TZID:Asia/Shanghai
BEGIN:STANDARD
TZOFFSETFROM:+0800
TZOFFSETTO:+0800
TZNAME:CST
DTSTART:20250101T000000
END:STANDARD
END:VTIMEZONE
BEGIN:VEVENT
DTSTART;VALUE=DATE:20261127
DTEND;VALUE=DATE:20261128
DTSTAMP:20260423T141919
CREATED:20251231T184659Z
LAST-MODIFIED:20251231T184659Z
UID:10004178-1795737600-1795823999@comicquest.org
SUMMARY:Black Friday Sale
DESCRIPTION:  \n*FREE DICE!  Because we are thankful for you! \nThe Day after Thanksgiving. \nOur Holiday Dice Tradition continues with our FREE Exclusive Ltd Edition CQ Holiday Dice. While Supplies Last. \n  \nOpen early (10am) on Black Friday at Comic Quest \n  \n*Holiday Scratchers are back!  Spend $20 or more on Black Friday & you get a CQ Holiday Scratcher Card. \n\nBring it back – unscratched – to reveal your Discount.\n\n  \nSALE!   SALE!    SALE!  SALE!  SALE! \n*25% OFF Back Issues (Does not Include Key Comics) \n*20% OFF all Graphic Novels \n*20% OFF all Miniatures \n*20% OFF all Board Games \n*20% OFF all Puzzles \nDoor Busters.  50% OFF These Board Games: \n  \n 
URL:https://comicquest.org/event/black-friday-sale-3/2026-11-27/
LOCATION:Comic Quest\, 23811 Bridger #111 CA 92630\, Lake Forest\, CA\, 92630\, United States
CATEGORIES:Event
ATTACH;FMTTYPE=image/jpeg:https://comicquest.org/wp-content/uploads/2023/03/Black_Friday_Logo.jpg
END:VEVENT
BEGIN:VEVENT
DTSTART;VALUE=DATE:20271126
DTEND;VALUE=DATE:20271127
DTSTAMP:20260423T141919
CREATED:20251231T184659Z
LAST-MODIFIED:20251231T184659Z
UID:10004179-1827187200-1827273599@comicquest.org
SUMMARY:Black Friday Sale
DESCRIPTION:  \n*FREE DICE!  Because we are thankful for you! \nThe Day after Thanksgiving. \nOur Holiday Dice Tradition continues with our FREE Exclusive Ltd Edition CQ Holiday Dice. While Supplies Last. \n  \nOpen early (10am) on Black Friday at Comic Quest \n  \n*Holiday Scratchers are back!  Spend $20 or more on Black Friday & you get a CQ Holiday Scratcher Card. \n\nBring it back – unscratched – to reveal your Discount.\n\n  \nSALE!   SALE!    SALE!  SALE!  SALE! \n*25% OFF Back Issues (Does not Include Key Comics) \n*20% OFF all Graphic Novels \n*20% OFF all Miniatures \n*20% OFF all Board Games \n*20% OFF all Puzzles \nDoor Busters.  50% OFF These Board Games: \n  \n 
URL:https://comicquest.org/event/black-friday-sale-3/2027-11-26/
LOCATION:Comic Quest\, 23811 Bridger #111 CA 92630\, Lake Forest\, CA\, 92630\, United States
CATEGORIES:Event
ATTACH;FMTTYPE=image/jpeg:https://comicquest.org/wp-content/uploads/2023/03/Black_Friday_Logo.jpg
END:VEVENT
BEGIN:VEVENT
DTSTART;VALUE=DATE:20281124
DTEND;VALUE=DATE:20281125
DTSTAMP:20260423T141919
CREATED:20251231T184659Z
LAST-MODIFIED:20251231T184659Z
UID:10004180-1858636800-1858723199@comicquest.org
SUMMARY:Black Friday Sale
DESCRIPTION:  \n*FREE DICE!  Because we are thankful for you! \nThe Day after Thanksgiving. \nOur Holiday Dice Tradition continues with our FREE Exclusive Ltd Edition CQ Holiday Dice. While Supplies Last. \n  \nOpen early (10am) on Black Friday at Comic Quest \n  \n*Holiday Scratchers are back!  Spend $20 or more on Black Friday & you get a CQ Holiday Scratcher Card. \n\nBring it back – unscratched – to reveal your Discount.\n\n  \nSALE!   SALE!    SALE!  SALE!  SALE! \n*25% OFF Back Issues (Does not Include Key Comics) \n*20% OFF all Graphic Novels \n*20% OFF all Miniatures \n*20% OFF all Board Games \n*20% OFF all Puzzles \nDoor Busters.  50% OFF These Board Games: \n  \n 
URL:https://comicquest.org/event/black-friday-sale-3/2028-11-24/
LOCATION:Comic Quest\, 23811 Bridger #111 CA 92630\, Lake Forest\, CA\, 92630\, United States
CATEGORIES:Event
ATTACH;FMTTYPE=image/jpeg:https://comicquest.org/wp-content/uploads/2023/03/Black_Friday_Logo.jpg
END:VEVENT
BEGIN:VEVENT
DTSTART;VALUE=DATE:20291123
DTEND;VALUE=DATE:20291124
DTSTAMP:20260423T141919
CREATED:20251231T184659Z
LAST-MODIFIED:20251231T184659Z
UID:10004181-1890086400-1890172799@comicquest.org
SUMMARY:Black Friday Sale
DESCRIPTION:  \n*FREE DICE!  Because we are thankful for you! \nThe Day after Thanksgiving. \nOur Holiday Dice Tradition continues with our FREE Exclusive Ltd Edition CQ Holiday Dice. While Supplies Last. \n  \nOpen early (10am) on Black Friday at Comic Quest \n  \n*Holiday Scratchers are back!  Spend $20 or more on Black Friday & you get a CQ Holiday Scratcher Card. \n\nBring it back – unscratched – to reveal your Discount.\n\n  \nSALE!   SALE!    SALE!  SALE!  SALE! \n*25% OFF Back Issues (Does not Include Key Comics) \n*20% OFF all Graphic Novels \n*20% OFF all Miniatures \n*20% OFF all Board Games \n*20% OFF all Puzzles \nDoor Busters.  50% OFF These Board Games: \n  \n 
URL:https://comicquest.org/event/black-friday-sale-3/2029-11-23/
LOCATION:Comic Quest\, 23811 Bridger #111 CA 92630\, Lake Forest\, CA\, 92630\, United States
CATEGORIES:Event
ATTACH;FMTTYPE=image/jpeg:https://comicquest.org/wp-content/uploads/2023/03/Black_Friday_Logo.jpg
END:VEVENT
BEGIN:VEVENT
DTSTART;VALUE=DATE:20301122
DTEND;VALUE=DATE:20301123
DTSTAMP:20260423T141919
CREATED:20251231T184659Z
LAST-MODIFIED:20251231T184659Z
UID:10004182-1921536000-1921622399@comicquest.org
SUMMARY:Black Friday Sale
DESCRIPTION:  \n*FREE DICE!  Because we are thankful for you! \nThe Day after Thanksgiving. \nOur Holiday Dice Tradition continues with our FREE Exclusive Ltd Edition CQ Holiday Dice. While Supplies Last. \n  \nOpen early (10am) on Black Friday at Comic Quest \n  \n*Holiday Scratchers are back!  Spend $20 or more on Black Friday & you get a CQ Holiday Scratcher Card. \n\nBring it back – unscratched – to reveal your Discount.\n\n  \nSALE!   SALE!    SALE!  SALE!  SALE! \n*25% OFF Back Issues (Does not Include Key Comics) \n*20% OFF all Graphic Novels \n*20% OFF all Miniatures \n*20% OFF all Board Games \n*20% OFF all Puzzles \nDoor Busters.  50% OFF These Board Games: \n  \n 
URL:https://comicquest.org/event/black-friday-sale-3/2030-11-22/
LOCATION:Comic Quest\, 23811 Bridger #111 CA 92630\, Lake Forest\, CA\, 92630\, United States
CATEGORIES:Event
ATTACH;FMTTYPE=image/jpeg:https://comicquest.org/wp-content/uploads/2023/03/Black_Friday_Logo.jpg
END:VEVENT
END:VCALENDAR