BEGIN:VCALENDAR
VERSION:2.0
PRODID:-//Comic Quest - ECPv6.15.20//NONSGML v1.0//EN
CALSCALE:GREGORIAN
METHOD:PUBLISH
X-WR-CALNAME:Comic Quest
X-ORIGINAL-URL:https://comicquest.org
X-WR-CALDESC:Events for Comic Quest
REFRESH-INTERVAL;VALUE=DURATION:PT1H
X-Robots-Tag:noindex
X-PUBLISHED-TTL:PT1H
BEGIN:VTIMEZONE
TZID:Asia/Shanghai
BEGIN:STANDARD
TZOFFSETFROM:+0800
TZOFFSETTO:+0800
TZNAME:CST
DTSTART:20250101T000000
END:STANDARD
END:VTIMEZONE
BEGIN:VEVENT
DTSTART;VALUE=DATE:20261212
DTEND;VALUE=DATE:20261213
DTSTAMP:20260423T141920
CREATED:20251231T184748Z
LAST-MODIFIED:20251231T184748Z
UID:10004184-1797033600-1797119999@comicquest.org
SUMMARY:Elves-travaganza
DESCRIPTION:  \n\nElves-Travaganza\n\n\n \n\n\n20% OFF Sale on Elves
URL:https://comicquest.org/event/elves-travaganza-4/2026-12-12/
LOCATION:Comic Quest\, 23811 Bridger #111 CA 92630\, Lake Forest\, CA\, 92630\, United States
CATEGORIES:Event
ATTACH;FMTTYPE=image/jpeg:https://comicquest.org/wp-content/uploads/2023/03/Elvestravaganza_logo.jpg
END:VEVENT
BEGIN:VEVENT
DTSTART;VALUE=DATE:20271211
DTEND;VALUE=DATE:20271212
DTSTAMP:20260423T141920
CREATED:20251231T184748Z
LAST-MODIFIED:20251231T184748Z
UID:10004185-1828483200-1828569599@comicquest.org
SUMMARY:Elves-travaganza
DESCRIPTION:  \n\nElves-Travaganza\n\n\n \n\n\n20% OFF Sale on Elves
URL:https://comicquest.org/event/elves-travaganza-4/2027-12-11/
LOCATION:Comic Quest\, 23811 Bridger #111 CA 92630\, Lake Forest\, CA\, 92630\, United States
CATEGORIES:Event
ATTACH;FMTTYPE=image/jpeg:https://comicquest.org/wp-content/uploads/2023/03/Elvestravaganza_logo.jpg
END:VEVENT
BEGIN:VEVENT
DTSTART;VALUE=DATE:20281209
DTEND;VALUE=DATE:20281210
DTSTAMP:20260423T141920
CREATED:20251231T184748Z
LAST-MODIFIED:20251231T184748Z
UID:10004186-1859932800-1860019199@comicquest.org
SUMMARY:Elves-travaganza
DESCRIPTION:  \n\nElves-Travaganza\n\n\n \n\n\n20% OFF Sale on Elves
URL:https://comicquest.org/event/elves-travaganza-4/2028-12-09/
LOCATION:Comic Quest\, 23811 Bridger #111 CA 92630\, Lake Forest\, CA\, 92630\, United States
CATEGORIES:Event
ATTACH;FMTTYPE=image/jpeg:https://comicquest.org/wp-content/uploads/2023/03/Elvestravaganza_logo.jpg
END:VEVENT
BEGIN:VEVENT
DTSTART;VALUE=DATE:20291208
DTEND;VALUE=DATE:20291209
DTSTAMP:20260423T141920
CREATED:20251231T184748Z
LAST-MODIFIED:20251231T184748Z
UID:10004187-1891382400-1891468799@comicquest.org
SUMMARY:Elves-travaganza
DESCRIPTION:  \n\nElves-Travaganza\n\n\n \n\n\n20% OFF Sale on Elves
URL:https://comicquest.org/event/elves-travaganza-4/2029-12-08/
LOCATION:Comic Quest\, 23811 Bridger #111 CA 92630\, Lake Forest\, CA\, 92630\, United States
CATEGORIES:Event
ATTACH;FMTTYPE=image/jpeg:https://comicquest.org/wp-content/uploads/2023/03/Elvestravaganza_logo.jpg
END:VEVENT
BEGIN:VEVENT
DTSTART;VALUE=DATE:20301214
DTEND;VALUE=DATE:20301215
DTSTAMP:20260423T141920
CREATED:20251231T184748Z
LAST-MODIFIED:20251231T184748Z
UID:10004188-1923436800-1923523199@comicquest.org
SUMMARY:Elves-travaganza
DESCRIPTION:  \n\nElves-Travaganza\n\n\n \n\n\n20% OFF Sale on Elves
URL:https://comicquest.org/event/elves-travaganza-4/2030-12-14/
LOCATION:Comic Quest\, 23811 Bridger #111 CA 92630\, Lake Forest\, CA\, 92630\, United States
CATEGORIES:Event
ATTACH;FMTTYPE=image/jpeg:https://comicquest.org/wp-content/uploads/2023/03/Elvestravaganza_logo.jpg
END:VEVENT
END:VCALENDAR