BEGIN:VCALENDAR
VERSION:2.0
PRODID:-//Comic Quest - ECPv6.15.20//NONSGML v1.0//EN
CALSCALE:GREGORIAN
METHOD:PUBLISH
X-WR-CALNAME:Comic Quest
X-ORIGINAL-URL:https://comicquest.org
X-WR-CALDESC:Events for Comic Quest
REFRESH-INTERVAL;VALUE=DURATION:PT1H
X-Robots-Tag:noindex
X-PUBLISHED-TTL:PT1H
BEGIN:VTIMEZONE
TZID:Asia/Shanghai
BEGIN:STANDARD
TZOFFSETFROM:+0800
TZOFFSETTO:+0800
TZNAME:CST
DTSTART:20250101T000000
END:STANDARD
END:VTIMEZONE
BEGIN:VEVENT
DTSTART;TZID=Asia/Shanghai:20260423T180000
DTEND;TZID=Asia/Shanghai:20260423T220000
DTSTAMP:20260423T074556
CREATED:20250807T232709Z
LAST-MODIFIED:20250807T232709Z
UID:10002853-1776967200-1776981600@comicquest.org
SUMMARY:Tactical Thursday
DESCRIPTION:This event is for Tactical Thursday! Come and join the fun! \nAn evening dedicated to all popular miniature games. \n  \nSome Facebook Groups \nGames Workshop \nInfinity \nStar Wars Legion \nBattletech \nMiniature Club
URL:https://comicquest.org/event/tactical-thursday-149/2026-04-23/
LOCATION:Comic Quest\, 23811 Bridger #111 CA 92630\, Lake Forest\, CA\, 92630\, United States
CATEGORIES:Event
ATTACH;FMTTYPE=image/jpeg:https://comicquest.org/wp-content/uploads/2023/01/Tactical_thursday.jpg
END:VEVENT
BEGIN:VEVENT
DTSTART;TZID=Asia/Shanghai:20260430T180000
DTEND;TZID=Asia/Shanghai:20260430T220000
DTSTAMP:20260423T074556
CREATED:20250807T232709Z
LAST-MODIFIED:20250807T232709Z
UID:10002854-1777572000-1777586400@comicquest.org
SUMMARY:Tactical Thursday
DESCRIPTION:This event is for Tactical Thursday! Come and join the fun! \nAn evening dedicated to all popular miniature games. \n  \nSome Facebook Groups \nGames Workshop \nInfinity \nStar Wars Legion \nBattletech \nMiniature Club
URL:https://comicquest.org/event/tactical-thursday-149/2026-04-30/
LOCATION:Comic Quest\, 23811 Bridger #111 CA 92630\, Lake Forest\, CA\, 92630\, United States
CATEGORIES:Event
ATTACH;FMTTYPE=image/jpeg:https://comicquest.org/wp-content/uploads/2023/01/Tactical_thursday.jpg
END:VEVENT
BEGIN:VEVENT
DTSTART;TZID=Asia/Shanghai:20260507T180000
DTEND;TZID=Asia/Shanghai:20260507T220000
DTSTAMP:20260423T074556
CREATED:20250807T232709Z
LAST-MODIFIED:20250807T232709Z
UID:10002855-1778176800-1778191200@comicquest.org
SUMMARY:Tactical Thursday
DESCRIPTION:This event is for Tactical Thursday! Come and join the fun! \nAn evening dedicated to all popular miniature games. \n  \nSome Facebook Groups \nGames Workshop \nInfinity \nStar Wars Legion \nBattletech \nMiniature Club
URL:https://comicquest.org/event/tactical-thursday-149/2026-05-07/
LOCATION:Comic Quest\, 23811 Bridger #111 CA 92630\, Lake Forest\, CA\, 92630\, United States
CATEGORIES:Event
ATTACH;FMTTYPE=image/jpeg:https://comicquest.org/wp-content/uploads/2023/01/Tactical_thursday.jpg
END:VEVENT
BEGIN:VEVENT
DTSTART;TZID=Asia/Shanghai:20260514T180000
DTEND;TZID=Asia/Shanghai:20260514T220000
DTSTAMP:20260423T074556
CREATED:20250807T232709Z
LAST-MODIFIED:20250807T232709Z
UID:10002856-1778781600-1778796000@comicquest.org
SUMMARY:Tactical Thursday
DESCRIPTION:This event is for Tactical Thursday! Come and join the fun! \nAn evening dedicated to all popular miniature games. \n  \nSome Facebook Groups \nGames Workshop \nInfinity \nStar Wars Legion \nBattletech \nMiniature Club
URL:https://comicquest.org/event/tactical-thursday-149/2026-05-14/
LOCATION:Comic Quest\, 23811 Bridger #111 CA 92630\, Lake Forest\, CA\, 92630\, United States
CATEGORIES:Event
ATTACH;FMTTYPE=image/jpeg:https://comicquest.org/wp-content/uploads/2023/01/Tactical_thursday.jpg
END:VEVENT
BEGIN:VEVENT
DTSTART;TZID=Asia/Shanghai:20260521T180000
DTEND;TZID=Asia/Shanghai:20260521T220000
DTSTAMP:20260423T074556
CREATED:20250807T232709Z
LAST-MODIFIED:20250807T232709Z
UID:10002857-1779386400-1779400800@comicquest.org
SUMMARY:Tactical Thursday
DESCRIPTION:This event is for Tactical Thursday! Come and join the fun! \nAn evening dedicated to all popular miniature games. \n  \nSome Facebook Groups \nGames Workshop \nInfinity \nStar Wars Legion \nBattletech \nMiniature Club
URL:https://comicquest.org/event/tactical-thursday-149/2026-05-21/
LOCATION:Comic Quest\, 23811 Bridger #111 CA 92630\, Lake Forest\, CA\, 92630\, United States
CATEGORIES:Event
ATTACH;FMTTYPE=image/jpeg:https://comicquest.org/wp-content/uploads/2023/01/Tactical_thursday.jpg
END:VEVENT
BEGIN:VEVENT
DTSTART;TZID=Asia/Shanghai:20260528T180000
DTEND;TZID=Asia/Shanghai:20260528T220000
DTSTAMP:20260423T074556
CREATED:20250807T232709Z
LAST-MODIFIED:20250807T232709Z
UID:10002858-1779991200-1780005600@comicquest.org
SUMMARY:Tactical Thursday
DESCRIPTION:This event is for Tactical Thursday! Come and join the fun! \nAn evening dedicated to all popular miniature games. \n  \nSome Facebook Groups \nGames Workshop \nInfinity \nStar Wars Legion \nBattletech \nMiniature Club
URL:https://comicquest.org/event/tactical-thursday-149/2026-05-28/
LOCATION:Comic Quest\, 23811 Bridger #111 CA 92630\, Lake Forest\, CA\, 92630\, United States
CATEGORIES:Event
ATTACH;FMTTYPE=image/jpeg:https://comicquest.org/wp-content/uploads/2023/01/Tactical_thursday.jpg
END:VEVENT
BEGIN:VEVENT
DTSTART;TZID=Asia/Shanghai:20260604T180000
DTEND;TZID=Asia/Shanghai:20260604T220000
DTSTAMP:20260423T074556
CREATED:20250807T232709Z
LAST-MODIFIED:20250807T232709Z
UID:10002859-1780596000-1780610400@comicquest.org
SUMMARY:Tactical Thursday
DESCRIPTION:This event is for Tactical Thursday! Come and join the fun! \nAn evening dedicated to all popular miniature games. \n  \nSome Facebook Groups \nGames Workshop \nInfinity \nStar Wars Legion \nBattletech \nMiniature Club
URL:https://comicquest.org/event/tactical-thursday-149/2026-06-04/
LOCATION:Comic Quest\, 23811 Bridger #111 CA 92630\, Lake Forest\, CA\, 92630\, United States
CATEGORIES:Event
ATTACH;FMTTYPE=image/jpeg:https://comicquest.org/wp-content/uploads/2023/01/Tactical_thursday.jpg
END:VEVENT
BEGIN:VEVENT
DTSTART;TZID=Asia/Shanghai:20260611T180000
DTEND;TZID=Asia/Shanghai:20260611T220000
DTSTAMP:20260423T074556
CREATED:20250807T232709Z
LAST-MODIFIED:20250807T232709Z
UID:10002860-1781200800-1781215200@comicquest.org
SUMMARY:Tactical Thursday
DESCRIPTION:This event is for Tactical Thursday! Come and join the fun! \nAn evening dedicated to all popular miniature games. \n  \nSome Facebook Groups \nGames Workshop \nInfinity \nStar Wars Legion \nBattletech \nMiniature Club
URL:https://comicquest.org/event/tactical-thursday-149/2026-06-11/
LOCATION:Comic Quest\, 23811 Bridger #111 CA 92630\, Lake Forest\, CA\, 92630\, United States
CATEGORIES:Event
ATTACH;FMTTYPE=image/jpeg:https://comicquest.org/wp-content/uploads/2023/01/Tactical_thursday.jpg
END:VEVENT
BEGIN:VEVENT
DTSTART;TZID=Asia/Shanghai:20260618T180000
DTEND;TZID=Asia/Shanghai:20260618T220000
DTSTAMP:20260423T074556
CREATED:20250807T232709Z
LAST-MODIFIED:20250807T232709Z
UID:10002861-1781805600-1781820000@comicquest.org
SUMMARY:Tactical Thursday
DESCRIPTION:This event is for Tactical Thursday! Come and join the fun! \nAn evening dedicated to all popular miniature games. \n  \nSome Facebook Groups \nGames Workshop \nInfinity \nStar Wars Legion \nBattletech \nMiniature Club
URL:https://comicquest.org/event/tactical-thursday-149/2026-06-18/
LOCATION:Comic Quest\, 23811 Bridger #111 CA 92630\, Lake Forest\, CA\, 92630\, United States
CATEGORIES:Event
ATTACH;FMTTYPE=image/jpeg:https://comicquest.org/wp-content/uploads/2023/01/Tactical_thursday.jpg
END:VEVENT
BEGIN:VEVENT
DTSTART;TZID=Asia/Shanghai:20260625T180000
DTEND;TZID=Asia/Shanghai:20260625T220000
DTSTAMP:20260423T074556
CREATED:20250807T232709Z
LAST-MODIFIED:20250807T232709Z
UID:10002862-1782410400-1782424800@comicquest.org
SUMMARY:Tactical Thursday
DESCRIPTION:This event is for Tactical Thursday! Come and join the fun! \nAn evening dedicated to all popular miniature games. \n  \nSome Facebook Groups \nGames Workshop \nInfinity \nStar Wars Legion \nBattletech \nMiniature Club
URL:https://comicquest.org/event/tactical-thursday-149/2026-06-25/
LOCATION:Comic Quest\, 23811 Bridger #111 CA 92630\, Lake Forest\, CA\, 92630\, United States
CATEGORIES:Event
ATTACH;FMTTYPE=image/jpeg:https://comicquest.org/wp-content/uploads/2023/01/Tactical_thursday.jpg
END:VEVENT
BEGIN:VEVENT
DTSTART;TZID=Asia/Shanghai:20260702T180000
DTEND;TZID=Asia/Shanghai:20260702T220000
DTSTAMP:20260423T074556
CREATED:20250807T232709Z
LAST-MODIFIED:20250807T232709Z
UID:10002863-1783015200-1783029600@comicquest.org
SUMMARY:Tactical Thursday
DESCRIPTION:This event is for Tactical Thursday! Come and join the fun! \nAn evening dedicated to all popular miniature games. \n  \nSome Facebook Groups \nGames Workshop \nInfinity \nStar Wars Legion \nBattletech \nMiniature Club
URL:https://comicquest.org/event/tactical-thursday-149/2026-07-02/
LOCATION:Comic Quest\, 23811 Bridger #111 CA 92630\, Lake Forest\, CA\, 92630\, United States
CATEGORIES:Event
ATTACH;FMTTYPE=image/jpeg:https://comicquest.org/wp-content/uploads/2023/01/Tactical_thursday.jpg
END:VEVENT
BEGIN:VEVENT
DTSTART;TZID=Asia/Shanghai:20260709T180000
DTEND;TZID=Asia/Shanghai:20260709T220000
DTSTAMP:20260423T074556
CREATED:20250807T232709Z
LAST-MODIFIED:20250807T232709Z
UID:10002864-1783620000-1783634400@comicquest.org
SUMMARY:Tactical Thursday
DESCRIPTION:This event is for Tactical Thursday! Come and join the fun! \nAn evening dedicated to all popular miniature games. \n  \nSome Facebook Groups \nGames Workshop \nInfinity \nStar Wars Legion \nBattletech \nMiniature Club
URL:https://comicquest.org/event/tactical-thursday-149/2026-07-09/
LOCATION:Comic Quest\, 23811 Bridger #111 CA 92630\, Lake Forest\, CA\, 92630\, United States
CATEGORIES:Event
ATTACH;FMTTYPE=image/jpeg:https://comicquest.org/wp-content/uploads/2023/01/Tactical_thursday.jpg
END:VEVENT
BEGIN:VEVENT
DTSTART;TZID=Asia/Shanghai:20260716T180000
DTEND;TZID=Asia/Shanghai:20260716T220000
DTSTAMP:20260423T074556
CREATED:20250807T232709Z
LAST-MODIFIED:20250807T232709Z
UID:10002865-1784224800-1784239200@comicquest.org
SUMMARY:Tactical Thursday
DESCRIPTION:This event is for Tactical Thursday! Come and join the fun! \nAn evening dedicated to all popular miniature games. \n  \nSome Facebook Groups \nGames Workshop \nInfinity \nStar Wars Legion \nBattletech \nMiniature Club
URL:https://comicquest.org/event/tactical-thursday-149/2026-07-16/
LOCATION:Comic Quest\, 23811 Bridger #111 CA 92630\, Lake Forest\, CA\, 92630\, United States
CATEGORIES:Event
ATTACH;FMTTYPE=image/jpeg:https://comicquest.org/wp-content/uploads/2023/01/Tactical_thursday.jpg
END:VEVENT
BEGIN:VEVENT
DTSTART;TZID=Asia/Shanghai:20260723T180000
DTEND;TZID=Asia/Shanghai:20260723T220000
DTSTAMP:20260423T074556
CREATED:20250807T232709Z
LAST-MODIFIED:20250807T232709Z
UID:10002866-1784829600-1784844000@comicquest.org
SUMMARY:Tactical Thursday
DESCRIPTION:This event is for Tactical Thursday! Come and join the fun! \nAn evening dedicated to all popular miniature games. \n  \nSome Facebook Groups \nGames Workshop \nInfinity \nStar Wars Legion \nBattletech \nMiniature Club
URL:https://comicquest.org/event/tactical-thursday-149/2026-07-23/
LOCATION:Comic Quest\, 23811 Bridger #111 CA 92630\, Lake Forest\, CA\, 92630\, United States
CATEGORIES:Event
ATTACH;FMTTYPE=image/jpeg:https://comicquest.org/wp-content/uploads/2023/01/Tactical_thursday.jpg
END:VEVENT
BEGIN:VEVENT
DTSTART;TZID=Asia/Shanghai:20260730T180000
DTEND;TZID=Asia/Shanghai:20260730T220000
DTSTAMP:20260423T074556
CREATED:20250807T232709Z
LAST-MODIFIED:20250807T232709Z
UID:10002867-1785434400-1785448800@comicquest.org
SUMMARY:Tactical Thursday
DESCRIPTION:This event is for Tactical Thursday! Come and join the fun! \nAn evening dedicated to all popular miniature games. \n  \nSome Facebook Groups \nGames Workshop \nInfinity \nStar Wars Legion \nBattletech \nMiniature Club
URL:https://comicquest.org/event/tactical-thursday-149/2026-07-30/
LOCATION:Comic Quest\, 23811 Bridger #111 CA 92630\, Lake Forest\, CA\, 92630\, United States
CATEGORIES:Event
ATTACH;FMTTYPE=image/jpeg:https://comicquest.org/wp-content/uploads/2023/01/Tactical_thursday.jpg
END:VEVENT
BEGIN:VEVENT
DTSTART;TZID=Asia/Shanghai:20260806T180000
DTEND;TZID=Asia/Shanghai:20260806T220000
DTSTAMP:20260423T074556
CREATED:20250807T232709Z
LAST-MODIFIED:20250807T232709Z
UID:10002868-1786039200-1786053600@comicquest.org
SUMMARY:Tactical Thursday
DESCRIPTION:This event is for Tactical Thursday! Come and join the fun! \nAn evening dedicated to all popular miniature games. \n  \nSome Facebook Groups \nGames Workshop \nInfinity \nStar Wars Legion \nBattletech \nMiniature Club
URL:https://comicquest.org/event/tactical-thursday-149/2026-08-06/
LOCATION:Comic Quest\, 23811 Bridger #111 CA 92630\, Lake Forest\, CA\, 92630\, United States
CATEGORIES:Event
ATTACH;FMTTYPE=image/jpeg:https://comicquest.org/wp-content/uploads/2023/01/Tactical_thursday.jpg
END:VEVENT
BEGIN:VEVENT
DTSTART;TZID=Asia/Shanghai:20260813T180000
DTEND;TZID=Asia/Shanghai:20260813T220000
DTSTAMP:20260423T074556
CREATED:20250807T232709Z
LAST-MODIFIED:20250807T232709Z
UID:10002869-1786644000-1786658400@comicquest.org
SUMMARY:Tactical Thursday
DESCRIPTION:This event is for Tactical Thursday! Come and join the fun! \nAn evening dedicated to all popular miniature games. \n  \nSome Facebook Groups \nGames Workshop \nInfinity \nStar Wars Legion \nBattletech \nMiniature Club
URL:https://comicquest.org/event/tactical-thursday-149/2026-08-13/
LOCATION:Comic Quest\, 23811 Bridger #111 CA 92630\, Lake Forest\, CA\, 92630\, United States
CATEGORIES:Event
ATTACH;FMTTYPE=image/jpeg:https://comicquest.org/wp-content/uploads/2023/01/Tactical_thursday.jpg
END:VEVENT
BEGIN:VEVENT
DTSTART;TZID=Asia/Shanghai:20260820T180000
DTEND;TZID=Asia/Shanghai:20260820T220000
DTSTAMP:20260423T074556
CREATED:20250807T232709Z
LAST-MODIFIED:20250807T232709Z
UID:10002870-1787248800-1787263200@comicquest.org
SUMMARY:Tactical Thursday
DESCRIPTION:This event is for Tactical Thursday! Come and join the fun! \nAn evening dedicated to all popular miniature games. \n  \nSome Facebook Groups \nGames Workshop \nInfinity \nStar Wars Legion \nBattletech \nMiniature Club
URL:https://comicquest.org/event/tactical-thursday-149/2026-08-20/
LOCATION:Comic Quest\, 23811 Bridger #111 CA 92630\, Lake Forest\, CA\, 92630\, United States
CATEGORIES:Event
ATTACH;FMTTYPE=image/jpeg:https://comicquest.org/wp-content/uploads/2023/01/Tactical_thursday.jpg
END:VEVENT
BEGIN:VEVENT
DTSTART;TZID=Asia/Shanghai:20260827T180000
DTEND;TZID=Asia/Shanghai:20260827T220000
DTSTAMP:20260423T074556
CREATED:20250807T232709Z
LAST-MODIFIED:20250807T232709Z
UID:10002871-1787853600-1787868000@comicquest.org
SUMMARY:Tactical Thursday
DESCRIPTION:This event is for Tactical Thursday! Come and join the fun! \nAn evening dedicated to all popular miniature games. \n  \nSome Facebook Groups \nGames Workshop \nInfinity \nStar Wars Legion \nBattletech \nMiniature Club
URL:https://comicquest.org/event/tactical-thursday-149/2026-08-27/
LOCATION:Comic Quest\, 23811 Bridger #111 CA 92630\, Lake Forest\, CA\, 92630\, United States
CATEGORIES:Event
ATTACH;FMTTYPE=image/jpeg:https://comicquest.org/wp-content/uploads/2023/01/Tactical_thursday.jpg
END:VEVENT
BEGIN:VEVENT
DTSTART;TZID=Asia/Shanghai:20260903T180000
DTEND;TZID=Asia/Shanghai:20260903T220000
DTSTAMP:20260423T074556
CREATED:20250807T232709Z
LAST-MODIFIED:20250807T232709Z
UID:10002872-1788458400-1788472800@comicquest.org
SUMMARY:Tactical Thursday
DESCRIPTION:This event is for Tactical Thursday! Come and join the fun! \nAn evening dedicated to all popular miniature games. \n  \nSome Facebook Groups \nGames Workshop \nInfinity \nStar Wars Legion \nBattletech \nMiniature Club
URL:https://comicquest.org/event/tactical-thursday-149/2026-09-03/
LOCATION:Comic Quest\, 23811 Bridger #111 CA 92630\, Lake Forest\, CA\, 92630\, United States
CATEGORIES:Event
ATTACH;FMTTYPE=image/jpeg:https://comicquest.org/wp-content/uploads/2023/01/Tactical_thursday.jpg
END:VEVENT
BEGIN:VEVENT
DTSTART;TZID=Asia/Shanghai:20260910T180000
DTEND;TZID=Asia/Shanghai:20260910T220000
DTSTAMP:20260423T074556
CREATED:20250807T232709Z
LAST-MODIFIED:20250807T232709Z
UID:10002873-1789063200-1789077600@comicquest.org
SUMMARY:Tactical Thursday
DESCRIPTION:This event is for Tactical Thursday! Come and join the fun! \nAn evening dedicated to all popular miniature games. \n  \nSome Facebook Groups \nGames Workshop \nInfinity \nStar Wars Legion \nBattletech \nMiniature Club
URL:https://comicquest.org/event/tactical-thursday-149/2026-09-10/
LOCATION:Comic Quest\, 23811 Bridger #111 CA 92630\, Lake Forest\, CA\, 92630\, United States
CATEGORIES:Event
ATTACH;FMTTYPE=image/jpeg:https://comicquest.org/wp-content/uploads/2023/01/Tactical_thursday.jpg
END:VEVENT
BEGIN:VEVENT
DTSTART;TZID=Asia/Shanghai:20260917T180000
DTEND;TZID=Asia/Shanghai:20260917T220000
DTSTAMP:20260423T074556
CREATED:20250807T232709Z
LAST-MODIFIED:20250807T232709Z
UID:10002874-1789668000-1789682400@comicquest.org
SUMMARY:Tactical Thursday
DESCRIPTION:This event is for Tactical Thursday! Come and join the fun! \nAn evening dedicated to all popular miniature games. \n  \nSome Facebook Groups \nGames Workshop \nInfinity \nStar Wars Legion \nBattletech \nMiniature Club
URL:https://comicquest.org/event/tactical-thursday-149/2026-09-17/
LOCATION:Comic Quest\, 23811 Bridger #111 CA 92630\, Lake Forest\, CA\, 92630\, United States
CATEGORIES:Event
ATTACH;FMTTYPE=image/jpeg:https://comicquest.org/wp-content/uploads/2023/01/Tactical_thursday.jpg
END:VEVENT
BEGIN:VEVENT
DTSTART;TZID=Asia/Shanghai:20260924T180000
DTEND;TZID=Asia/Shanghai:20260924T220000
DTSTAMP:20260423T074556
CREATED:20250807T232709Z
LAST-MODIFIED:20250807T232709Z
UID:10002875-1790272800-1790287200@comicquest.org
SUMMARY:Tactical Thursday
DESCRIPTION:This event is for Tactical Thursday! Come and join the fun! \nAn evening dedicated to all popular miniature games. \n  \nSome Facebook Groups \nGames Workshop \nInfinity \nStar Wars Legion \nBattletech \nMiniature Club
URL:https://comicquest.org/event/tactical-thursday-149/2026-09-24/
LOCATION:Comic Quest\, 23811 Bridger #111 CA 92630\, Lake Forest\, CA\, 92630\, United States
CATEGORIES:Event
ATTACH;FMTTYPE=image/jpeg:https://comicquest.org/wp-content/uploads/2023/01/Tactical_thursday.jpg
END:VEVENT
BEGIN:VEVENT
DTSTART;TZID=Asia/Shanghai:20261001T180000
DTEND;TZID=Asia/Shanghai:20261001T220000
DTSTAMP:20260423T074556
CREATED:20250807T232709Z
LAST-MODIFIED:20250807T232709Z
UID:10002876-1790877600-1790892000@comicquest.org
SUMMARY:Tactical Thursday
DESCRIPTION:This event is for Tactical Thursday! Come and join the fun! \nAn evening dedicated to all popular miniature games. \n  \nSome Facebook Groups \nGames Workshop \nInfinity \nStar Wars Legion \nBattletech \nMiniature Club
URL:https://comicquest.org/event/tactical-thursday-149/2026-10-01/
LOCATION:Comic Quest\, 23811 Bridger #111 CA 92630\, Lake Forest\, CA\, 92630\, United States
CATEGORIES:Event
ATTACH;FMTTYPE=image/jpeg:https://comicquest.org/wp-content/uploads/2023/01/Tactical_thursday.jpg
END:VEVENT
BEGIN:VEVENT
DTSTART;TZID=Asia/Shanghai:20261008T180000
DTEND;TZID=Asia/Shanghai:20261008T220000
DTSTAMP:20260423T074556
CREATED:20250807T232709Z
LAST-MODIFIED:20250807T232709Z
UID:10002877-1791482400-1791496800@comicquest.org
SUMMARY:Tactical Thursday
DESCRIPTION:This event is for Tactical Thursday! Come and join the fun! \nAn evening dedicated to all popular miniature games. \n  \nSome Facebook Groups \nGames Workshop \nInfinity \nStar Wars Legion \nBattletech \nMiniature Club
URL:https://comicquest.org/event/tactical-thursday-149/2026-10-08/
LOCATION:Comic Quest\, 23811 Bridger #111 CA 92630\, Lake Forest\, CA\, 92630\, United States
CATEGORIES:Event
ATTACH;FMTTYPE=image/jpeg:https://comicquest.org/wp-content/uploads/2023/01/Tactical_thursday.jpg
END:VEVENT
BEGIN:VEVENT
DTSTART;TZID=Asia/Shanghai:20261015T180000
DTEND;TZID=Asia/Shanghai:20261015T220000
DTSTAMP:20260423T074556
CREATED:20250807T232709Z
LAST-MODIFIED:20250807T232709Z
UID:10002878-1792087200-1792101600@comicquest.org
SUMMARY:Tactical Thursday
DESCRIPTION:This event is for Tactical Thursday! Come and join the fun! \nAn evening dedicated to all popular miniature games. \n  \nSome Facebook Groups \nGames Workshop \nInfinity \nStar Wars Legion \nBattletech \nMiniature Club
URL:https://comicquest.org/event/tactical-thursday-149/2026-10-15/
LOCATION:Comic Quest\, 23811 Bridger #111 CA 92630\, Lake Forest\, CA\, 92630\, United States
CATEGORIES:Event
ATTACH;FMTTYPE=image/jpeg:https://comicquest.org/wp-content/uploads/2023/01/Tactical_thursday.jpg
END:VEVENT
BEGIN:VEVENT
DTSTART;TZID=Asia/Shanghai:20261022T180000
DTEND;TZID=Asia/Shanghai:20261022T220000
DTSTAMP:20260423T074556
CREATED:20250807T232709Z
LAST-MODIFIED:20250807T232709Z
UID:10002879-1792692000-1792706400@comicquest.org
SUMMARY:Tactical Thursday
DESCRIPTION:This event is for Tactical Thursday! Come and join the fun! \nAn evening dedicated to all popular miniature games. \n  \nSome Facebook Groups \nGames Workshop \nInfinity \nStar Wars Legion \nBattletech \nMiniature Club
URL:https://comicquest.org/event/tactical-thursday-149/2026-10-22/
LOCATION:Comic Quest\, 23811 Bridger #111 CA 92630\, Lake Forest\, CA\, 92630\, United States
CATEGORIES:Event
ATTACH;FMTTYPE=image/jpeg:https://comicquest.org/wp-content/uploads/2023/01/Tactical_thursday.jpg
END:VEVENT
BEGIN:VEVENT
DTSTART;TZID=Asia/Shanghai:20261029T180000
DTEND;TZID=Asia/Shanghai:20261029T220000
DTSTAMP:20260423T074556
CREATED:20250807T232709Z
LAST-MODIFIED:20250807T232709Z
UID:10002880-1793296800-1793311200@comicquest.org
SUMMARY:Tactical Thursday
DESCRIPTION:This event is for Tactical Thursday! Come and join the fun! \nAn evening dedicated to all popular miniature games. \n  \nSome Facebook Groups \nGames Workshop \nInfinity \nStar Wars Legion \nBattletech \nMiniature Club
URL:https://comicquest.org/event/tactical-thursday-149/2026-10-29/
LOCATION:Comic Quest\, 23811 Bridger #111 CA 92630\, Lake Forest\, CA\, 92630\, United States
CATEGORIES:Event
ATTACH;FMTTYPE=image/jpeg:https://comicquest.org/wp-content/uploads/2023/01/Tactical_thursday.jpg
END:VEVENT
BEGIN:VEVENT
DTSTART;TZID=Asia/Shanghai:20261105T180000
DTEND;TZID=Asia/Shanghai:20261105T220000
DTSTAMP:20260423T074556
CREATED:20250807T232709Z
LAST-MODIFIED:20250807T232709Z
UID:10002881-1793901600-1793916000@comicquest.org
SUMMARY:Tactical Thursday
DESCRIPTION:This event is for Tactical Thursday! Come and join the fun! \nAn evening dedicated to all popular miniature games. \n  \nSome Facebook Groups \nGames Workshop \nInfinity \nStar Wars Legion \nBattletech \nMiniature Club
URL:https://comicquest.org/event/tactical-thursday-149/2026-11-05/
LOCATION:Comic Quest\, 23811 Bridger #111 CA 92630\, Lake Forest\, CA\, 92630\, United States
CATEGORIES:Event
ATTACH;FMTTYPE=image/jpeg:https://comicquest.org/wp-content/uploads/2023/01/Tactical_thursday.jpg
END:VEVENT
BEGIN:VEVENT
DTSTART;TZID=Asia/Shanghai:20261112T180000
DTEND;TZID=Asia/Shanghai:20261112T220000
DTSTAMP:20260423T074556
CREATED:20250807T232709Z
LAST-MODIFIED:20250807T232709Z
UID:10002882-1794506400-1794520800@comicquest.org
SUMMARY:Tactical Thursday
DESCRIPTION:This event is for Tactical Thursday! Come and join the fun! \nAn evening dedicated to all popular miniature games. \n  \nSome Facebook Groups \nGames Workshop \nInfinity \nStar Wars Legion \nBattletech \nMiniature Club
URL:https://comicquest.org/event/tactical-thursday-149/2026-11-12/
LOCATION:Comic Quest\, 23811 Bridger #111 CA 92630\, Lake Forest\, CA\, 92630\, United States
CATEGORIES:Event
ATTACH;FMTTYPE=image/jpeg:https://comicquest.org/wp-content/uploads/2023/01/Tactical_thursday.jpg
END:VEVENT
END:VCALENDAR