BEGIN:VCALENDAR
VERSION:2.0
PRODID:-//Comic Quest - ECPv6.15.20//NONSGML v1.0//EN
CALSCALE:GREGORIAN
METHOD:PUBLISH
X-WR-CALNAME:Comic Quest
X-ORIGINAL-URL:https://comicquest.org
X-WR-CALDESC:Events for Comic Quest
REFRESH-INTERVAL;VALUE=DURATION:PT1H
X-Robots-Tag:noindex
X-PUBLISHED-TTL:PT1H
BEGIN:VTIMEZONE
TZID:Asia/Shanghai
BEGIN:STANDARD
TZOFFSETFROM:+0800
TZOFFSETTO:+0800
TZNAME:CST
DTSTART:20260101T000000
END:STANDARD
END:VTIMEZONE
BEGIN:VEVENT
DTSTART;VALUE=DATE:20270118
DTEND;VALUE=DATE:20270119
DTSTAMP:20260423T101954
CREATED:20250807T232955Z
LAST-MODIFIED:20260118T050703Z
UID:10004220-1800230400-1800316799@comicquest.org
SUMMARY:Martin Luther King Jr Day
DESCRIPTION:  \n 
URL:https://comicquest.org/event/martin-luther-king-jr-day-3/2027-01-18/
LOCATION:Comic Quest\, 23811 Bridger #111 CA 92630\, Lake Forest\, CA\, 92630\, United States
CATEGORIES:Event
ATTACH;FMTTYPE=image/jpeg:https://comicquest.org/wp-content/uploads/2023/03/martin_luther_king.jpg
END:VEVENT
BEGIN:VEVENT
DTSTART;VALUE=DATE:20280117
DTEND;VALUE=DATE:20280118
DTSTAMP:20260423T101954
CREATED:20250807T232955Z
LAST-MODIFIED:20260118T050703Z
UID:10004221-1831680000-1831766399@comicquest.org
SUMMARY:Martin Luther King Jr Day
DESCRIPTION:  \n 
URL:https://comicquest.org/event/martin-luther-king-jr-day-3/2028-01-17/
LOCATION:Comic Quest\, 23811 Bridger #111 CA 92630\, Lake Forest\, CA\, 92630\, United States
CATEGORIES:Event
ATTACH;FMTTYPE=image/jpeg:https://comicquest.org/wp-content/uploads/2023/03/martin_luther_king.jpg
END:VEVENT
BEGIN:VEVENT
DTSTART;VALUE=DATE:20290115
DTEND;VALUE=DATE:20290116
DTSTAMP:20260423T101954
CREATED:20250807T232955Z
LAST-MODIFIED:20260118T050703Z
UID:10004222-1863129600-1863215999@comicquest.org
SUMMARY:Martin Luther King Jr Day
DESCRIPTION:  \n 
URL:https://comicquest.org/event/martin-luther-king-jr-day-3/2029-01-15/
LOCATION:Comic Quest\, 23811 Bridger #111 CA 92630\, Lake Forest\, CA\, 92630\, United States
CATEGORIES:Event
ATTACH;FMTTYPE=image/jpeg:https://comicquest.org/wp-content/uploads/2023/03/martin_luther_king.jpg
END:VEVENT
BEGIN:VEVENT
DTSTART;VALUE=DATE:20300121
DTEND;VALUE=DATE:20300122
DTSTAMP:20260423T101954
CREATED:20250807T232955Z
LAST-MODIFIED:20260118T050703Z
UID:10004223-1895184000-1895270399@comicquest.org
SUMMARY:Martin Luther King Jr Day
DESCRIPTION:  \n 
URL:https://comicquest.org/event/martin-luther-king-jr-day-3/2030-01-21/
LOCATION:Comic Quest\, 23811 Bridger #111 CA 92630\, Lake Forest\, CA\, 92630\, United States
CATEGORIES:Event
ATTACH;FMTTYPE=image/jpeg:https://comicquest.org/wp-content/uploads/2023/03/martin_luther_king.jpg
END:VEVENT
END:VCALENDAR