BEGIN:VCALENDAR
VERSION:2.0
PRODID:-//Comic Quest - ECPv6.15.20//NONSGML v1.0//EN
CALSCALE:GREGORIAN
METHOD:PUBLISH
X-WR-CALNAME:Comic Quest
X-ORIGINAL-URL:https://comicquest.org
X-WR-CALDESC:Events for Comic Quest
REFRESH-INTERVAL;VALUE=DURATION:PT1H
X-Robots-Tag:noindex
X-PUBLISHED-TTL:PT1H
BEGIN:VTIMEZONE
TZID:Asia/Shanghai
BEGIN:STANDARD
TZOFFSETFROM:+0800
TZOFFSETTO:+0800
TZNAME:CST
DTSTART:20260101T000000
END:STANDARD
END:VTIMEZONE
BEGIN:VEVENT
DTSTART;VALUE=DATE:20270201
DTEND;VALUE=DATE:20270202
DTSTAMP:20260423T125315
CREATED:20250807T233327Z
LAST-MODIFIED:20250807T233327Z
UID:10003086-1801440000-1801526399@comicquest.org
SUMMARY:G.I Joe Day
DESCRIPTION:  \n \nG.I. Joe Day is celebrated on February 1 because the toy was introduced to the market in February 1964 by Hasbro\, a toy company
URL:https://comicquest.org/event/g-i-joe-day-3/2027-02-01/
LOCATION:Comic Quest\, 23811 Bridger #111 CA 92630\, Lake Forest\, CA\, 92630\, United States
CATEGORIES:Event
ATTACH;FMTTYPE=image/webp:https://comicquest.org/wp-content/uploads/2024/07/gi-joe-image.webp
END:VEVENT
BEGIN:VEVENT
DTSTART;VALUE=DATE:20280201
DTEND;VALUE=DATE:20280202
DTSTAMP:20260423T125315
CREATED:20250807T233327Z
LAST-MODIFIED:20250807T233327Z
UID:10003087-1832976000-1833062399@comicquest.org
SUMMARY:G.I Joe Day
DESCRIPTION:  \n \nG.I. Joe Day is celebrated on February 1 because the toy was introduced to the market in February 1964 by Hasbro\, a toy company
URL:https://comicquest.org/event/g-i-joe-day-3/2028-02-01/
LOCATION:Comic Quest\, 23811 Bridger #111 CA 92630\, Lake Forest\, CA\, 92630\, United States
CATEGORIES:Event
ATTACH;FMTTYPE=image/webp:https://comicquest.org/wp-content/uploads/2024/07/gi-joe-image.webp
END:VEVENT
BEGIN:VEVENT
DTSTART;VALUE=DATE:20290201
DTEND;VALUE=DATE:20290202
DTSTAMP:20260423T125315
CREATED:20250807T233327Z
LAST-MODIFIED:20250807T233327Z
UID:10003088-1864598400-1864684799@comicquest.org
SUMMARY:G.I Joe Day
DESCRIPTION:  \n \nG.I. Joe Day is celebrated on February 1 because the toy was introduced to the market in February 1964 by Hasbro\, a toy company
URL:https://comicquest.org/event/g-i-joe-day-3/2029-02-01/
LOCATION:Comic Quest\, 23811 Bridger #111 CA 92630\, Lake Forest\, CA\, 92630\, United States
CATEGORIES:Event
ATTACH;FMTTYPE=image/webp:https://comicquest.org/wp-content/uploads/2024/07/gi-joe-image.webp
END:VEVENT
BEGIN:VEVENT
DTSTART;VALUE=DATE:20300201
DTEND;VALUE=DATE:20300202
DTSTAMP:20260423T125315
CREATED:20250807T233327Z
LAST-MODIFIED:20250807T233327Z
UID:10003089-1896134400-1896220799@comicquest.org
SUMMARY:G.I Joe Day
DESCRIPTION:  \n \nG.I. Joe Day is celebrated on February 1 because the toy was introduced to the market in February 1964 by Hasbro\, a toy company
URL:https://comicquest.org/event/g-i-joe-day-3/2030-02-01/
LOCATION:Comic Quest\, 23811 Bridger #111 CA 92630\, Lake Forest\, CA\, 92630\, United States
CATEGORIES:Event
ATTACH;FMTTYPE=image/webp:https://comicquest.org/wp-content/uploads/2024/07/gi-joe-image.webp
END:VEVENT
END:VCALENDAR