BEGIN:VCALENDAR
VERSION:2.0
PRODID:-//Comic Quest - ECPv6.15.20//NONSGML v1.0//EN
CALSCALE:GREGORIAN
METHOD:PUBLISH
X-WR-CALNAME:Comic Quest
X-ORIGINAL-URL:https://comicquest.org
X-WR-CALDESC:Events for Comic Quest
REFRESH-INTERVAL;VALUE=DURATION:PT1H
X-Robots-Tag:noindex
X-PUBLISHED-TTL:PT1H
BEGIN:VTIMEZONE
TZID:Asia/Shanghai
BEGIN:STANDARD
TZOFFSETFROM:+0800
TZOFFSETTO:+0800
TZNAME:CST
DTSTART:20260101T000000
END:STANDARD
END:VTIMEZONE
BEGIN:VEVENT
DTSTART;VALUE=DATE:20270202
DTEND;VALUE=DATE:20270203
DTSTAMP:20260423T112103
CREATED:20250807T233504Z
LAST-MODIFIED:20250807T233504Z
UID:10003092-1801526400-1801612799@comicquest.org
SUMMARY:Groundhog Day
DESCRIPTION:Happy Groundhog Day
URL:https://comicquest.org/event/groundhog-day-3/2027-02-02/
LOCATION:Comic Quest\, 23811 Bridger #111 CA 92630\, Lake Forest\, CA\, 92630\, United States
CATEGORIES:Event
ATTACH;FMTTYPE=image/jpeg:https://comicquest.org/wp-content/uploads/2024/02/groundhog-day.jpg
END:VEVENT
BEGIN:VEVENT
DTSTART;VALUE=DATE:20280202
DTEND;VALUE=DATE:20280203
DTSTAMP:20260423T112103
CREATED:20250807T233504Z
LAST-MODIFIED:20250807T233504Z
UID:10003093-1833062400-1833148799@comicquest.org
SUMMARY:Groundhog Day
DESCRIPTION:Happy Groundhog Day
URL:https://comicquest.org/event/groundhog-day-3/2028-02-02/
LOCATION:Comic Quest\, 23811 Bridger #111 CA 92630\, Lake Forest\, CA\, 92630\, United States
CATEGORIES:Event
ATTACH;FMTTYPE=image/jpeg:https://comicquest.org/wp-content/uploads/2024/02/groundhog-day.jpg
END:VEVENT
BEGIN:VEVENT
DTSTART;VALUE=DATE:20290202
DTEND;VALUE=DATE:20290203
DTSTAMP:20260423T112103
CREATED:20250807T233504Z
LAST-MODIFIED:20250807T233504Z
UID:10003094-1864684800-1864771199@comicquest.org
SUMMARY:Groundhog Day
DESCRIPTION:Happy Groundhog Day
URL:https://comicquest.org/event/groundhog-day-3/2029-02-02/
LOCATION:Comic Quest\, 23811 Bridger #111 CA 92630\, Lake Forest\, CA\, 92630\, United States
CATEGORIES:Event
ATTACH;FMTTYPE=image/jpeg:https://comicquest.org/wp-content/uploads/2024/02/groundhog-day.jpg
END:VEVENT
BEGIN:VEVENT
DTSTART;VALUE=DATE:20300202
DTEND;VALUE=DATE:20300203
DTSTAMP:20260423T112103
CREATED:20250807T233504Z
LAST-MODIFIED:20250807T233504Z
UID:10003095-1896220800-1896307199@comicquest.org
SUMMARY:Groundhog Day
DESCRIPTION:Happy Groundhog Day
URL:https://comicquest.org/event/groundhog-day-3/2030-02-02/
LOCATION:Comic Quest\, 23811 Bridger #111 CA 92630\, Lake Forest\, CA\, 92630\, United States
CATEGORIES:Event
ATTACH;FMTTYPE=image/jpeg:https://comicquest.org/wp-content/uploads/2024/02/groundhog-day.jpg
END:VEVENT
END:VCALENDAR