BEGIN:VCALENDAR
VERSION:2.0
PRODID:-//Comic Quest - ECPv6.15.20//NONSGML v1.0//EN
CALSCALE:GREGORIAN
METHOD:PUBLISH
X-WR-CALNAME:Comic Quest
X-ORIGINAL-URL:https://comicquest.org
X-WR-CALDESC:Events for Comic Quest
REFRESH-INTERVAL;VALUE=DURATION:PT1H
X-Robots-Tag:noindex
X-PUBLISHED-TTL:PT1H
BEGIN:VTIMEZONE
TZID:Asia/Shanghai
BEGIN:STANDARD
TZOFFSETFROM:+0800
TZOFFSETTO:+0800
TZNAME:CST
DTSTART:20260101T000000
END:STANDARD
END:VTIMEZONE
BEGIN:VEVENT
DTSTART;VALUE=DATE:20270404
DTEND;VALUE=DATE:20270405
DTSTAMP:20260423T085900
CREATED:20250807T235218Z
LAST-MODIFIED:20250807T235218Z
UID:10003158-1806796800-1806883199@comicquest.org
SUMMARY:Fantastic Four Day (4/4)
DESCRIPTION:  \n \n4/4
URL:https://comicquest.org/event/fantastic-four-day-4-4-3/2027-04-04/
LOCATION:Comic Quest\, 23811 Bridger #111 CA 92630\, Lake Forest\, CA\, 92630\, United States
CATEGORIES:Holiday
ATTACH;FMTTYPE=image/jpeg:https://comicquest.org/wp-content/uploads/2024/04/4-4-day.jpg
END:VEVENT
BEGIN:VEVENT
DTSTART;VALUE=DATE:20280404
DTEND;VALUE=DATE:20280405
DTSTAMP:20260423T085900
CREATED:20250807T235218Z
LAST-MODIFIED:20250807T235218Z
UID:10003159-1838419200-1838505599@comicquest.org
SUMMARY:Fantastic Four Day (4/4)
DESCRIPTION:  \n \n4/4
URL:https://comicquest.org/event/fantastic-four-day-4-4-3/2028-04-04/
LOCATION:Comic Quest\, 23811 Bridger #111 CA 92630\, Lake Forest\, CA\, 92630\, United States
CATEGORIES:Holiday
ATTACH;FMTTYPE=image/jpeg:https://comicquest.org/wp-content/uploads/2024/04/4-4-day.jpg
END:VEVENT
BEGIN:VEVENT
DTSTART;VALUE=DATE:20290404
DTEND;VALUE=DATE:20290405
DTSTAMP:20260423T085900
CREATED:20250807T235218Z
LAST-MODIFIED:20250807T235218Z
UID:10003160-1869955200-1870041599@comicquest.org
SUMMARY:Fantastic Four Day (4/4)
DESCRIPTION:  \n \n4/4
URL:https://comicquest.org/event/fantastic-four-day-4-4-3/2029-04-04/
LOCATION:Comic Quest\, 23811 Bridger #111 CA 92630\, Lake Forest\, CA\, 92630\, United States
CATEGORIES:Holiday
ATTACH;FMTTYPE=image/jpeg:https://comicquest.org/wp-content/uploads/2024/04/4-4-day.jpg
END:VEVENT
BEGIN:VEVENT
DTSTART;VALUE=DATE:20300404
DTEND;VALUE=DATE:20300405
DTSTAMP:20260423T085900
CREATED:20250807T235218Z
LAST-MODIFIED:20250807T235218Z
UID:10003161-1901491200-1901577599@comicquest.org
SUMMARY:Fantastic Four Day (4/4)
DESCRIPTION:  \n \n4/4
URL:https://comicquest.org/event/fantastic-four-day-4-4-3/2030-04-04/
LOCATION:Comic Quest\, 23811 Bridger #111 CA 92630\, Lake Forest\, CA\, 92630\, United States
CATEGORIES:Holiday
ATTACH;FMTTYPE=image/jpeg:https://comicquest.org/wp-content/uploads/2024/04/4-4-day.jpg
END:VEVENT
END:VCALENDAR