BEGIN:VCALENDAR
VERSION:2.0
PRODID:-//Comic Quest - ECPv6.15.20//NONSGML v1.0//EN
CALSCALE:GREGORIAN
METHOD:PUBLISH
X-WR-CALNAME:Comic Quest
X-ORIGINAL-URL:https://comicquest.org
X-WR-CALDESC:Events for Comic Quest
REFRESH-INTERVAL;VALUE=DURATION:PT1H
X-Robots-Tag:noindex
X-PUBLISHED-TTL:PT1H
BEGIN:VTIMEZONE
TZID:Asia/Shanghai
BEGIN:STANDARD
TZOFFSETFROM:+0800
TZOFFSETTO:+0800
TZNAME:CST
DTSTART:20260101T000000
END:STANDARD
END:VTIMEZONE
BEGIN:VEVENT
DTSTART;VALUE=DATE:20270418
DTEND;VALUE=DATE:20270419
DTSTAMP:20260423T073807
CREATED:20250807T235527Z
LAST-MODIFIED:20250807T235527Z
UID:10003164-1808006400-1808092799@comicquest.org
SUMMARY:Superman Day
DESCRIPTION:Special Books to be offered on Superman Day\nSuperman Day will be celebrated at comic shops everywhere on April 18\, 2025. \n\n 
URL:https://comicquest.org/event/superman-day-2/2027-04-18/
LOCATION:Comic Quest\, 23811 Bridger #111 CA 92630\, Lake Forest\, CA\, 92630\, United States
CATEGORIES:Event
ATTACH;FMTTYPE=image/png:https://comicquest.org/wp-content/uploads/2025/04/superman-day-2025-1.png
END:VEVENT
BEGIN:VEVENT
DTSTART;VALUE=DATE:20280418
DTEND;VALUE=DATE:20280419
DTSTAMP:20260423T073807
CREATED:20250807T235527Z
LAST-MODIFIED:20250807T235527Z
UID:10003165-1839628800-1839715199@comicquest.org
SUMMARY:Superman Day
DESCRIPTION:Special Books to be offered on Superman Day\nSuperman Day will be celebrated at comic shops everywhere on April 18\, 2025. \n\n 
URL:https://comicquest.org/event/superman-day-2/2028-04-18/
LOCATION:Comic Quest\, 23811 Bridger #111 CA 92630\, Lake Forest\, CA\, 92630\, United States
CATEGORIES:Event
ATTACH;FMTTYPE=image/png:https://comicquest.org/wp-content/uploads/2025/04/superman-day-2025-1.png
END:VEVENT
BEGIN:VEVENT
DTSTART;VALUE=DATE:20290418
DTEND;VALUE=DATE:20290419
DTSTAMP:20260423T073807
CREATED:20250807T235527Z
LAST-MODIFIED:20250807T235527Z
UID:10003166-1871164800-1871251199@comicquest.org
SUMMARY:Superman Day
DESCRIPTION:Special Books to be offered on Superman Day\nSuperman Day will be celebrated at comic shops everywhere on April 18\, 2025. \n\n 
URL:https://comicquest.org/event/superman-day-2/2029-04-18/
LOCATION:Comic Quest\, 23811 Bridger #111 CA 92630\, Lake Forest\, CA\, 92630\, United States
CATEGORIES:Event
ATTACH;FMTTYPE=image/png:https://comicquest.org/wp-content/uploads/2025/04/superman-day-2025-1.png
END:VEVENT
BEGIN:VEVENT
DTSTART;VALUE=DATE:20300418
DTEND;VALUE=DATE:20300419
DTSTAMP:20260423T073807
CREATED:20250807T235527Z
LAST-MODIFIED:20250807T235527Z
UID:10003167-1902700800-1902787199@comicquest.org
SUMMARY:Superman Day
DESCRIPTION:Special Books to be offered on Superman Day\nSuperman Day will be celebrated at comic shops everywhere on April 18\, 2025. \n\n 
URL:https://comicquest.org/event/superman-day-2/2030-04-18/
LOCATION:Comic Quest\, 23811 Bridger #111 CA 92630\, Lake Forest\, CA\, 92630\, United States
CATEGORIES:Event
ATTACH;FMTTYPE=image/png:https://comicquest.org/wp-content/uploads/2025/04/superman-day-2025-1.png
END:VEVENT
END:VCALENDAR