BEGIN:VCALENDAR
VERSION:2.0
PRODID:-//Comic Quest - ECPv6.15.20//NONSGML v1.0//EN
CALSCALE:GREGORIAN
METHOD:PUBLISH
X-WR-CALNAME:Comic Quest
X-ORIGINAL-URL:https://comicquest.org
X-WR-CALDESC:Events for Comic Quest
REFRESH-INTERVAL;VALUE=DURATION:PT1H
X-Robots-Tag:noindex
X-PUBLISHED-TTL:PT1H
BEGIN:VTIMEZONE
TZID:Asia/Shanghai
BEGIN:STANDARD
TZOFFSETFROM:+0800
TZOFFSETTO:+0800
TZNAME:CST
DTSTART:20250101T000000
END:STANDARD
END:VTIMEZONE
BEGIN:VEVENT
DTSTART;VALUE=DATE:20260425
DTEND;VALUE=DATE:20260426
DTSTAMP:20260423T074553
CREATED:20250808T000028Z
LAST-MODIFIED:20250808T000028Z
UID:10003176-1777075200-1777161599@comicquest.org
SUMMARY:Perfect Date
DESCRIPTION:  \n \nMay 25th \nFrom Miss Congeniality
URL:https://comicquest.org/event/perfect-date-4/2026-04-25/
LOCATION:Comic Quest\, 23811 Bridger #111 CA 92630\, Lake Forest\, CA\, 92630\, United States
CATEGORIES:Event
ATTACH;FMTTYPE=image/jpeg:https://comicquest.org/wp-content/uploads/2023/07/Perfect_date.jpg
END:VEVENT
BEGIN:VEVENT
DTSTART;VALUE=DATE:20270425
DTEND;VALUE=DATE:20270426
DTSTAMP:20260423T074553
CREATED:20250808T000028Z
LAST-MODIFIED:20250808T000028Z
UID:10003177-1808611200-1808697599@comicquest.org
SUMMARY:Perfect Date
DESCRIPTION:  \n \nMay 25th \nFrom Miss Congeniality
URL:https://comicquest.org/event/perfect-date-4/2027-04-25/
LOCATION:Comic Quest\, 23811 Bridger #111 CA 92630\, Lake Forest\, CA\, 92630\, United States
CATEGORIES:Event
ATTACH;FMTTYPE=image/jpeg:https://comicquest.org/wp-content/uploads/2023/07/Perfect_date.jpg
END:VEVENT
BEGIN:VEVENT
DTSTART;VALUE=DATE:20280425
DTEND;VALUE=DATE:20280426
DTSTAMP:20260423T074553
CREATED:20250808T000028Z
LAST-MODIFIED:20250808T000028Z
UID:10003178-1840233600-1840319999@comicquest.org
SUMMARY:Perfect Date
DESCRIPTION:  \n \nMay 25th \nFrom Miss Congeniality
URL:https://comicquest.org/event/perfect-date-4/2028-04-25/
LOCATION:Comic Quest\, 23811 Bridger #111 CA 92630\, Lake Forest\, CA\, 92630\, United States
CATEGORIES:Event
ATTACH;FMTTYPE=image/jpeg:https://comicquest.org/wp-content/uploads/2023/07/Perfect_date.jpg
END:VEVENT
BEGIN:VEVENT
DTSTART;VALUE=DATE:20290425
DTEND;VALUE=DATE:20290426
DTSTAMP:20260423T074553
CREATED:20250808T000028Z
LAST-MODIFIED:20250808T000028Z
UID:10003179-1871769600-1871855999@comicquest.org
SUMMARY:Perfect Date
DESCRIPTION:  \n \nMay 25th \nFrom Miss Congeniality
URL:https://comicquest.org/event/perfect-date-4/2029-04-25/
LOCATION:Comic Quest\, 23811 Bridger #111 CA 92630\, Lake Forest\, CA\, 92630\, United States
CATEGORIES:Event
ATTACH;FMTTYPE=image/jpeg:https://comicquest.org/wp-content/uploads/2023/07/Perfect_date.jpg
END:VEVENT
BEGIN:VEVENT
DTSTART;VALUE=DATE:20300425
DTEND;VALUE=DATE:20300426
DTSTAMP:20260423T074553
CREATED:20250808T000028Z
LAST-MODIFIED:20250808T000028Z
UID:10003180-1903305600-1903391999@comicquest.org
SUMMARY:Perfect Date
DESCRIPTION:  \n \nMay 25th \nFrom Miss Congeniality
URL:https://comicquest.org/event/perfect-date-4/2030-04-25/
LOCATION:Comic Quest\, 23811 Bridger #111 CA 92630\, Lake Forest\, CA\, 92630\, United States
CATEGORIES:Event
ATTACH;FMTTYPE=image/jpeg:https://comicquest.org/wp-content/uploads/2023/07/Perfect_date.jpg
END:VEVENT
END:VCALENDAR