BEGIN:VCALENDAR
VERSION:2.0
PRODID:-//Comic Quest - ECPv6.15.20//NONSGML v1.0//EN
CALSCALE:GREGORIAN
METHOD:PUBLISH
X-WR-CALNAME:Comic Quest
X-ORIGINAL-URL:https://comicquest.org
X-WR-CALDESC:Events for Comic Quest
REFRESH-INTERVAL;VALUE=DURATION:PT1H
X-Robots-Tag:noindex
X-PUBLISHED-TTL:PT1H
BEGIN:VTIMEZONE
TZID:Asia/Shanghai
BEGIN:STANDARD
TZOFFSETFROM:+0800
TZOFFSETTO:+0800
TZNAME:CST
DTSTART:20250101T000000
END:STANDARD
END:VTIMEZONE
BEGIN:VEVENT
DTSTART;VALUE=DATE:20260426
DTEND;VALUE=DATE:20260427
DTSTAMP:20260423T074552
CREATED:20250808T000137Z
LAST-MODIFIED:20250808T000137Z
UID:10003182-1777161600-1777247999@comicquest.org
SUMMARY:Alien Day
DESCRIPTION:  \n 
URL:https://comicquest.org/event/alien-day-4/2026-04-26/
LOCATION:Comic Quest\, 23811 Bridger #111 CA 92630\, Lake Forest\, CA\, 92630\, United States
CATEGORIES:Event
ATTACH;FMTTYPE=image/png:https://comicquest.org/wp-content/uploads/2023/03/alien-day-logo.png
END:VEVENT
BEGIN:VEVENT
DTSTART;VALUE=DATE:20270426
DTEND;VALUE=DATE:20270427
DTSTAMP:20260423T074552
CREATED:20250808T000137Z
LAST-MODIFIED:20250808T000137Z
UID:10003183-1808697600-1808783999@comicquest.org
SUMMARY:Alien Day
DESCRIPTION:  \n 
URL:https://comicquest.org/event/alien-day-4/2027-04-26/
LOCATION:Comic Quest\, 23811 Bridger #111 CA 92630\, Lake Forest\, CA\, 92630\, United States
CATEGORIES:Event
ATTACH;FMTTYPE=image/png:https://comicquest.org/wp-content/uploads/2023/03/alien-day-logo.png
END:VEVENT
BEGIN:VEVENT
DTSTART;VALUE=DATE:20280426
DTEND;VALUE=DATE:20280427
DTSTAMP:20260423T074552
CREATED:20250808T000137Z
LAST-MODIFIED:20250808T000137Z
UID:10003184-1840320000-1840406399@comicquest.org
SUMMARY:Alien Day
DESCRIPTION:  \n 
URL:https://comicquest.org/event/alien-day-4/2028-04-26/
LOCATION:Comic Quest\, 23811 Bridger #111 CA 92630\, Lake Forest\, CA\, 92630\, United States
CATEGORIES:Event
ATTACH;FMTTYPE=image/png:https://comicquest.org/wp-content/uploads/2023/03/alien-day-logo.png
END:VEVENT
BEGIN:VEVENT
DTSTART;VALUE=DATE:20290426
DTEND;VALUE=DATE:20290427
DTSTAMP:20260423T074552
CREATED:20250808T000137Z
LAST-MODIFIED:20250808T000137Z
UID:10003185-1871856000-1871942399@comicquest.org
SUMMARY:Alien Day
DESCRIPTION:  \n 
URL:https://comicquest.org/event/alien-day-4/2029-04-26/
LOCATION:Comic Quest\, 23811 Bridger #111 CA 92630\, Lake Forest\, CA\, 92630\, United States
CATEGORIES:Event
ATTACH;FMTTYPE=image/png:https://comicquest.org/wp-content/uploads/2023/03/alien-day-logo.png
END:VEVENT
BEGIN:VEVENT
DTSTART;VALUE=DATE:20300426
DTEND;VALUE=DATE:20300427
DTSTAMP:20260423T074552
CREATED:20250808T000137Z
LAST-MODIFIED:20250808T000137Z
UID:10003186-1903392000-1903478399@comicquest.org
SUMMARY:Alien Day
DESCRIPTION:  \n 
URL:https://comicquest.org/event/alien-day-4/2030-04-26/
LOCATION:Comic Quest\, 23811 Bridger #111 CA 92630\, Lake Forest\, CA\, 92630\, United States
CATEGORIES:Event
ATTACH;FMTTYPE=image/png:https://comicquest.org/wp-content/uploads/2023/03/alien-day-logo.png
END:VEVENT
END:VCALENDAR