BEGIN:VCALENDAR
VERSION:2.0
PRODID:-//Comic Quest - ECPv6.15.20//NONSGML v1.0//EN
CALSCALE:GREGORIAN
METHOD:PUBLISH
X-WR-CALNAME:Comic Quest
X-ORIGINAL-URL:https://comicquest.org
X-WR-CALDESC:Events for Comic Quest
REFRESH-INTERVAL;VALUE=DURATION:PT1H
X-Robots-Tag:noindex
X-PUBLISHED-TTL:PT1H
BEGIN:VTIMEZONE
TZID:Asia/Shanghai
BEGIN:STANDARD
TZOFFSETFROM:+0800
TZOFFSETTO:+0800
TZNAME:CST
DTSTART:20250101T000000
END:STANDARD
END:VTIMEZONE
BEGIN:VEVENT
DTSTART;VALUE=DATE:20260518
DTEND;VALUE=DATE:20260519
DTSTAMP:20260423T125316
CREATED:20250808T000844Z
LAST-MODIFIED:20250808T000844Z
UID:10003206-1779062400-1779148799@comicquest.org
SUMMARY:Miracle Monday
DESCRIPTION:Miracle Monday is a novel written by Elliot S. Maggin\, starring the DC Comics superhero Superman. It was published in 1981. \nThe novel introduces the holiday Miracle Monday\, which occurs annually on the third Monday of May. \nKristin Wells\, a history graduate student from the far future\, uses time travel technology to arrive in the present\, for the purpose of finding out the origin of the holiday known as Miracle Monday\, which is known only to be somehow connected to Superman. \nUltimately\, Superman refuses to kill Kristin\, even if it means he would have to spend the rest of his life battling Saturn. At that moment\, because of the rules that bind demons\, Saturn is defeated\, and forced to grant Superman a wish. He asks that everything that happened since Saturn’s arrival be undone\, and it is granted\, with Saturn then being banished back to Hell. However\, a lingering memory of the events remained within the souls of humanity\, causing them to begin celebrating the day every year\, on the third Monday of May\, starting the Miracle Monday tradition. Kristin then returns to the future to reveal this fact to the public. \n 
URL:https://comicquest.org/event/miracle-monday-4/2026-05-18/
LOCATION:Comic Quest\, 23811 Bridger #111 CA 92630\, Lake Forest\, CA\, 92630\, United States
CATEGORIES:Event
ATTACH;FMTTYPE=image/jpeg:https://comicquest.org/wp-content/uploads/2023/03/Miracle_monday.jpg
END:VEVENT
BEGIN:VEVENT
DTSTART;VALUE=DATE:20270517
DTEND;VALUE=DATE:20270518
DTSTAMP:20260423T125316
CREATED:20250808T000844Z
LAST-MODIFIED:20250808T000844Z
UID:10003207-1810512000-1810598399@comicquest.org
SUMMARY:Miracle Monday
DESCRIPTION:Miracle Monday is a novel written by Elliot S. Maggin\, starring the DC Comics superhero Superman. It was published in 1981. \nThe novel introduces the holiday Miracle Monday\, which occurs annually on the third Monday of May. \nKristin Wells\, a history graduate student from the far future\, uses time travel technology to arrive in the present\, for the purpose of finding out the origin of the holiday known as Miracle Monday\, which is known only to be somehow connected to Superman. \nUltimately\, Superman refuses to kill Kristin\, even if it means he would have to spend the rest of his life battling Saturn. At that moment\, because of the rules that bind demons\, Saturn is defeated\, and forced to grant Superman a wish. He asks that everything that happened since Saturn’s arrival be undone\, and it is granted\, with Saturn then being banished back to Hell. However\, a lingering memory of the events remained within the souls of humanity\, causing them to begin celebrating the day every year\, on the third Monday of May\, starting the Miracle Monday tradition. Kristin then returns to the future to reveal this fact to the public. \n 
URL:https://comicquest.org/event/miracle-monday-4/2027-05-17/
LOCATION:Comic Quest\, 23811 Bridger #111 CA 92630\, Lake Forest\, CA\, 92630\, United States
CATEGORIES:Event
ATTACH;FMTTYPE=image/jpeg:https://comicquest.org/wp-content/uploads/2023/03/Miracle_monday.jpg
END:VEVENT
BEGIN:VEVENT
DTSTART;VALUE=DATE:20280515
DTEND;VALUE=DATE:20280516
DTSTAMP:20260423T125316
CREATED:20250808T000844Z
LAST-MODIFIED:20250808T000844Z
UID:10003208-1841961600-1842047999@comicquest.org
SUMMARY:Miracle Monday
DESCRIPTION:Miracle Monday is a novel written by Elliot S. Maggin\, starring the DC Comics superhero Superman. It was published in 1981. \nThe novel introduces the holiday Miracle Monday\, which occurs annually on the third Monday of May. \nKristin Wells\, a history graduate student from the far future\, uses time travel technology to arrive in the present\, for the purpose of finding out the origin of the holiday known as Miracle Monday\, which is known only to be somehow connected to Superman. \nUltimately\, Superman refuses to kill Kristin\, even if it means he would have to spend the rest of his life battling Saturn. At that moment\, because of the rules that bind demons\, Saturn is defeated\, and forced to grant Superman a wish. He asks that everything that happened since Saturn’s arrival be undone\, and it is granted\, with Saturn then being banished back to Hell. However\, a lingering memory of the events remained within the souls of humanity\, causing them to begin celebrating the day every year\, on the third Monday of May\, starting the Miracle Monday tradition. Kristin then returns to the future to reveal this fact to the public. \n 
URL:https://comicquest.org/event/miracle-monday-4/2028-05-15/
LOCATION:Comic Quest\, 23811 Bridger #111 CA 92630\, Lake Forest\, CA\, 92630\, United States
CATEGORIES:Event
ATTACH;FMTTYPE=image/jpeg:https://comicquest.org/wp-content/uploads/2023/03/Miracle_monday.jpg
END:VEVENT
BEGIN:VEVENT
DTSTART;VALUE=DATE:20290521
DTEND;VALUE=DATE:20290522
DTSTAMP:20260423T125316
CREATED:20250808T000844Z
LAST-MODIFIED:20250808T000844Z
UID:10003209-1874016000-1874102399@comicquest.org
SUMMARY:Miracle Monday
DESCRIPTION:Miracle Monday is a novel written by Elliot S. Maggin\, starring the DC Comics superhero Superman. It was published in 1981. \nThe novel introduces the holiday Miracle Monday\, which occurs annually on the third Monday of May. \nKristin Wells\, a history graduate student from the far future\, uses time travel technology to arrive in the present\, for the purpose of finding out the origin of the holiday known as Miracle Monday\, which is known only to be somehow connected to Superman. \nUltimately\, Superman refuses to kill Kristin\, even if it means he would have to spend the rest of his life battling Saturn. At that moment\, because of the rules that bind demons\, Saturn is defeated\, and forced to grant Superman a wish. He asks that everything that happened since Saturn’s arrival be undone\, and it is granted\, with Saturn then being banished back to Hell. However\, a lingering memory of the events remained within the souls of humanity\, causing them to begin celebrating the day every year\, on the third Monday of May\, starting the Miracle Monday tradition. Kristin then returns to the future to reveal this fact to the public. \n 
URL:https://comicquest.org/event/miracle-monday-4/2029-05-21/
LOCATION:Comic Quest\, 23811 Bridger #111 CA 92630\, Lake Forest\, CA\, 92630\, United States
CATEGORIES:Event
ATTACH;FMTTYPE=image/jpeg:https://comicquest.org/wp-content/uploads/2023/03/Miracle_monday.jpg
END:VEVENT
BEGIN:VEVENT
DTSTART;VALUE=DATE:20300520
DTEND;VALUE=DATE:20300521
DTSTAMP:20260423T125316
CREATED:20250808T000844Z
LAST-MODIFIED:20250808T000844Z
UID:10003210-1905465600-1905551999@comicquest.org
SUMMARY:Miracle Monday
DESCRIPTION:Miracle Monday is a novel written by Elliot S. Maggin\, starring the DC Comics superhero Superman. It was published in 1981. \nThe novel introduces the holiday Miracle Monday\, which occurs annually on the third Monday of May. \nKristin Wells\, a history graduate student from the far future\, uses time travel technology to arrive in the present\, for the purpose of finding out the origin of the holiday known as Miracle Monday\, which is known only to be somehow connected to Superman. \nUltimately\, Superman refuses to kill Kristin\, even if it means he would have to spend the rest of his life battling Saturn. At that moment\, because of the rules that bind demons\, Saturn is defeated\, and forced to grant Superman a wish. He asks that everything that happened since Saturn’s arrival be undone\, and it is granted\, with Saturn then being banished back to Hell. However\, a lingering memory of the events remained within the souls of humanity\, causing them to begin celebrating the day every year\, on the third Monday of May\, starting the Miracle Monday tradition. Kristin then returns to the future to reveal this fact to the public. \n 
URL:https://comicquest.org/event/miracle-monday-4/2030-05-20/
LOCATION:Comic Quest\, 23811 Bridger #111 CA 92630\, Lake Forest\, CA\, 92630\, United States
CATEGORIES:Event
ATTACH;FMTTYPE=image/jpeg:https://comicquest.org/wp-content/uploads/2023/03/Miracle_monday.jpg
END:VEVENT
END:VCALENDAR