BEGIN:VCALENDAR
VERSION:2.0
PRODID:-//Comic Quest - ECPv6.15.20//NONSGML v1.0//EN
CALSCALE:GREGORIAN
METHOD:PUBLISH
X-WR-CALNAME:Comic Quest
X-ORIGINAL-URL:https://comicquest.org
X-WR-CALDESC:Events for Comic Quest
REFRESH-INTERVAL;VALUE=DURATION:PT1H
X-Robots-Tag:noindex
X-PUBLISHED-TTL:PT1H
BEGIN:VTIMEZONE
TZID:Asia/Shanghai
BEGIN:STANDARD
TZOFFSETFROM:+0800
TZOFFSETTO:+0800
TZNAME:CST
DTSTART:20250101T000000
END:STANDARD
END:VTIMEZONE
BEGIN:VEVENT
DTSTART;VALUE=DATE:20260520
DTEND;VALUE=DATE:20260521
DTSTAMP:20260423T113124
CREATED:20250808T001039Z
LAST-MODIFIED:20250808T001039Z
UID:10003212-1779235200-1779321599@comicquest.org
SUMMARY:Eliza Doolittle Day
DESCRIPTION:  \n  \n \n  \nEliza Doolittle Day is celebrated on May 20th\, based on a line from the song “Just You Wait” in the 1956 Broadway musical My Fair Lady. In the song\, the character Eliza Doolittle\, a Cockney flower girl\, imagines the king saying “Next week on the twentieth of May\, I proclaim Liza Doolittle Day”
URL:https://comicquest.org/event/eliza-doolittle-day-3/2026-05-20/
LOCATION:Comic Quest\, 23811 Bridger #111 CA 92630\, Lake Forest\, CA\, 92630\, United States
CATEGORIES:Holiday
ATTACH;FMTTYPE=image/jpeg:https://comicquest.org/wp-content/uploads/2024/05/eliza-doolitle-day.jpg
END:VEVENT
BEGIN:VEVENT
DTSTART;VALUE=DATE:20270520
DTEND;VALUE=DATE:20270521
DTSTAMP:20260423T113124
CREATED:20250808T001039Z
LAST-MODIFIED:20250808T001039Z
UID:10003213-1810771200-1810857599@comicquest.org
SUMMARY:Eliza Doolittle Day
DESCRIPTION:  \n  \n \n  \nEliza Doolittle Day is celebrated on May 20th\, based on a line from the song “Just You Wait” in the 1956 Broadway musical My Fair Lady. In the song\, the character Eliza Doolittle\, a Cockney flower girl\, imagines the king saying “Next week on the twentieth of May\, I proclaim Liza Doolittle Day”
URL:https://comicquest.org/event/eliza-doolittle-day-3/2027-05-20/
LOCATION:Comic Quest\, 23811 Bridger #111 CA 92630\, Lake Forest\, CA\, 92630\, United States
CATEGORIES:Holiday
ATTACH;FMTTYPE=image/jpeg:https://comicquest.org/wp-content/uploads/2024/05/eliza-doolitle-day.jpg
END:VEVENT
BEGIN:VEVENT
DTSTART;VALUE=DATE:20280520
DTEND;VALUE=DATE:20280521
DTSTAMP:20260423T113124
CREATED:20250808T001039Z
LAST-MODIFIED:20250808T001039Z
UID:10003214-1842393600-1842479999@comicquest.org
SUMMARY:Eliza Doolittle Day
DESCRIPTION:  \n  \n \n  \nEliza Doolittle Day is celebrated on May 20th\, based on a line from the song “Just You Wait” in the 1956 Broadway musical My Fair Lady. In the song\, the character Eliza Doolittle\, a Cockney flower girl\, imagines the king saying “Next week on the twentieth of May\, I proclaim Liza Doolittle Day”
URL:https://comicquest.org/event/eliza-doolittle-day-3/2028-05-20/
LOCATION:Comic Quest\, 23811 Bridger #111 CA 92630\, Lake Forest\, CA\, 92630\, United States
CATEGORIES:Holiday
ATTACH;FMTTYPE=image/jpeg:https://comicquest.org/wp-content/uploads/2024/05/eliza-doolitle-day.jpg
END:VEVENT
BEGIN:VEVENT
DTSTART;VALUE=DATE:20290520
DTEND;VALUE=DATE:20290521
DTSTAMP:20260423T113124
CREATED:20250808T001039Z
LAST-MODIFIED:20250808T001039Z
UID:10003215-1873929600-1874015999@comicquest.org
SUMMARY:Eliza Doolittle Day
DESCRIPTION:  \n  \n \n  \nEliza Doolittle Day is celebrated on May 20th\, based on a line from the song “Just You Wait” in the 1956 Broadway musical My Fair Lady. In the song\, the character Eliza Doolittle\, a Cockney flower girl\, imagines the king saying “Next week on the twentieth of May\, I proclaim Liza Doolittle Day”
URL:https://comicquest.org/event/eliza-doolittle-day-3/2029-05-20/
LOCATION:Comic Quest\, 23811 Bridger #111 CA 92630\, Lake Forest\, CA\, 92630\, United States
CATEGORIES:Holiday
ATTACH;FMTTYPE=image/jpeg:https://comicquest.org/wp-content/uploads/2024/05/eliza-doolitle-day.jpg
END:VEVENT
BEGIN:VEVENT
DTSTART;VALUE=DATE:20300520
DTEND;VALUE=DATE:20300521
DTSTAMP:20260423T113124
CREATED:20250808T001039Z
LAST-MODIFIED:20250808T001039Z
UID:10003216-1905465600-1905551999@comicquest.org
SUMMARY:Eliza Doolittle Day
DESCRIPTION:  \n  \n \n  \nEliza Doolittle Day is celebrated on May 20th\, based on a line from the song “Just You Wait” in the 1956 Broadway musical My Fair Lady. In the song\, the character Eliza Doolittle\, a Cockney flower girl\, imagines the king saying “Next week on the twentieth of May\, I proclaim Liza Doolittle Day”
URL:https://comicquest.org/event/eliza-doolittle-day-3/2030-05-20/
LOCATION:Comic Quest\, 23811 Bridger #111 CA 92630\, Lake Forest\, CA\, 92630\, United States
CATEGORIES:Holiday
ATTACH;FMTTYPE=image/jpeg:https://comicquest.org/wp-content/uploads/2024/05/eliza-doolitle-day.jpg
END:VEVENT
END:VCALENDAR