BEGIN:VCALENDAR
VERSION:2.0
PRODID:-//Comic Quest - ECPv6.15.20//NONSGML v1.0//EN
CALSCALE:GREGORIAN
METHOD:PUBLISH
X-WR-CALNAME:Comic Quest
X-ORIGINAL-URL:https://comicquest.org
X-WR-CALDESC:Events for Comic Quest
REFRESH-INTERVAL;VALUE=DURATION:PT1H
X-Robots-Tag:noindex
X-PUBLISHED-TTL:PT1H
BEGIN:VTIMEZONE
TZID:Asia/Shanghai
BEGIN:STANDARD
TZOFFSETFROM:+0800
TZOFFSETTO:+0800
TZNAME:CST
DTSTART:20250101T000000
END:STANDARD
END:VTIMEZONE
BEGIN:VEVENT
DTSTART;VALUE=DATE:20260621
DTEND;VALUE=DATE:20260622
DTSTAMP:20260423T112601
CREATED:20250808T061955Z
LAST-MODIFIED:20250808T061955Z
UID:10003256-1782000000-1782086399@comicquest.org
SUMMARY:Fathers Day
DESCRIPTION:  \n 
URL:https://comicquest.org/event/fathers-day-4/2026-06-21/
LOCATION:Comic Quest\, 23811 Bridger #111 CA 92630\, Lake Forest\, CA\, 92630\, United States
CATEGORIES:Event
ATTACH;FMTTYPE=image/png:https://comicquest.org/wp-content/uploads/2023/03/Iam_your_father.png
END:VEVENT
BEGIN:VEVENT
DTSTART;VALUE=DATE:20270620
DTEND;VALUE=DATE:20270621
DTSTAMP:20260423T112601
CREATED:20250808T061955Z
LAST-MODIFIED:20250808T061955Z
UID:10003257-1813449600-1813535999@comicquest.org
SUMMARY:Fathers Day
DESCRIPTION:  \n 
URL:https://comicquest.org/event/fathers-day-4/2027-06-20/
LOCATION:Comic Quest\, 23811 Bridger #111 CA 92630\, Lake Forest\, CA\, 92630\, United States
CATEGORIES:Event
ATTACH;FMTTYPE=image/png:https://comicquest.org/wp-content/uploads/2023/03/Iam_your_father.png
END:VEVENT
BEGIN:VEVENT
DTSTART;VALUE=DATE:20280618
DTEND;VALUE=DATE:20280619
DTSTAMP:20260423T112601
CREATED:20250808T061955Z
LAST-MODIFIED:20250808T061955Z
UID:10003258-1844899200-1844985599@comicquest.org
SUMMARY:Fathers Day
DESCRIPTION:  \n 
URL:https://comicquest.org/event/fathers-day-4/2028-06-18/
LOCATION:Comic Quest\, 23811 Bridger #111 CA 92630\, Lake Forest\, CA\, 92630\, United States
CATEGORIES:Event
ATTACH;FMTTYPE=image/png:https://comicquest.org/wp-content/uploads/2023/03/Iam_your_father.png
END:VEVENT
BEGIN:VEVENT
DTSTART;VALUE=DATE:20290617
DTEND;VALUE=DATE:20290618
DTSTAMP:20260423T112601
CREATED:20250808T061955Z
LAST-MODIFIED:20250808T061955Z
UID:10003259-1876348800-1876435199@comicquest.org
SUMMARY:Fathers Day
DESCRIPTION:  \n 
URL:https://comicquest.org/event/fathers-day-4/2029-06-17/
LOCATION:Comic Quest\, 23811 Bridger #111 CA 92630\, Lake Forest\, CA\, 92630\, United States
CATEGORIES:Event
ATTACH;FMTTYPE=image/png:https://comicquest.org/wp-content/uploads/2023/03/Iam_your_father.png
END:VEVENT
BEGIN:VEVENT
DTSTART;VALUE=DATE:20300616
DTEND;VALUE=DATE:20300617
DTSTAMP:20260423T112601
CREATED:20250808T061955Z
LAST-MODIFIED:20250808T061955Z
UID:10003260-1907798400-1907884799@comicquest.org
SUMMARY:Fathers Day
DESCRIPTION:  \n 
URL:https://comicquest.org/event/fathers-day-4/2030-06-16/
LOCATION:Comic Quest\, 23811 Bridger #111 CA 92630\, Lake Forest\, CA\, 92630\, United States
CATEGORIES:Event
ATTACH;FMTTYPE=image/png:https://comicquest.org/wp-content/uploads/2023/03/Iam_your_father.png
END:VEVENT
END:VCALENDAR