BEGIN:VCALENDAR
VERSION:2.0
PRODID:-//Comic Quest - ECPv6.15.20//NONSGML v1.0//EN
CALSCALE:GREGORIAN
METHOD:PUBLISH
X-WR-CALNAME:Comic Quest
X-ORIGINAL-URL:https://comicquest.org
X-WR-CALDESC:Events for Comic Quest
REFRESH-INTERVAL;VALUE=DURATION:PT1H
X-Robots-Tag:noindex
X-PUBLISHED-TTL:PT1H
BEGIN:VTIMEZONE
TZID:Asia/Shanghai
BEGIN:STANDARD
TZOFFSETFROM:+0800
TZOFFSETTO:+0800
TZNAME:CST
DTSTART:20250101T000000
END:STANDARD
END:VTIMEZONE
BEGIN:VEVENT
DTSTART;VALUE=DATE:20260616
DTEND;VALUE=DATE:20260617
DTSTAMP:20260423T112600
CREATED:20250808T062043Z
LAST-MODIFIED:20250808T062043Z
UID:10003262-1781568000-1781654399@comicquest.org
SUMMARY:Marvel Comics 616 Day
DESCRIPTION:  \n\n6/16\, or “616 Day”\, is a Marvel Comics celebration that references Earth-616\, the primary Marvel Comics universe. It’s a day for fans to enjoy special events\, deals\, and stories related to their favorite characters and storylines. This year\, it falls on Monday\, June 16th.
URL:https://comicquest.org/event/marvel-comics-616-day-2/2026-06-16/
LOCATION:Comic Quest\, 23811 Bridger #111 CA 92630\, Lake Forest\, CA\, 92630\, United States
CATEGORIES:Event
ATTACH;FMTTYPE=image/png:https://comicquest.org/wp-content/uploads/2025/06/marvel-616-v3.png
END:VEVENT
BEGIN:VEVENT
DTSTART;VALUE=DATE:20270616
DTEND;VALUE=DATE:20270617
DTSTAMP:20260423T112600
CREATED:20250808T062043Z
LAST-MODIFIED:20250808T062043Z
UID:10003263-1813104000-1813190399@comicquest.org
SUMMARY:Marvel Comics 616 Day
DESCRIPTION:  \n\n6/16\, or “616 Day”\, is a Marvel Comics celebration that references Earth-616\, the primary Marvel Comics universe. It’s a day for fans to enjoy special events\, deals\, and stories related to their favorite characters and storylines. This year\, it falls on Monday\, June 16th.
URL:https://comicquest.org/event/marvel-comics-616-day-2/2027-06-16/
LOCATION:Comic Quest\, 23811 Bridger #111 CA 92630\, Lake Forest\, CA\, 92630\, United States
CATEGORIES:Event
ATTACH;FMTTYPE=image/png:https://comicquest.org/wp-content/uploads/2025/06/marvel-616-v3.png
END:VEVENT
BEGIN:VEVENT
DTSTART;VALUE=DATE:20280616
DTEND;VALUE=DATE:20280617
DTSTAMP:20260423T112600
CREATED:20250808T062043Z
LAST-MODIFIED:20250808T062043Z
UID:10003264-1844726400-1844812799@comicquest.org
SUMMARY:Marvel Comics 616 Day
DESCRIPTION:  \n\n6/16\, or “616 Day”\, is a Marvel Comics celebration that references Earth-616\, the primary Marvel Comics universe. It’s a day for fans to enjoy special events\, deals\, and stories related to their favorite characters and storylines. This year\, it falls on Monday\, June 16th.
URL:https://comicquest.org/event/marvel-comics-616-day-2/2028-06-16/
LOCATION:Comic Quest\, 23811 Bridger #111 CA 92630\, Lake Forest\, CA\, 92630\, United States
CATEGORIES:Event
ATTACH;FMTTYPE=image/png:https://comicquest.org/wp-content/uploads/2025/06/marvel-616-v3.png
END:VEVENT
BEGIN:VEVENT
DTSTART;VALUE=DATE:20290616
DTEND;VALUE=DATE:20290617
DTSTAMP:20260423T112600
CREATED:20250808T062043Z
LAST-MODIFIED:20250808T062043Z
UID:10003265-1876262400-1876348799@comicquest.org
SUMMARY:Marvel Comics 616 Day
DESCRIPTION:  \n\n6/16\, or “616 Day”\, is a Marvel Comics celebration that references Earth-616\, the primary Marvel Comics universe. It’s a day for fans to enjoy special events\, deals\, and stories related to their favorite characters and storylines. This year\, it falls on Monday\, June 16th.
URL:https://comicquest.org/event/marvel-comics-616-day-2/2029-06-16/
LOCATION:Comic Quest\, 23811 Bridger #111 CA 92630\, Lake Forest\, CA\, 92630\, United States
CATEGORIES:Event
ATTACH;FMTTYPE=image/png:https://comicquest.org/wp-content/uploads/2025/06/marvel-616-v3.png
END:VEVENT
BEGIN:VEVENT
DTSTART;VALUE=DATE:20300616
DTEND;VALUE=DATE:20300617
DTSTAMP:20260423T112600
CREATED:20250808T062043Z
LAST-MODIFIED:20250808T062043Z
UID:10003266-1907798400-1907884799@comicquest.org
SUMMARY:Marvel Comics 616 Day
DESCRIPTION:  \n\n6/16\, or “616 Day”\, is a Marvel Comics celebration that references Earth-616\, the primary Marvel Comics universe. It’s a day for fans to enjoy special events\, deals\, and stories related to their favorite characters and storylines. This year\, it falls on Monday\, June 16th.
URL:https://comicquest.org/event/marvel-comics-616-day-2/2030-06-16/
LOCATION:Comic Quest\, 23811 Bridger #111 CA 92630\, Lake Forest\, CA\, 92630\, United States
CATEGORIES:Event
ATTACH;FMTTYPE=image/png:https://comicquest.org/wp-content/uploads/2025/06/marvel-616-v3.png
END:VEVENT
END:VCALENDAR