BEGIN:VCALENDAR
VERSION:2.0
PRODID:-//Comic Quest - ECPv6.15.20//NONSGML v1.0//EN
CALSCALE:GREGORIAN
METHOD:PUBLISH
X-WR-CALNAME:Comic Quest
X-ORIGINAL-URL:https://comicquest.org
X-WR-CALDESC:Events for Comic Quest
REFRESH-INTERVAL;VALUE=DURATION:PT1H
X-Robots-Tag:noindex
X-PUBLISHED-TTL:PT1H
BEGIN:VTIMEZONE
TZID:Asia/Shanghai
BEGIN:STANDARD
TZOFFSETFROM:+0800
TZOFFSETTO:+0800
TZNAME:CST
DTSTART:20250101T000000
END:STANDARD
END:VTIMEZONE
BEGIN:VEVENT
DTSTART;VALUE=DATE:20260704
DTEND;VALUE=DATE:20260705
DTSTAMP:20260423T113419
CREATED:20250808T142324Z
LAST-MODIFIED:20260328T212813Z
UID:10003281-1783123200-1783209599@comicquest.org
SUMMARY:FREE 4th of July Dice
DESCRIPTION:  \n  \nFREE dice.   While supplies last. \nNo purchase necessary. \nKeeping the holiday tradition going. \n\nSaturday 4th of July. \n\n\n10am to 7pm *Special Hours* \n\n\n \n\n\nOur Holiday gift to you. \n\n\nRoll for Freedom!\n\n\nRoll for Liberty!\n\n\nRoll for Hot Dogs & Apple Pie.\n\n\nRoll for Truth & Justice 
URL:https://comicquest.org/event/free-4th-of-july-dice-2/2026-07-04/
LOCATION:Comic Quest\, 23811 Bridger #111 CA 92630\, Lake Forest\, CA\, 92630\, United States
CATEGORIES:Event
ATTACH;FMTTYPE=image/png:https://comicquest.org/wp-content/uploads/2024/08/4th-banner-2025.png
END:VEVENT
BEGIN:VEVENT
DTSTART;VALUE=DATE:20270704
DTEND;VALUE=DATE:20270705
DTSTAMP:20260423T113419
CREATED:20250808T142324Z
LAST-MODIFIED:20260328T212813Z
UID:10003282-1814659200-1814745599@comicquest.org
SUMMARY:FREE 4th of July Dice
DESCRIPTION:  \n  \nFREE dice.   While supplies last. \nNo purchase necessary. \nKeeping the holiday tradition going. \n\nSaturday 4th of July. \n\n\n10am to 7pm *Special Hours* \n\n\n \n\n\nOur Holiday gift to you. \n\n\nRoll for Freedom!\n\n\nRoll for Liberty!\n\n\nRoll for Hot Dogs & Apple Pie.\n\n\nRoll for Truth & Justice 
URL:https://comicquest.org/event/free-4th-of-july-dice-2/2027-07-04/
LOCATION:Comic Quest\, 23811 Bridger #111 CA 92630\, Lake Forest\, CA\, 92630\, United States
CATEGORIES:Event
ATTACH;FMTTYPE=image/png:https://comicquest.org/wp-content/uploads/2024/08/4th-banner-2025.png
END:VEVENT
BEGIN:VEVENT
DTSTART;VALUE=DATE:20280704
DTEND;VALUE=DATE:20280705
DTSTAMP:20260423T113419
CREATED:20250808T142324Z
LAST-MODIFIED:20260328T212813Z
UID:10003283-1846281600-1846367999@comicquest.org
SUMMARY:FREE 4th of July Dice
DESCRIPTION:  \n  \nFREE dice.   While supplies last. \nNo purchase necessary. \nKeeping the holiday tradition going. \n\nSaturday 4th of July. \n\n\n10am to 7pm *Special Hours* \n\n\n \n\n\nOur Holiday gift to you. \n\n\nRoll for Freedom!\n\n\nRoll for Liberty!\n\n\nRoll for Hot Dogs & Apple Pie.\n\n\nRoll for Truth & Justice 
URL:https://comicquest.org/event/free-4th-of-july-dice-2/2028-07-04/
LOCATION:Comic Quest\, 23811 Bridger #111 CA 92630\, Lake Forest\, CA\, 92630\, United States
CATEGORIES:Event
ATTACH;FMTTYPE=image/png:https://comicquest.org/wp-content/uploads/2024/08/4th-banner-2025.png
END:VEVENT
BEGIN:VEVENT
DTSTART;VALUE=DATE:20290704
DTEND;VALUE=DATE:20290705
DTSTAMP:20260423T113419
CREATED:20250808T142324Z
LAST-MODIFIED:20260328T212813Z
UID:10003284-1877817600-1877903999@comicquest.org
SUMMARY:FREE 4th of July Dice
DESCRIPTION:  \n  \nFREE dice.   While supplies last. \nNo purchase necessary. \nKeeping the holiday tradition going. \n\nSaturday 4th of July. \n\n\n10am to 7pm *Special Hours* \n\n\n \n\n\nOur Holiday gift to you. \n\n\nRoll for Freedom!\n\n\nRoll for Liberty!\n\n\nRoll for Hot Dogs & Apple Pie.\n\n\nRoll for Truth & Justice 
URL:https://comicquest.org/event/free-4th-of-july-dice-2/2029-07-04/
LOCATION:Comic Quest\, 23811 Bridger #111 CA 92630\, Lake Forest\, CA\, 92630\, United States
CATEGORIES:Event
ATTACH;FMTTYPE=image/png:https://comicquest.org/wp-content/uploads/2024/08/4th-banner-2025.png
END:VEVENT
BEGIN:VEVENT
DTSTART;VALUE=DATE:20300704
DTEND;VALUE=DATE:20300705
DTSTAMP:20260423T113419
CREATED:20250808T142324Z
LAST-MODIFIED:20260328T212813Z
UID:10003285-1909353600-1909439999@comicquest.org
SUMMARY:FREE 4th of July Dice
DESCRIPTION:  \n  \nFREE dice.   While supplies last. \nNo purchase necessary. \nKeeping the holiday tradition going. \n\nSaturday 4th of July. \n\n\n10am to 7pm *Special Hours* \n\n\n \n\n\nOur Holiday gift to you. \n\n\nRoll for Freedom!\n\n\nRoll for Liberty!\n\n\nRoll for Hot Dogs & Apple Pie.\n\n\nRoll for Truth & Justice 
URL:https://comicquest.org/event/free-4th-of-july-dice-2/2030-07-04/
LOCATION:Comic Quest\, 23811 Bridger #111 CA 92630\, Lake Forest\, CA\, 92630\, United States
CATEGORIES:Event
ATTACH;FMTTYPE=image/png:https://comicquest.org/wp-content/uploads/2024/08/4th-banner-2025.png
END:VEVENT
END:VCALENDAR