BEGIN:VCALENDAR
VERSION:2.0
PRODID:-//Comic Quest - ECPv6.15.20//NONSGML v1.0//EN
CALSCALE:GREGORIAN
METHOD:PUBLISH
X-WR-CALNAME:Comic Quest
X-ORIGINAL-URL:https://comicquest.org
X-WR-CALDESC:Events for Comic Quest
REFRESH-INTERVAL;VALUE=DURATION:PT1H
X-Robots-Tag:noindex
X-PUBLISHED-TTL:PT1H
BEGIN:VTIMEZONE
TZID:Asia/Shanghai
BEGIN:STANDARD
TZOFFSETFROM:+0800
TZOFFSETTO:+0800
TZNAME:CST
DTSTART:20250101T000000
END:STANDARD
END:VTIMEZONE
BEGIN:VEVENT
DTSTART;VALUE=DATE:20260720
DTEND;VALUE=DATE:20260721
DTSTAMP:20260423T110621
CREATED:20250808T142644Z
LAST-MODIFIED:20250808T142644Z
UID:10003293-1784505600-1784591999@comicquest.org
SUMMARY:Moon Day
DESCRIPTION:  \n \nOn July 20\, 1969\, millions of people gathered around their televisions to watch two U.S. astronauts do something no one had ever done before. Wearing bulky space suits and backpacks of oxygen to breathe\, Neil Armstrong and Edwin “Buzz” Aldrin became the first human beings to walk on the moon.
URL:https://comicquest.org/event/moon-day-3/2026-07-20/
LOCATION:Comic Quest\, 23811 Bridger #111 CA 92630\, Lake Forest\, CA\, 92630\, United States
CATEGORIES:Event
ATTACH;FMTTYPE=image/jpeg:https://comicquest.org/wp-content/uploads/2024/07/moon-day.jpg
END:VEVENT
BEGIN:VEVENT
DTSTART;VALUE=DATE:20270720
DTEND;VALUE=DATE:20270721
DTSTAMP:20260423T110621
CREATED:20250808T142644Z
LAST-MODIFIED:20250808T142644Z
UID:10003294-1816041600-1816127999@comicquest.org
SUMMARY:Moon Day
DESCRIPTION:  \n \nOn July 20\, 1969\, millions of people gathered around their televisions to watch two U.S. astronauts do something no one had ever done before. Wearing bulky space suits and backpacks of oxygen to breathe\, Neil Armstrong and Edwin “Buzz” Aldrin became the first human beings to walk on the moon.
URL:https://comicquest.org/event/moon-day-3/2027-07-20/
LOCATION:Comic Quest\, 23811 Bridger #111 CA 92630\, Lake Forest\, CA\, 92630\, United States
CATEGORIES:Event
ATTACH;FMTTYPE=image/jpeg:https://comicquest.org/wp-content/uploads/2024/07/moon-day.jpg
END:VEVENT
BEGIN:VEVENT
DTSTART;VALUE=DATE:20280720
DTEND;VALUE=DATE:20280721
DTSTAMP:20260423T110621
CREATED:20250808T142644Z
LAST-MODIFIED:20250808T142644Z
UID:10003295-1847664000-1847750399@comicquest.org
SUMMARY:Moon Day
DESCRIPTION:  \n \nOn July 20\, 1969\, millions of people gathered around their televisions to watch two U.S. astronauts do something no one had ever done before. Wearing bulky space suits and backpacks of oxygen to breathe\, Neil Armstrong and Edwin “Buzz” Aldrin became the first human beings to walk on the moon.
URL:https://comicquest.org/event/moon-day-3/2028-07-20/
LOCATION:Comic Quest\, 23811 Bridger #111 CA 92630\, Lake Forest\, CA\, 92630\, United States
CATEGORIES:Event
ATTACH;FMTTYPE=image/jpeg:https://comicquest.org/wp-content/uploads/2024/07/moon-day.jpg
END:VEVENT
BEGIN:VEVENT
DTSTART;VALUE=DATE:20290720
DTEND;VALUE=DATE:20290721
DTSTAMP:20260423T110621
CREATED:20250808T142644Z
LAST-MODIFIED:20250808T142644Z
UID:10003296-1879200000-1879286399@comicquest.org
SUMMARY:Moon Day
DESCRIPTION:  \n \nOn July 20\, 1969\, millions of people gathered around their televisions to watch two U.S. astronauts do something no one had ever done before. Wearing bulky space suits and backpacks of oxygen to breathe\, Neil Armstrong and Edwin “Buzz” Aldrin became the first human beings to walk on the moon.
URL:https://comicquest.org/event/moon-day-3/2029-07-20/
LOCATION:Comic Quest\, 23811 Bridger #111 CA 92630\, Lake Forest\, CA\, 92630\, United States
CATEGORIES:Event
ATTACH;FMTTYPE=image/jpeg:https://comicquest.org/wp-content/uploads/2024/07/moon-day.jpg
END:VEVENT
BEGIN:VEVENT
DTSTART;VALUE=DATE:20300720
DTEND;VALUE=DATE:20300721
DTSTAMP:20260423T110621
CREATED:20250808T142644Z
LAST-MODIFIED:20250808T142644Z
UID:10003297-1910736000-1910822399@comicquest.org
SUMMARY:Moon Day
DESCRIPTION:  \n \nOn July 20\, 1969\, millions of people gathered around their televisions to watch two U.S. astronauts do something no one had ever done before. Wearing bulky space suits and backpacks of oxygen to breathe\, Neil Armstrong and Edwin “Buzz” Aldrin became the first human beings to walk on the moon.
URL:https://comicquest.org/event/moon-day-3/2030-07-20/
LOCATION:Comic Quest\, 23811 Bridger #111 CA 92630\, Lake Forest\, CA\, 92630\, United States
CATEGORIES:Event
ATTACH;FMTTYPE=image/jpeg:https://comicquest.org/wp-content/uploads/2024/07/moon-day.jpg
END:VEVENT
END:VCALENDAR